BEGIN:VCALENDAR
VERSION:2.0
PRODID:-//Twin Cities Obedience Training Club - ECPv6.15.13//NONSGML v1.0//EN
CALSCALE:GREGORIAN
METHOD:PUBLISH
X-ORIGINAL-URL:https://www.tcotc.com
X-WR-CALDESC:Events for Twin Cities Obedience Training Club
REFRESH-INTERVAL;VALUE=DURATION:PT1H
X-Robots-Tag:noindex
X-PUBLISHED-TTL:PT1H
BEGIN:VTIMEZONE
TZID:America/Chicago
BEGIN:DAYLIGHT
TZOFFSETFROM:-0600
TZOFFSETTO:-0500
TZNAME:CDT
DTSTART:20230312T080000
END:DAYLIGHT
BEGIN:STANDARD
TZOFFSETFROM:-0500
TZOFFSETTO:-0600
TZNAME:CST
DTSTART:20231105T070000
END:STANDARD
BEGIN:DAYLIGHT
TZOFFSETFROM:-0600
TZOFFSETTO:-0500
TZNAME:CDT
DTSTART:20240310T080000
END:DAYLIGHT
BEGIN:STANDARD
TZOFFSETFROM:-0500
TZOFFSETTO:-0600
TZNAME:CST
DTSTART:20241103T070000
END:STANDARD
BEGIN:DAYLIGHT
TZOFFSETFROM:-0600
TZOFFSETTO:-0500
TZNAME:CDT
DTSTART:20250309T080000
END:DAYLIGHT
BEGIN:STANDARD
TZOFFSETFROM:-0500
TZOFFSETTO:-0600
TZNAME:CST
DTSTART:20251102T070000
END:STANDARD
END:VTIMEZONE
BEGIN:VEVENT
DTSTART;TZID=America/Chicago:20240730T090000
DTEND;TZID=America/Chicago:20240730T120000
DTSTAMP:20260421T175944
CREATED:20241119T163521Z
LAST-MODIFIED:20260106T141756Z
UID:10011168-1722330000-1722340800@www.tcotc.com
SUMMARY:Obedience Classes
DESCRIPTION:Meeting Room and Star Room
URL:https://www.tcotc.com/event/obedience-classes-2/2024-07-30/
LOCATION:Ring Room and Star Room
CATEGORIES:Obedience
END:VEVENT
BEGIN:VEVENT
DTSTART;TZID=America/Chicago:20240729T173000
DTEND;TZID=America/Chicago:20240729T213000
DTSTAMP:20260421T175944
CREATED:20230809T204342Z
LAST-MODIFIED:20241119T180345Z
UID:10005292-1722274200-1722288600@www.tcotc.com
SUMMARY:Obedience Classes
DESCRIPTION:5:45 p.m.\, 7:00 p.m.\, 8:15 p.m.\nRing Room and Star Room
URL:https://www.tcotc.com/event/obedience-classes-35/2024-07-29/
LOCATION:Ring Room and Star Room
CATEGORIES:Obedience
END:VEVENT
BEGIN:VEVENT
DTSTART;TZID=America/Chicago:20240725T173000
DTEND;TZID=America/Chicago:20240725T213000
DTSTAMP:20260421T175944
CREATED:20241119T180230Z
LAST-MODIFIED:20260123T205523Z
UID:10012318-1721928600-1721943000@www.tcotc.com
SUMMARY:Obedience Classes
DESCRIPTION:5:30 pm – 9:30 pm – Ring Room and Star Room
URL:https://www.tcotc.com/event/obedience-classes-4/2024-07-25/
LOCATION:Ring Room and Star Room
CATEGORIES:Obedience
END:VEVENT
BEGIN:VEVENT
DTSTART;TZID=America/Chicago:20240725T173000
DTEND;TZID=America/Chicago:20240725T213000
DTSTAMP:20260421T175944
CREATED:20230809T203810Z
LAST-MODIFIED:20231229T160132Z
UID:10005957-1721928600-1721943000@www.tcotc.com
SUMMARY:Obedience Classes
DESCRIPTION:5:45 p.m.\, 7:00 p.m. and 8:15 p.m.\nRing Room and Star Room
URL:https://www.tcotc.com/event/obedience-classes-33/2024-07-25/
LOCATION:Ring Room and Star Room
CATEGORIES:Obedience
END:VEVENT
BEGIN:VEVENT
DTSTART;TZID=America/Chicago:20240724T173000
DTEND;TZID=America/Chicago:20240724T213000
DTSTAMP:20260421T175944
CREATED:20241119T164634Z
LAST-MODIFIED:20260205T192024Z
UID:10014776-1721842200-1721856600@www.tcotc.com
SUMMARY:Obedience Classes
DESCRIPTION:Ring Room and Star Room
URL:https://www.tcotc.com/event/obedience-classes-3/2024-07-24/
LOCATION:Ring Room and Star Room
CATEGORIES:Obedience
END:VEVENT
BEGIN:VEVENT
DTSTART;TZID=America/Chicago:20240724T173000
DTEND;TZID=America/Chicago:20240724T213000
DTSTAMP:20260421T175944
CREATED:20230809T203447Z
LAST-MODIFIED:20240813T200719Z
UID:10005773-1721842200-1721856600@www.tcotc.com
SUMMARY:Obedience Classes
DESCRIPTION:5:45 p.m.\, 7:00 p.m.\, and 8:15 p.m.\nRing Room and Star Room
URL:https://www.tcotc.com/event/obedience-classes-31/2024-07-24/
LOCATION:Ring Room and Star Room
CATEGORIES:Obedience
END:VEVENT
BEGIN:VEVENT
DTSTART;TZID=America/Chicago:20240723T090000
DTEND;TZID=America/Chicago:20240723T130000
DTSTAMP:20260421T175944
CREATED:20230809T202952Z
LAST-MODIFIED:20240813T203320Z
UID:10005384-1721725200-1721739600@www.tcotc.com
SUMMARY:Obedience Classes
DESCRIPTION:9:30 a.m.\, 10:45 a.m.\, 12:00 p.m.  Classes are offered in six-week sessions.
URL:https://www.tcotc.com/event/obedience-classes-29/2024-07-23/
LOCATION:Ring Room and Star Room
CATEGORIES:Obedience
END:VEVENT
BEGIN:VEVENT
DTSTART;TZID=America/Chicago:20240723T090000
DTEND;TZID=America/Chicago:20240723T120000
DTSTAMP:20260421T175944
CREATED:20241119T163521Z
LAST-MODIFIED:20260106T141756Z
UID:10011167-1721725200-1721736000@www.tcotc.com
SUMMARY:Obedience Classes
DESCRIPTION:Meeting Room and Star Room
URL:https://www.tcotc.com/event/obedience-classes-2/2024-07-23/
LOCATION:Ring Room and Star Room
CATEGORIES:Obedience
END:VEVENT
BEGIN:VEVENT
DTSTART;TZID=America/Chicago:20240722T173000
DTEND;TZID=America/Chicago:20240722T213000
DTSTAMP:20260421T175944
CREATED:20230809T204342Z
LAST-MODIFIED:20241119T180345Z
UID:10005291-1721669400-1721683800@www.tcotc.com
SUMMARY:Obedience Classes
DESCRIPTION:5:45 p.m.\, 7:00 p.m.\, 8:15 p.m.\nRing Room and Star Room
URL:https://www.tcotc.com/event/obedience-classes-35/2024-07-22/
LOCATION:Ring Room and Star Room
CATEGORIES:Obedience
END:VEVENT
BEGIN:VEVENT
DTSTART;TZID=America/Chicago:20240718T173000
DTEND;TZID=America/Chicago:20240718T213000
DTSTAMP:20260421T175944
CREATED:20241119T180230Z
LAST-MODIFIED:20260123T205523Z
UID:10012317-1721323800-1721338200@www.tcotc.com
SUMMARY:Obedience Classes
DESCRIPTION:5:30 pm – 9:30 pm – Ring Room and Star Room
URL:https://www.tcotc.com/event/obedience-classes-4/2024-07-18/
LOCATION:Ring Room and Star Room
CATEGORIES:Obedience
END:VEVENT
BEGIN:VEVENT
DTSTART;TZID=America/Chicago:20240718T173000
DTEND;TZID=America/Chicago:20240718T213000
DTSTAMP:20260421T175944
CREATED:20230809T203810Z
LAST-MODIFIED:20231229T160132Z
UID:10005956-1721323800-1721338200@www.tcotc.com
SUMMARY:Obedience Classes
DESCRIPTION:5:45 p.m.\, 7:00 p.m. and 8:15 p.m.\nRing Room and Star Room
URL:https://www.tcotc.com/event/obedience-classes-33/2024-07-18/
LOCATION:Ring Room and Star Room
CATEGORIES:Obedience
END:VEVENT
BEGIN:VEVENT
DTSTART;TZID=America/Chicago:20240717T173000
DTEND;TZID=America/Chicago:20240717T213000
DTSTAMP:20260421T175944
CREATED:20241119T164634Z
LAST-MODIFIED:20260205T192024Z
UID:10014775-1721237400-1721251800@www.tcotc.com
SUMMARY:Obedience Classes
DESCRIPTION:Ring Room and Star Room
URL:https://www.tcotc.com/event/obedience-classes-3/2024-07-17/
LOCATION:Ring Room and Star Room
CATEGORIES:Obedience
END:VEVENT
BEGIN:VEVENT
DTSTART;TZID=America/Chicago:20240717T173000
DTEND;TZID=America/Chicago:20240717T213000
DTSTAMP:20260421T175944
CREATED:20230809T203447Z
LAST-MODIFIED:20240813T200719Z
UID:10005772-1721237400-1721251800@www.tcotc.com
SUMMARY:Obedience Classes
DESCRIPTION:5:45 p.m.\, 7:00 p.m.\, and 8:15 p.m.\nRing Room and Star Room
URL:https://www.tcotc.com/event/obedience-classes-31/2024-07-17/
LOCATION:Ring Room and Star Room
CATEGORIES:Obedience
END:VEVENT
BEGIN:VEVENT
DTSTART;TZID=America/Chicago:20240716T090000
DTEND;TZID=America/Chicago:20240716T130000
DTSTAMP:20260421T175944
CREATED:20230809T202952Z
LAST-MODIFIED:20240813T203320Z
UID:10005383-1721120400-1721134800@www.tcotc.com
SUMMARY:Obedience Classes
DESCRIPTION:9:30 a.m.\, 10:45 a.m.\, 12:00 p.m.  Classes are offered in six-week sessions.
URL:https://www.tcotc.com/event/obedience-classes-29/2024-07-16/
LOCATION:Ring Room and Star Room
CATEGORIES:Obedience
END:VEVENT
BEGIN:VEVENT
DTSTART;TZID=America/Chicago:20240716T090000
DTEND;TZID=America/Chicago:20240716T120000
DTSTAMP:20260421T175944
CREATED:20241119T163521Z
LAST-MODIFIED:20260106T141756Z
UID:10011166-1721120400-1721131200@www.tcotc.com
SUMMARY:Obedience Classes
DESCRIPTION:Meeting Room and Star Room
URL:https://www.tcotc.com/event/obedience-classes-2/2024-07-16/
LOCATION:Ring Room and Star Room
CATEGORIES:Obedience
END:VEVENT
BEGIN:VEVENT
DTSTART;TZID=America/Chicago:20240715T173000
DTEND;TZID=America/Chicago:20240715T213000
DTSTAMP:20260421T175944
CREATED:20230809T204342Z
LAST-MODIFIED:20241119T180345Z
UID:10005290-1721064600-1721079000@www.tcotc.com
SUMMARY:Obedience Classes
DESCRIPTION:5:45 p.m.\, 7:00 p.m.\, 8:15 p.m.\nRing Room and Star Room
URL:https://www.tcotc.com/event/obedience-classes-35/2024-07-15/
LOCATION:Ring Room and Star Room
CATEGORIES:Obedience
END:VEVENT
BEGIN:VEVENT
DTSTART;TZID=America/Chicago:20240711T173000
DTEND;TZID=America/Chicago:20240711T213000
DTSTAMP:20260421T175944
CREATED:20241119T180230Z
LAST-MODIFIED:20260123T205523Z
UID:10012316-1720719000-1720733400@www.tcotc.com
SUMMARY:Obedience Classes
DESCRIPTION:5:30 pm – 9:30 pm – Ring Room and Star Room
URL:https://www.tcotc.com/event/obedience-classes-4/2024-07-11/
LOCATION:Ring Room and Star Room
CATEGORIES:Obedience
END:VEVENT
BEGIN:VEVENT
DTSTART;TZID=America/Chicago:20240711T173000
DTEND;TZID=America/Chicago:20240711T213000
DTSTAMP:20260421T175944
CREATED:20230809T203810Z
LAST-MODIFIED:20231229T160132Z
UID:10005955-1720719000-1720733400@www.tcotc.com
SUMMARY:Obedience Classes
DESCRIPTION:5:45 p.m.\, 7:00 p.m. and 8:15 p.m.\nRing Room and Star Room
URL:https://www.tcotc.com/event/obedience-classes-33/2024-07-11/
LOCATION:Ring Room and Star Room
CATEGORIES:Obedience
END:VEVENT
BEGIN:VEVENT
DTSTART;TZID=America/Chicago:20240710T173000
DTEND;TZID=America/Chicago:20240710T213000
DTSTAMP:20260421T175944
CREATED:20241119T164634Z
LAST-MODIFIED:20260205T192024Z
UID:10014774-1720632600-1720647000@www.tcotc.com
SUMMARY:Obedience Classes
DESCRIPTION:Ring Room and Star Room
URL:https://www.tcotc.com/event/obedience-classes-3/2024-07-10/
LOCATION:Ring Room and Star Room
CATEGORIES:Obedience
END:VEVENT
BEGIN:VEVENT
DTSTART;TZID=America/Chicago:20240710T173000
DTEND;TZID=America/Chicago:20240710T213000
DTSTAMP:20260421T175944
CREATED:20230809T203447Z
LAST-MODIFIED:20240813T200719Z
UID:10005771-1720632600-1720647000@www.tcotc.com
SUMMARY:Obedience Classes
DESCRIPTION:5:45 p.m.\, 7:00 p.m.\, and 8:15 p.m.\nRing Room and Star Room
URL:https://www.tcotc.com/event/obedience-classes-31/2024-07-10/
LOCATION:Ring Room and Star Room
CATEGORIES:Obedience
END:VEVENT
BEGIN:VEVENT
DTSTART;TZID=America/Chicago:20240709T090000
DTEND;TZID=America/Chicago:20240709T130000
DTSTAMP:20260421T175944
CREATED:20230809T202952Z
LAST-MODIFIED:20240813T203320Z
UID:10005382-1720515600-1720530000@www.tcotc.com
SUMMARY:Obedience Classes
DESCRIPTION:9:30 a.m.\, 10:45 a.m.\, 12:00 p.m.  Classes are offered in six-week sessions.
URL:https://www.tcotc.com/event/obedience-classes-29/2024-07-09/
LOCATION:Ring Room and Star Room
CATEGORIES:Obedience
END:VEVENT
BEGIN:VEVENT
DTSTART;TZID=America/Chicago:20240709T090000
DTEND;TZID=America/Chicago:20240709T120000
DTSTAMP:20260421T175944
CREATED:20241119T163521Z
LAST-MODIFIED:20260106T141756Z
UID:10011165-1720515600-1720526400@www.tcotc.com
SUMMARY:Obedience Classes
DESCRIPTION:Meeting Room and Star Room
URL:https://www.tcotc.com/event/obedience-classes-2/2024-07-09/
LOCATION:Ring Room and Star Room
CATEGORIES:Obedience
END:VEVENT
BEGIN:VEVENT
DTSTART;TZID=America/Chicago:20240704T173000
DTEND;TZID=America/Chicago:20240704T213000
DTSTAMP:20260421T175944
CREATED:20241119T180230Z
LAST-MODIFIED:20260123T205523Z
UID:10012315-1720114200-1720128600@www.tcotc.com
SUMMARY:Obedience Classes
DESCRIPTION:5:30 pm – 9:30 pm – Ring Room and Star Room
URL:https://www.tcotc.com/event/obedience-classes-4/2024-07-04/
LOCATION:Ring Room and Star Room
CATEGORIES:Obedience
END:VEVENT
BEGIN:VEVENT
DTSTART;TZID=America/Chicago:20240703T173000
DTEND;TZID=America/Chicago:20240703T213000
DTSTAMP:20260421T175944
CREATED:20241119T164634Z
LAST-MODIFIED:20260205T192024Z
UID:10014773-1720027800-1720042200@www.tcotc.com
SUMMARY:Obedience Classes
DESCRIPTION:Ring Room and Star Room
URL:https://www.tcotc.com/event/obedience-classes-3/2024-07-03/
LOCATION:Ring Room and Star Room
CATEGORIES:Obedience
END:VEVENT
BEGIN:VEVENT
DTSTART;TZID=America/Chicago:20240702T090000
DTEND;TZID=America/Chicago:20240702T120000
DTSTAMP:20260421T175944
CREATED:20241119T163521Z
LAST-MODIFIED:20260106T141756Z
UID:10011164-1719910800-1719921600@www.tcotc.com
SUMMARY:Obedience Classes
DESCRIPTION:Meeting Room and Star Room
URL:https://www.tcotc.com/event/obedience-classes-2/2024-07-02/
LOCATION:Ring Room and Star Room
CATEGORIES:Obedience
END:VEVENT
BEGIN:VEVENT
DTSTART;TZID=America/Chicago:20240701T173000
DTEND;TZID=America/Chicago:20240701T213000
DTSTAMP:20260421T175944
CREATED:20230809T204342Z
LAST-MODIFIED:20241119T180345Z
UID:10005289-1719855000-1719869400@www.tcotc.com
SUMMARY:Obedience Classes
DESCRIPTION:5:45 p.m.\, 7:00 p.m.\, 8:15 p.m.\nRing Room and Star Room
URL:https://www.tcotc.com/event/obedience-classes-35/2024-07-01/
LOCATION:Ring Room and Star Room
CATEGORIES:Obedience
END:VEVENT
BEGIN:VEVENT
DTSTART;TZID=America/Chicago:20240627T173000
DTEND;TZID=America/Chicago:20240627T213000
DTSTAMP:20260421T175944
CREATED:20241119T180230Z
LAST-MODIFIED:20260123T205523Z
UID:10012314-1719509400-1719523800@www.tcotc.com
SUMMARY:Obedience Classes
DESCRIPTION:5:30 pm – 9:30 pm – Ring Room and Star Room
URL:https://www.tcotc.com/event/obedience-classes-4/2024-06-27/
LOCATION:Ring Room and Star Room
CATEGORIES:Obedience
END:VEVENT
BEGIN:VEVENT
DTSTART;TZID=America/Chicago:20240626T173000
DTEND;TZID=America/Chicago:20240626T213000
DTSTAMP:20260421T175944
CREATED:20241119T164634Z
LAST-MODIFIED:20260205T192024Z
UID:10014772-1719423000-1719437400@www.tcotc.com
SUMMARY:Obedience Classes
DESCRIPTION:Ring Room and Star Room
URL:https://www.tcotc.com/event/obedience-classes-3/2024-06-26/
LOCATION:Ring Room and Star Room
CATEGORIES:Obedience
END:VEVENT
BEGIN:VEVENT
DTSTART;TZID=America/Chicago:20240626T173000
DTEND;TZID=America/Chicago:20240626T213000
DTSTAMP:20260421T175944
CREATED:20230809T203447Z
LAST-MODIFIED:20240813T200719Z
UID:10005769-1719423000-1719437400@www.tcotc.com
SUMMARY:Obedience Classes
DESCRIPTION:5:45 p.m.\, 7:00 p.m.\, and 8:15 p.m.\nRing Room and Star Room
URL:https://www.tcotc.com/event/obedience-classes-31/2024-06-26/
LOCATION:Ring Room and Star Room
CATEGORIES:Obedience
END:VEVENT
BEGIN:VEVENT
DTSTART;TZID=America/Chicago:20240625T090000
DTEND;TZID=America/Chicago:20240625T130000
DTSTAMP:20260421T175944
CREATED:20230809T202952Z
LAST-MODIFIED:20240813T203320Z
UID:10005381-1719306000-1719320400@www.tcotc.com
SUMMARY:Obedience Classes
DESCRIPTION:9:30 a.m.\, 10:45 a.m.\, 12:00 p.m.  Classes are offered in six-week sessions.
URL:https://www.tcotc.com/event/obedience-classes-29/2024-06-25/
LOCATION:Ring Room and Star Room
CATEGORIES:Obedience
END:VEVENT
END:VCALENDAR