BEGIN:VCALENDAR
VERSION:2.0
PRODID:-//Twin Cities Obedience Training Club - ECPv6.15.13//NONSGML v1.0//EN
CALSCALE:GREGORIAN
METHOD:PUBLISH
X-WR-CALNAME:Twin Cities Obedience Training Club
X-ORIGINAL-URL:https://www.tcotc.com
X-WR-CALDESC:Events for Twin Cities Obedience Training Club
REFRESH-INTERVAL;VALUE=DURATION:PT1H
X-Robots-Tag:noindex
X-PUBLISHED-TTL:PT1H
BEGIN:VTIMEZONE
TZID:America/Chicago
BEGIN:DAYLIGHT
TZOFFSETFROM:-0600
TZOFFSETTO:-0500
TZNAME:CDT
DTSTART:20230312T080000
END:DAYLIGHT
BEGIN:STANDARD
TZOFFSETFROM:-0500
TZOFFSETTO:-0600
TZNAME:CST
DTSTART:20231105T070000
END:STANDARD
BEGIN:DAYLIGHT
TZOFFSETFROM:-0600
TZOFFSETTO:-0500
TZNAME:CDT
DTSTART:20240310T080000
END:DAYLIGHT
BEGIN:STANDARD
TZOFFSETFROM:-0500
TZOFFSETTO:-0600
TZNAME:CST
DTSTART:20241103T070000
END:STANDARD
BEGIN:DAYLIGHT
TZOFFSETFROM:-0600
TZOFFSETTO:-0500
TZNAME:CDT
DTSTART:20250309T080000
END:DAYLIGHT
BEGIN:STANDARD
TZOFFSETFROM:-0500
TZOFFSETTO:-0600
TZNAME:CST
DTSTART:20251102T070000
END:STANDARD
END:VTIMEZONE
BEGIN:VEVENT
DTSTART;TZID=America/Chicago:20240923T173000
DTEND;TZID=America/Chicago:20240923T213000
DTSTAMP:20260421T125914
CREATED:20230809T204342Z
LAST-MODIFIED:20241119T180345Z
UID:10005297-1727112600-1727127000@www.tcotc.com
SUMMARY:Obedience Classes
DESCRIPTION:5:45 p.m.\, 7:00 p.m.\, 8:15 p.m.\nRing Room and Star Room
URL:https://www.tcotc.com/event/obedience-classes-35/2024-09-23/
LOCATION:Ring Room and Star Room
CATEGORIES:Obedience
END:VEVENT
BEGIN:VEVENT
DTSTART;TZID=America/Chicago:20240919T173000
DTEND;TZID=America/Chicago:20240919T213000
DTSTAMP:20260421T125914
CREATED:20241119T180230Z
LAST-MODIFIED:20260123T205523Z
UID:10012326-1726767000-1726781400@www.tcotc.com
SUMMARY:Obedience Classes
DESCRIPTION:5:30 pm – 9:30 pm – Ring Room and Star Room
URL:https://www.tcotc.com/event/obedience-classes-4/2024-09-19/
LOCATION:Ring Room and Star Room
CATEGORIES:Obedience
END:VEVENT
BEGIN:VEVENT
DTSTART;TZID=America/Chicago:20240919T173000
DTEND;TZID=America/Chicago:20240919T213000
DTSTAMP:20260421T125914
CREATED:20230809T203810Z
LAST-MODIFIED:20231229T160132Z
UID:10005964-1726767000-1726781400@www.tcotc.com
SUMMARY:Obedience Classes
DESCRIPTION:5:45 p.m.\, 7:00 p.m. and 8:15 p.m.\nRing Room and Star Room
URL:https://www.tcotc.com/event/obedience-classes-33/2024-09-19/
LOCATION:Ring Room and Star Room
CATEGORIES:Obedience
END:VEVENT
BEGIN:VEVENT
DTSTART;TZID=America/Chicago:20240918T173000
DTEND;TZID=America/Chicago:20240918T213000
DTSTAMP:20260421T125914
CREATED:20241119T164634Z
LAST-MODIFIED:20260205T192024Z
UID:10014784-1726680600-1726695000@www.tcotc.com
SUMMARY:Obedience Classes
DESCRIPTION:Ring Room and Star Room
URL:https://www.tcotc.com/event/obedience-classes-3/2024-09-18/
LOCATION:Ring Room and Star Room
CATEGORIES:Obedience
END:VEVENT
BEGIN:VEVENT
DTSTART;TZID=America/Chicago:20240918T173000
DTEND;TZID=America/Chicago:20240918T213000
DTSTAMP:20260421T125914
CREATED:20230809T203447Z
LAST-MODIFIED:20240813T200719Z
UID:10005781-1726680600-1726695000@www.tcotc.com
SUMMARY:Obedience Classes
DESCRIPTION:5:45 p.m.\, 7:00 p.m.\, and 8:15 p.m.\nRing Room and Star Room
URL:https://www.tcotc.com/event/obedience-classes-31/2024-09-18/
LOCATION:Ring Room and Star Room
CATEGORIES:Obedience
END:VEVENT
BEGIN:VEVENT
DTSTART;TZID=America/Chicago:20240917T090000
DTEND;TZID=America/Chicago:20240917T130000
DTSTAMP:20260421T125914
CREATED:20230809T202952Z
LAST-MODIFIED:20240813T203320Z
UID:10005391-1726563600-1726578000@www.tcotc.com
SUMMARY:Obedience Classes
DESCRIPTION:9:30 a.m.\, 10:45 a.m.\, 12:00 p.m.  Classes are offered in six-week sessions.
URL:https://www.tcotc.com/event/obedience-classes-29/2024-09-17/
LOCATION:Ring Room and Star Room
CATEGORIES:Obedience
END:VEVENT
BEGIN:VEVENT
DTSTART;TZID=America/Chicago:20240917T090000
DTEND;TZID=America/Chicago:20240917T120000
DTSTAMP:20260421T125914
CREATED:20241119T163521Z
LAST-MODIFIED:20260106T141756Z
UID:10011175-1726563600-1726574400@www.tcotc.com
SUMMARY:Obedience Classes
DESCRIPTION:Meeting Room and Star Room
URL:https://www.tcotc.com/event/obedience-classes-2/2024-09-17/
LOCATION:Ring Room and Star Room
CATEGORIES:Obedience
END:VEVENT
BEGIN:VEVENT
DTSTART;TZID=America/Chicago:20240916T173000
DTEND;TZID=America/Chicago:20240916T213000
DTSTAMP:20260421T125914
CREATED:20230809T204342Z
LAST-MODIFIED:20241119T180345Z
UID:10005296-1726507800-1726522200@www.tcotc.com
SUMMARY:Obedience Classes
DESCRIPTION:5:45 p.m.\, 7:00 p.m.\, 8:15 p.m.\nRing Room and Star Room
URL:https://www.tcotc.com/event/obedience-classes-35/2024-09-16/
LOCATION:Ring Room and Star Room
CATEGORIES:Obedience
END:VEVENT
BEGIN:VEVENT
DTSTART;TZID=America/Chicago:20240912T173000
DTEND;TZID=America/Chicago:20240912T213000
DTSTAMP:20260421T125914
CREATED:20241119T180230Z
LAST-MODIFIED:20260123T205523Z
UID:10012325-1726162200-1726176600@www.tcotc.com
SUMMARY:Obedience Classes
DESCRIPTION:5:30 pm – 9:30 pm – Ring Room and Star Room
URL:https://www.tcotc.com/event/obedience-classes-4/2024-09-12/
LOCATION:Ring Room and Star Room
CATEGORIES:Obedience
END:VEVENT
BEGIN:VEVENT
DTSTART;TZID=America/Chicago:20240912T173000
DTEND;TZID=America/Chicago:20240912T213000
DTSTAMP:20260421T125914
CREATED:20230809T203810Z
LAST-MODIFIED:20231229T160132Z
UID:10005963-1726162200-1726176600@www.tcotc.com
SUMMARY:Obedience Classes
DESCRIPTION:5:45 p.m.\, 7:00 p.m. and 8:15 p.m.\nRing Room and Star Room
URL:https://www.tcotc.com/event/obedience-classes-33/2024-09-12/
LOCATION:Ring Room and Star Room
CATEGORIES:Obedience
END:VEVENT
BEGIN:VEVENT
DTSTART;TZID=America/Chicago:20240911T183000
DTEND;TZID=America/Chicago:20240911T203000
DTSTAMP:20260421T125914
CREATED:20240725T210018Z
LAST-MODIFIED:20240806T203111Z
UID:10005073-1726079400-1726086600@www.tcotc.com
SUMMARY:AKC Trick Dog Test
DESCRIPTION:Does your dog know a few tricks? Sign your dog up to earn an AKC Trick Dog title! Complete 10 tricks for a Novice Trick Dog title\, or only five tricks if your dog has already earned a CGC title (titles earned that evening don’t qualify). \nLearn more about the types of tricks your dog can perform for a Novice\, Intermediate and Advanced Trick Dog title at the AKC Web site. You can also get information on how to train them. \nMembers $10/Non-members $15. \nWe are scheduling two Trick Dog Tests every 15 minutes between 6:30 p.m. and 8:30 p.m. \nSpots are limited. Reserve yours today!
URL:https://www.tcotc.com/event/akc-trick-dog-test-4-2/
LOCATION:Ring Room and Star Room
CATEGORIES:Special Events
END:VEVENT
BEGIN:VEVENT
DTSTART;TZID=America/Chicago:20240911T183000
DTEND;TZID=America/Chicago:20240911T203000
DTSTAMP:20260421T125914
CREATED:20240725T205628Z
LAST-MODIFIED:20240806T202818Z
UID:10005072-1726079400-1726086600@www.tcotc.com
SUMMARY:Canine Good Citizen Test
DESCRIPTION:Members and non-members are invited to take the Canine Good Citizen test on Wednesday\, September 11. The Canine Good Citizen title was designed by the AKC to reward dogs who have good manners at home and in the community. It focuses on responsible pet ownership and basic good manners for dogs. All dogs who pass the 10-step CGC test may receive a certificate from the American Kennel Club. \nThe skills tested include loose  leash walking\, stay\, polite greeting\, walking through a crowd\, grooming\, a three minute supervised separation\, recall\, and working through distractions. \nMembers $10/Non-members $15. \nWe are scheduling two tests every 15 minutes between 6:30 p.m. and 8:30 p.m. \nSign up today!
URL:https://www.tcotc.com/event/canine-good-citizen-test-3/
LOCATION:Ring Room and Star Room
CATEGORIES:Special Events
END:VEVENT
BEGIN:VEVENT
DTSTART;TZID=America/Chicago:20240911T173000
DTEND;TZID=America/Chicago:20240911T213000
DTSTAMP:20260421T125914
CREATED:20241119T164634Z
LAST-MODIFIED:20260205T192024Z
UID:10014783-1726075800-1726090200@www.tcotc.com
SUMMARY:Obedience Classes
DESCRIPTION:Ring Room and Star Room
URL:https://www.tcotc.com/event/obedience-classes-3/2024-09-11/
LOCATION:Ring Room and Star Room
CATEGORIES:Obedience
END:VEVENT
BEGIN:VEVENT
DTSTART;TZID=America/Chicago:20240910T090000
DTEND;TZID=America/Chicago:20240910T130000
DTSTAMP:20260421T125914
CREATED:20230809T202952Z
LAST-MODIFIED:20240813T203320Z
UID:10005390-1725958800-1725973200@www.tcotc.com
SUMMARY:Obedience Classes
DESCRIPTION:9:30 a.m.\, 10:45 a.m.\, 12:00 p.m.  Classes are offered in six-week sessions.
URL:https://www.tcotc.com/event/obedience-classes-29/2024-09-10/
LOCATION:Ring Room and Star Room
CATEGORIES:Obedience
END:VEVENT
BEGIN:VEVENT
DTSTART;TZID=America/Chicago:20240910T090000
DTEND;TZID=America/Chicago:20240910T120000
DTSTAMP:20260421T125914
CREATED:20241119T163521Z
LAST-MODIFIED:20260106T141756Z
UID:10011174-1725958800-1725969600@www.tcotc.com
SUMMARY:Obedience Classes
DESCRIPTION:Meeting Room and Star Room
URL:https://www.tcotc.com/event/obedience-classes-2/2024-09-10/
LOCATION:Ring Room and Star Room
CATEGORIES:Obedience
END:VEVENT
BEGIN:VEVENT
DTSTART;TZID=America/Chicago:20240905T173000
DTEND;TZID=America/Chicago:20240905T213000
DTSTAMP:20260421T125914
CREATED:20241119T180230Z
LAST-MODIFIED:20260123T205523Z
UID:10012324-1725557400-1725571800@www.tcotc.com
SUMMARY:Obedience Classes
DESCRIPTION:5:30 pm – 9:30 pm – Ring Room and Star Room
URL:https://www.tcotc.com/event/obedience-classes-4/2024-09-05/
LOCATION:Ring Room and Star Room
CATEGORIES:Obedience
END:VEVENT
BEGIN:VEVENT
DTSTART;TZID=America/Chicago:20240905T173000
DTEND;TZID=America/Chicago:20240905T213000
DTSTAMP:20260421T125914
CREATED:20230809T203810Z
LAST-MODIFIED:20231229T160132Z
UID:10005962-1725557400-1725571800@www.tcotc.com
SUMMARY:Obedience Classes
DESCRIPTION:5:45 p.m.\, 7:00 p.m. and 8:15 p.m.\nRing Room and Star Room
URL:https://www.tcotc.com/event/obedience-classes-33/2024-09-05/
LOCATION:Ring Room and Star Room
CATEGORIES:Obedience
END:VEVENT
BEGIN:VEVENT
DTSTART;TZID=America/Chicago:20240904T173000
DTEND;TZID=America/Chicago:20240904T213000
DTSTAMP:20260421T125914
CREATED:20241119T164634Z
LAST-MODIFIED:20260205T192024Z
UID:10014782-1725471000-1725485400@www.tcotc.com
SUMMARY:Obedience Classes
DESCRIPTION:Ring Room and Star Room
URL:https://www.tcotc.com/event/obedience-classes-3/2024-09-04/
LOCATION:Ring Room and Star Room
CATEGORIES:Obedience
END:VEVENT
BEGIN:VEVENT
DTSTART;TZID=America/Chicago:20240904T173000
DTEND;TZID=America/Chicago:20240904T213000
DTSTAMP:20260421T125914
CREATED:20230809T203447Z
LAST-MODIFIED:20240813T200719Z
UID:10005779-1725471000-1725485400@www.tcotc.com
SUMMARY:Obedience Classes
DESCRIPTION:5:45 p.m.\, 7:00 p.m.\, and 8:15 p.m.\nRing Room and Star Room
URL:https://www.tcotc.com/event/obedience-classes-31/2024-09-04/
LOCATION:Ring Room and Star Room
CATEGORIES:Obedience
END:VEVENT
BEGIN:VEVENT
DTSTART;TZID=America/Chicago:20240903T090000
DTEND;TZID=America/Chicago:20240903T130000
DTSTAMP:20260421T125914
CREATED:20230809T202952Z
LAST-MODIFIED:20240813T203320Z
UID:10005389-1725354000-1725368400@www.tcotc.com
SUMMARY:Obedience Classes
DESCRIPTION:9:30 a.m.\, 10:45 a.m.\, 12:00 p.m.  Classes are offered in six-week sessions.
URL:https://www.tcotc.com/event/obedience-classes-29/2024-09-03/
LOCATION:Ring Room and Star Room
CATEGORIES:Obedience
END:VEVENT
BEGIN:VEVENT
DTSTART;TZID=America/Chicago:20240903T090000
DTEND;TZID=America/Chicago:20240903T120000
DTSTAMP:20260421T125914
CREATED:20241119T163521Z
LAST-MODIFIED:20260106T141756Z
UID:10011173-1725354000-1725364800@www.tcotc.com
SUMMARY:Obedience Classes
DESCRIPTION:Meeting Room and Star Room
URL:https://www.tcotc.com/event/obedience-classes-2/2024-09-03/
LOCATION:Ring Room and Star Room
CATEGORIES:Obedience
END:VEVENT
BEGIN:VEVENT
DTSTART;TZID=America/Chicago:20240829T173000
DTEND;TZID=America/Chicago:20240829T213000
DTSTAMP:20260421T125914
CREATED:20241119T180230Z
LAST-MODIFIED:20260123T205523Z
UID:10012323-1724952600-1724967000@www.tcotc.com
SUMMARY:Obedience Classes
DESCRIPTION:5:30 pm – 9:30 pm – Ring Room and Star Room
URL:https://www.tcotc.com/event/obedience-classes-4/2024-08-29/
LOCATION:Ring Room and Star Room
CATEGORIES:Obedience
END:VEVENT
BEGIN:VEVENT
DTSTART;TZID=America/Chicago:20240829T173000
DTEND;TZID=America/Chicago:20240829T213000
DTSTAMP:20260421T125914
CREATED:20230809T203810Z
LAST-MODIFIED:20231229T160132Z
UID:10005961-1724952600-1724967000@www.tcotc.com
SUMMARY:Obedience Classes
DESCRIPTION:5:45 p.m.\, 7:00 p.m. and 8:15 p.m.\nRing Room and Star Room
URL:https://www.tcotc.com/event/obedience-classes-33/2024-08-29/
LOCATION:Ring Room and Star Room
CATEGORIES:Obedience
END:VEVENT
BEGIN:VEVENT
DTSTART;TZID=America/Chicago:20240828T173000
DTEND;TZID=America/Chicago:20240828T213000
DTSTAMP:20260421T125914
CREATED:20241119T164634Z
LAST-MODIFIED:20260205T192024Z
UID:10014781-1724866200-1724880600@www.tcotc.com
SUMMARY:Obedience Classes
DESCRIPTION:Ring Room and Star Room
URL:https://www.tcotc.com/event/obedience-classes-3/2024-08-28/
LOCATION:Ring Room and Star Room
CATEGORIES:Obedience
END:VEVENT
BEGIN:VEVENT
DTSTART;TZID=America/Chicago:20240828T173000
DTEND;TZID=America/Chicago:20240828T213000
DTSTAMP:20260421T125914
CREATED:20230809T203447Z
LAST-MODIFIED:20240813T200719Z
UID:10005778-1724866200-1724880600@www.tcotc.com
SUMMARY:Obedience Classes
DESCRIPTION:5:45 p.m.\, 7:00 p.m.\, and 8:15 p.m.\nRing Room and Star Room
URL:https://www.tcotc.com/event/obedience-classes-31/2024-08-28/
LOCATION:Ring Room and Star Room
CATEGORIES:Obedience
END:VEVENT
BEGIN:VEVENT
DTSTART;TZID=America/Chicago:20240827T090000
DTEND;TZID=America/Chicago:20240827T120000
DTSTAMP:20260421T125914
CREATED:20241119T163521Z
LAST-MODIFIED:20260106T141756Z
UID:10011172-1724749200-1724760000@www.tcotc.com
SUMMARY:Obedience Classes
DESCRIPTION:Meeting Room and Star Room
URL:https://www.tcotc.com/event/obedience-classes-2/2024-08-27/
LOCATION:Ring Room and Star Room
CATEGORIES:Obedience
END:VEVENT
BEGIN:VEVENT
DTSTART;TZID=America/Chicago:20240822T173000
DTEND;TZID=America/Chicago:20240822T213000
DTSTAMP:20260421T125914
CREATED:20241119T180230Z
LAST-MODIFIED:20260123T205523Z
UID:10012322-1724347800-1724362200@www.tcotc.com
SUMMARY:Obedience Classes
DESCRIPTION:5:30 pm – 9:30 pm – Ring Room and Star Room
URL:https://www.tcotc.com/event/obedience-classes-4/2024-08-22/
LOCATION:Ring Room and Star Room
CATEGORIES:Obedience
END:VEVENT
BEGIN:VEVENT
DTSTART;TZID=America/Chicago:20240821T173000
DTEND;TZID=America/Chicago:20240821T213000
DTSTAMP:20260421T125914
CREATED:20241119T164634Z
LAST-MODIFIED:20260205T192024Z
UID:10014780-1724261400-1724275800@www.tcotc.com
SUMMARY:Obedience Classes
DESCRIPTION:Ring Room and Star Room
URL:https://www.tcotc.com/event/obedience-classes-3/2024-08-21/
LOCATION:Ring Room and Star Room
CATEGORIES:Obedience
END:VEVENT
BEGIN:VEVENT
DTSTART;TZID=America/Chicago:20240821T173000
DTEND;TZID=America/Chicago:20240821T213000
DTSTAMP:20260421T125914
CREATED:20230809T203447Z
LAST-MODIFIED:20240813T200719Z
UID:10005777-1724261400-1724275800@www.tcotc.com
SUMMARY:Obedience Classes
DESCRIPTION:5:45 p.m.\, 7:00 p.m.\, and 8:15 p.m.\nRing Room and Star Room
URL:https://www.tcotc.com/event/obedience-classes-31/2024-08-21/
LOCATION:Ring Room and Star Room
CATEGORIES:Obedience
END:VEVENT
BEGIN:VEVENT
DTSTART;TZID=America/Chicago:20240820T090000
DTEND;TZID=America/Chicago:20240820T120000
DTSTAMP:20260421T125914
CREATED:20241119T163521Z
LAST-MODIFIED:20260106T141756Z
UID:10011171-1724144400-1724155200@www.tcotc.com
SUMMARY:Obedience Classes
DESCRIPTION:Meeting Room and Star Room
URL:https://www.tcotc.com/event/obedience-classes-2/2024-08-20/
LOCATION:Ring Room and Star Room
CATEGORIES:Obedience
END:VEVENT
END:VCALENDAR