BEGIN:VCALENDAR
VERSION:2.0
PRODID:-//Twin Cities Obedience Training Club - ECPv6.15.13//NONSGML v1.0//EN
CALSCALE:GREGORIAN
METHOD:PUBLISH
X-WR-CALNAME:Twin Cities Obedience Training Club
X-ORIGINAL-URL:https://www.tcotc.com
X-WR-CALDESC:Events for Twin Cities Obedience Training Club
REFRESH-INTERVAL;VALUE=DURATION:PT1H
X-Robots-Tag:noindex
X-PUBLISHED-TTL:PT1H
BEGIN:VTIMEZONE
TZID:America/Chicago
BEGIN:DAYLIGHT
TZOFFSETFROM:-0600
TZOFFSETTO:-0500
TZNAME:CDT
DTSTART:20220313T080000
END:DAYLIGHT
BEGIN:STANDARD
TZOFFSETFROM:-0500
TZOFFSETTO:-0600
TZNAME:CST
DTSTART:20221106T070000
END:STANDARD
BEGIN:DAYLIGHT
TZOFFSETFROM:-0600
TZOFFSETTO:-0500
TZNAME:CDT
DTSTART:20230312T080000
END:DAYLIGHT
BEGIN:STANDARD
TZOFFSETFROM:-0500
TZOFFSETTO:-0600
TZNAME:CST
DTSTART:20231105T070000
END:STANDARD
BEGIN:DAYLIGHT
TZOFFSETFROM:-0600
TZOFFSETTO:-0500
TZNAME:CDT
DTSTART:20240310T080000
END:DAYLIGHT
BEGIN:STANDARD
TZOFFSETFROM:-0500
TZOFFSETTO:-0600
TZNAME:CST
DTSTART:20241103T070000
END:STANDARD
END:VTIMEZONE
BEGIN:VEVENT
DTSTART;TZID=America/Chicago:20231211T173000
DTEND;TZID=America/Chicago:20231211T213000
DTSTAMP:20260422T003410
CREATED:20230809T204342Z
LAST-MODIFIED:20241119T180345Z
UID:10000269-1702315800-1702330200@www.tcotc.com
SUMMARY:Obedience Classes
DESCRIPTION:5:45 p.m.\, 7:00 p.m.\, 8:15 p.m.\nRing Room and Star Room
URL:https://www.tcotc.com/event/obedience-classes-35/2023-12-11/
LOCATION:Ring Room and Star Room
CATEGORIES:Obedience
END:VEVENT
BEGIN:VEVENT
DTSTART;TZID=America/Chicago:20231207T173000
DTEND;TZID=America/Chicago:20231207T213000
DTSTAMP:20260422T003410
CREATED:20241119T180230Z
LAST-MODIFIED:20260123T205523Z
UID:10013297-1701970200-1701984600@www.tcotc.com
SUMMARY:Obedience Classes
DESCRIPTION:5:30 pm – 9:30 pm – Ring Room and Star Room
URL:https://www.tcotc.com/event/obedience-classes-4/2023-12-07/
LOCATION:Ring Room and Star Room
CATEGORIES:Obedience
END:VEVENT
BEGIN:VEVENT
DTSTART;TZID=America/Chicago:20231207T173000
DTEND;TZID=America/Chicago:20231207T213000
DTSTAMP:20260422T003410
CREATED:20230809T203810Z
LAST-MODIFIED:20231229T160132Z
UID:10000160-1701970200-1701984600@www.tcotc.com
SUMMARY:Obedience Classes
DESCRIPTION:5:45 p.m.\, 7:00 p.m. and 8:15 p.m.\nRing Room and Star Room
URL:https://www.tcotc.com/event/obedience-classes-33/2023-12-07/
LOCATION:Ring Room and Star Room
CATEGORIES:Obedience
END:VEVENT
BEGIN:VEVENT
DTSTART;TZID=America/Chicago:20231206T173000
DTEND;TZID=America/Chicago:20231206T213000
DTSTAMP:20260422T003410
CREATED:20241119T164634Z
LAST-MODIFIED:20260205T192024Z
UID:10014920-1701883800-1701898200@www.tcotc.com
SUMMARY:Obedience Classes
DESCRIPTION:Ring Room and Star Room
URL:https://www.tcotc.com/event/obedience-classes-3/2023-12-06/
LOCATION:Ring Room and Star Room
CATEGORIES:Obedience
END:VEVENT
BEGIN:VEVENT
DTSTART;TZID=America/Chicago:20231206T173000
DTEND;TZID=America/Chicago:20231206T213000
DTSTAMP:20260422T003410
CREATED:20230809T203447Z
LAST-MODIFIED:20240813T200719Z
UID:10000214-1701883800-1701898200@www.tcotc.com
SUMMARY:Obedience Classes
DESCRIPTION:5:45 p.m.\, 7:00 p.m.\, and 8:15 p.m.\nRing Room and Star Room
URL:https://www.tcotc.com/event/obedience-classes-31/2023-12-06/
LOCATION:Ring Room and Star Room
CATEGORIES:Obedience
END:VEVENT
BEGIN:VEVENT
DTSTART;TZID=America/Chicago:20231205T090000
DTEND;TZID=America/Chicago:20231205T130000
DTSTAMP:20260422T003410
CREATED:20230809T202952Z
LAST-MODIFIED:20240813T203320Z
UID:10000050-1701766800-1701781200@www.tcotc.com
SUMMARY:Obedience Classes
DESCRIPTION:9:30 a.m.\, 10:45 a.m.\, 12:00 p.m.  Classes are offered in six-week sessions.
URL:https://www.tcotc.com/event/obedience-classes-29/2023-12-05/
LOCATION:Ring Room and Star Room
CATEGORIES:Obedience
END:VEVENT
BEGIN:VEVENT
DTSTART;TZID=America/Chicago:20231204T173000
DTEND;TZID=America/Chicago:20231204T213000
DTSTAMP:20260422T003410
CREATED:20230809T204342Z
LAST-MODIFIED:20241119T180345Z
UID:10000268-1701711000-1701725400@www.tcotc.com
SUMMARY:Obedience Classes
DESCRIPTION:5:45 p.m.\, 7:00 p.m.\, 8:15 p.m.\nRing Room and Star Room
URL:https://www.tcotc.com/event/obedience-classes-35/2023-12-04/
LOCATION:Ring Room and Star Room
CATEGORIES:Obedience
END:VEVENT
BEGIN:VEVENT
DTSTART;TZID=America/Chicago:20231130T173000
DTEND;TZID=America/Chicago:20231130T213000
DTSTAMP:20260422T003410
CREATED:20241119T180230Z
LAST-MODIFIED:20260123T205523Z
UID:10013296-1701365400-1701379800@www.tcotc.com
SUMMARY:Obedience Classes
DESCRIPTION:5:30 pm – 9:30 pm – Ring Room and Star Room
URL:https://www.tcotc.com/event/obedience-classes-4/2023-11-30/
LOCATION:Ring Room and Star Room
CATEGORIES:Obedience
END:VEVENT
BEGIN:VEVENT
DTSTART;TZID=America/Chicago:20231130T173000
DTEND;TZID=America/Chicago:20231130T213000
DTSTAMP:20260422T003410
CREATED:20230809T203810Z
LAST-MODIFIED:20231229T160132Z
UID:10000159-1701365400-1701379800@www.tcotc.com
SUMMARY:Obedience Classes
DESCRIPTION:5:45 p.m.\, 7:00 p.m. and 8:15 p.m.\nRing Room and Star Room
URL:https://www.tcotc.com/event/obedience-classes-33/2023-11-30/
LOCATION:Ring Room and Star Room
CATEGORIES:Obedience
END:VEVENT
BEGIN:VEVENT
DTSTART;TZID=America/Chicago:20231129T173000
DTEND;TZID=America/Chicago:20231129T213000
DTSTAMP:20260422T003410
CREATED:20241119T164634Z
LAST-MODIFIED:20260205T192024Z
UID:10014919-1701279000-1701293400@www.tcotc.com
SUMMARY:Obedience Classes
DESCRIPTION:Ring Room and Star Room
URL:https://www.tcotc.com/event/obedience-classes-3/2023-11-29/
LOCATION:Ring Room and Star Room
CATEGORIES:Obedience
END:VEVENT
BEGIN:VEVENT
DTSTART;TZID=America/Chicago:20231129T173000
DTEND;TZID=America/Chicago:20231129T213000
DTSTAMP:20260422T003410
CREATED:20230809T203447Z
LAST-MODIFIED:20240813T200719Z
UID:10000213-1701279000-1701293400@www.tcotc.com
SUMMARY:Obedience Classes
DESCRIPTION:5:45 p.m.\, 7:00 p.m.\, and 8:15 p.m.\nRing Room and Star Room
URL:https://www.tcotc.com/event/obedience-classes-31/2023-11-29/
LOCATION:Ring Room and Star Room
CATEGORIES:Obedience
END:VEVENT
BEGIN:VEVENT
DTSTART;TZID=America/Chicago:20231128T090000
DTEND;TZID=America/Chicago:20231128T130000
DTSTAMP:20260422T003410
CREATED:20230809T202952Z
LAST-MODIFIED:20240813T203320Z
UID:10000049-1701162000-1701176400@www.tcotc.com
SUMMARY:Obedience Classes
DESCRIPTION:9:30 a.m.\, 10:45 a.m.\, 12:00 p.m.  Classes are offered in six-week sessions.
URL:https://www.tcotc.com/event/obedience-classes-29/2023-11-28/
LOCATION:Ring Room and Star Room
CATEGORIES:Obedience
END:VEVENT
BEGIN:VEVENT
DTSTART;TZID=America/Chicago:20231127T173000
DTEND;TZID=America/Chicago:20231127T213000
DTSTAMP:20260422T003410
CREATED:20230809T204342Z
LAST-MODIFIED:20241119T180345Z
UID:10000267-1701106200-1701120600@www.tcotc.com
SUMMARY:Obedience Classes
DESCRIPTION:5:45 p.m.\, 7:00 p.m.\, 8:15 p.m.\nRing Room and Star Room
URL:https://www.tcotc.com/event/obedience-classes-35/2023-11-27/
LOCATION:Ring Room and Star Room
CATEGORIES:Obedience
END:VEVENT
BEGIN:VEVENT
DTSTART;TZID=America/Chicago:20231123T173000
DTEND;TZID=America/Chicago:20231123T213000
DTSTAMP:20260422T003410
CREATED:20241119T180230Z
LAST-MODIFIED:20260123T205523Z
UID:10013295-1700760600-1700775000@www.tcotc.com
SUMMARY:Obedience Classes
DESCRIPTION:5:30 pm – 9:30 pm – Ring Room and Star Room
URL:https://www.tcotc.com/event/obedience-classes-4/2023-11-23/
LOCATION:Ring Room and Star Room
CATEGORIES:Obedience
END:VEVENT
BEGIN:VEVENT
DTSTART;TZID=America/Chicago:20231122T173000
DTEND;TZID=America/Chicago:20231122T213000
DTSTAMP:20260422T003410
CREATED:20241119T164634Z
LAST-MODIFIED:20260205T192024Z
UID:10014918-1700674200-1700688600@www.tcotc.com
SUMMARY:Obedience Classes
DESCRIPTION:Ring Room and Star Room
URL:https://www.tcotc.com/event/obedience-classes-3/2023-11-22/
LOCATION:Ring Room and Star Room
CATEGORIES:Obedience
END:VEVENT
BEGIN:VEVENT
DTSTART;TZID=America/Chicago:20231122T173000
DTEND;TZID=America/Chicago:20231122T213000
DTSTAMP:20260422T003410
CREATED:20230809T203447Z
LAST-MODIFIED:20240813T200719Z
UID:10006043-1700674200-1700688600@www.tcotc.com
SUMMARY:Obedience Classes
DESCRIPTION:5:45 p.m.\, 7:00 p.m.\, and 8:15 p.m.\nRing Room and Star Room
URL:https://www.tcotc.com/event/obedience-classes-31/2023-11-22/
LOCATION:Ring Room and Star Room
CATEGORIES:Obedience
END:VEVENT
BEGIN:VEVENT
DTSTART;TZID=America/Chicago:20231121T090000
DTEND;TZID=America/Chicago:20231121T130000
DTSTAMP:20260422T003410
CREATED:20230809T202952Z
LAST-MODIFIED:20240813T203320Z
UID:10000048-1700557200-1700571600@www.tcotc.com
SUMMARY:Obedience Classes
DESCRIPTION:9:30 a.m.\, 10:45 a.m.\, 12:00 p.m.  Classes are offered in six-week sessions.
URL:https://www.tcotc.com/event/obedience-classes-29/2023-11-21/
LOCATION:Ring Room and Star Room
CATEGORIES:Obedience
END:VEVENT
BEGIN:VEVENT
DTSTART;TZID=America/Chicago:20231120T173000
DTEND;TZID=America/Chicago:20231120T213000
DTSTAMP:20260422T003410
CREATED:20230809T204342Z
LAST-MODIFIED:20241119T180345Z
UID:10000266-1700501400-1700515800@www.tcotc.com
SUMMARY:Obedience Classes
DESCRIPTION:5:45 p.m.\, 7:00 p.m.\, 8:15 p.m.\nRing Room and Star Room
URL:https://www.tcotc.com/event/obedience-classes-35/2023-11-20/
LOCATION:Ring Room and Star Room
CATEGORIES:Obedience
END:VEVENT
BEGIN:VEVENT
DTSTART;TZID=America/Chicago:20231116T173000
DTEND;TZID=America/Chicago:20231116T213000
DTSTAMP:20260422T003410
CREATED:20241119T180230Z
LAST-MODIFIED:20260123T205523Z
UID:10013294-1700155800-1700170200@www.tcotc.com
SUMMARY:Obedience Classes
DESCRIPTION:5:30 pm – 9:30 pm – Ring Room and Star Room
URL:https://www.tcotc.com/event/obedience-classes-4/2023-11-16/
LOCATION:Ring Room and Star Room
CATEGORIES:Obedience
END:VEVENT
BEGIN:VEVENT
DTSTART;TZID=America/Chicago:20231116T173000
DTEND;TZID=America/Chicago:20231116T213000
DTSTAMP:20260422T003410
CREATED:20230809T203810Z
LAST-MODIFIED:20231229T160132Z
UID:10000158-1700155800-1700170200@www.tcotc.com
SUMMARY:Obedience Classes
DESCRIPTION:5:45 p.m.\, 7:00 p.m. and 8:15 p.m.\nRing Room and Star Room
URL:https://www.tcotc.com/event/obedience-classes-33/2023-11-16/
LOCATION:Ring Room and Star Room
CATEGORIES:Obedience
END:VEVENT
BEGIN:VEVENT
DTSTART;TZID=America/Chicago:20231115T173000
DTEND;TZID=America/Chicago:20231115T213000
DTSTAMP:20260422T003410
CREATED:20241119T164634Z
LAST-MODIFIED:20260205T192024Z
UID:10014917-1700069400-1700083800@www.tcotc.com
SUMMARY:Obedience Classes
DESCRIPTION:Ring Room and Star Room
URL:https://www.tcotc.com/event/obedience-classes-3/2023-11-15/
LOCATION:Ring Room and Star Room
CATEGORIES:Obedience
END:VEVENT
BEGIN:VEVENT
DTSTART;TZID=America/Chicago:20231115T173000
DTEND;TZID=America/Chicago:20231115T213000
DTSTAMP:20260422T003410
CREATED:20230809T203447Z
LAST-MODIFIED:20240813T200719Z
UID:10000212-1700069400-1700083800@www.tcotc.com
SUMMARY:Obedience Classes
DESCRIPTION:5:45 p.m.\, 7:00 p.m.\, and 8:15 p.m.\nRing Room and Star Room
URL:https://www.tcotc.com/event/obedience-classes-31/2023-11-15/
LOCATION:Ring Room and Star Room
CATEGORIES:Obedience
END:VEVENT
BEGIN:VEVENT
DTSTART;TZID=America/Chicago:20231114T090000
DTEND;TZID=America/Chicago:20231114T130000
DTSTAMP:20260422T003410
CREATED:20230809T202952Z
LAST-MODIFIED:20240813T203320Z
UID:10000047-1699952400-1699966800@www.tcotc.com
SUMMARY:Obedience Classes
DESCRIPTION:9:30 a.m.\, 10:45 a.m.\, 12:00 p.m.  Classes are offered in six-week sessions.
URL:https://www.tcotc.com/event/obedience-classes-29/2023-11-14/
LOCATION:Ring Room and Star Room
CATEGORIES:Obedience
END:VEVENT
BEGIN:VEVENT
DTSTART;TZID=America/Chicago:20231113T173000
DTEND;TZID=America/Chicago:20231113T213000
DTSTAMP:20260422T003410
CREATED:20230809T204342Z
LAST-MODIFIED:20241119T180345Z
UID:10000265-1699896600-1699911000@www.tcotc.com
SUMMARY:Obedience Classes
DESCRIPTION:5:45 p.m.\, 7:00 p.m.\, 8:15 p.m.\nRing Room and Star Room
URL:https://www.tcotc.com/event/obedience-classes-35/2023-11-13/
LOCATION:Ring Room and Star Room
CATEGORIES:Obedience
END:VEVENT
BEGIN:VEVENT
DTSTART;TZID=America/Chicago:20231109T173000
DTEND;TZID=America/Chicago:20231109T213000
DTSTAMP:20260422T003410
CREATED:20241119T180230Z
LAST-MODIFIED:20260123T205523Z
UID:10013293-1699551000-1699565400@www.tcotc.com
SUMMARY:Obedience Classes
DESCRIPTION:5:30 pm – 9:30 pm – Ring Room and Star Room
URL:https://www.tcotc.com/event/obedience-classes-4/2023-11-09/
LOCATION:Ring Room and Star Room
CATEGORIES:Obedience
END:VEVENT
BEGIN:VEVENT
DTSTART;TZID=America/Chicago:20231109T173000
DTEND;TZID=America/Chicago:20231109T213000
DTSTAMP:20260422T003410
CREATED:20230809T203810Z
LAST-MODIFIED:20231229T160132Z
UID:10000157-1699551000-1699565400@www.tcotc.com
SUMMARY:Obedience Classes
DESCRIPTION:5:45 p.m.\, 7:00 p.m. and 8:15 p.m.\nRing Room and Star Room
URL:https://www.tcotc.com/event/obedience-classes-33/2023-11-09/
LOCATION:Ring Room and Star Room
CATEGORIES:Obedience
END:VEVENT
BEGIN:VEVENT
DTSTART;TZID=America/Chicago:20231108T173000
DTEND;TZID=America/Chicago:20231108T213000
DTSTAMP:20260422T003410
CREATED:20241119T164634Z
LAST-MODIFIED:20260205T192024Z
UID:10014916-1699464600-1699479000@www.tcotc.com
SUMMARY:Obedience Classes
DESCRIPTION:Ring Room and Star Room
URL:https://www.tcotc.com/event/obedience-classes-3/2023-11-08/
LOCATION:Ring Room and Star Room
CATEGORIES:Obedience
END:VEVENT
BEGIN:VEVENT
DTSTART;TZID=America/Chicago:20231108T173000
DTEND;TZID=America/Chicago:20231108T213000
DTSTAMP:20260422T003410
CREATED:20230809T203447Z
LAST-MODIFIED:20240813T200719Z
UID:10000211-1699464600-1699479000@www.tcotc.com
SUMMARY:Obedience Classes
DESCRIPTION:5:45 p.m.\, 7:00 p.m.\, and 8:15 p.m.\nRing Room and Star Room
URL:https://www.tcotc.com/event/obedience-classes-31/2023-11-08/
LOCATION:Ring Room and Star Room
CATEGORIES:Obedience
END:VEVENT
BEGIN:VEVENT
DTSTART;TZID=America/Chicago:20231107T090000
DTEND;TZID=America/Chicago:20231107T130000
DTSTAMP:20260422T003410
CREATED:20230809T202952Z
LAST-MODIFIED:20240813T203320Z
UID:10000046-1699347600-1699362000@www.tcotc.com
SUMMARY:Obedience Classes
DESCRIPTION:9:30 a.m.\, 10:45 a.m.\, 12:00 p.m.  Classes are offered in six-week sessions.
URL:https://www.tcotc.com/event/obedience-classes-29/2023-11-07/
LOCATION:Ring Room and Star Room
CATEGORIES:Obedience
END:VEVENT
BEGIN:VEVENT
DTSTART;TZID=America/Chicago:20231106T173000
DTEND;TZID=America/Chicago:20231106T213000
DTSTAMP:20260422T003410
CREATED:20230809T204342Z
LAST-MODIFIED:20241119T180345Z
UID:10000264-1699291800-1699306200@www.tcotc.com
SUMMARY:Obedience Classes
DESCRIPTION:5:45 p.m.\, 7:00 p.m.\, 8:15 p.m.\nRing Room and Star Room
URL:https://www.tcotc.com/event/obedience-classes-35/2023-11-06/
LOCATION:Ring Room and Star Room
CATEGORIES:Obedience
END:VEVENT
END:VCALENDAR