BEGIN:VCALENDAR
VERSION:2.0
PRODID:-//Twin Cities Obedience Training Club - ECPv6.15.13//NONSGML v1.0//EN
CALSCALE:GREGORIAN
METHOD:PUBLISH
X-ORIGINAL-URL:https://www.tcotc.com
X-WR-CALDESC:Events for Twin Cities Obedience Training Club
REFRESH-INTERVAL;VALUE=DURATION:PT1H
X-Robots-Tag:noindex
X-PUBLISHED-TTL:PT1H
BEGIN:VTIMEZONE
TZID:America/Chicago
BEGIN:DAYLIGHT
TZOFFSETFROM:-0600
TZOFFSETTO:-0500
TZNAME:CDT
DTSTART:20230312T080000
END:DAYLIGHT
BEGIN:STANDARD
TZOFFSETFROM:-0500
TZOFFSETTO:-0600
TZNAME:CST
DTSTART:20231105T070000
END:STANDARD
BEGIN:DAYLIGHT
TZOFFSETFROM:-0600
TZOFFSETTO:-0500
TZNAME:CDT
DTSTART:20240310T080000
END:DAYLIGHT
BEGIN:STANDARD
TZOFFSETFROM:-0500
TZOFFSETTO:-0600
TZNAME:CST
DTSTART:20241103T070000
END:STANDARD
BEGIN:DAYLIGHT
TZOFFSETFROM:-0600
TZOFFSETTO:-0500
TZNAME:CDT
DTSTART:20250309T080000
END:DAYLIGHT
BEGIN:STANDARD
TZOFFSETFROM:-0500
TZOFFSETTO:-0600
TZNAME:CST
DTSTART:20251102T070000
END:STANDARD
END:VTIMEZONE
BEGIN:VEVENT
DTSTART;TZID=America/Chicago:20240215T173000
DTEND;TZID=America/Chicago:20240215T213000
DTSTAMP:20260421T224829
CREATED:20241119T180230Z
LAST-MODIFIED:20260123T205523Z
UID:10013307-1708018200-1708032600@www.tcotc.com
SUMMARY:Obedience Classes
DESCRIPTION:5:30 pm – 9:30 pm – Ring Room and Star Room
URL:https://www.tcotc.com/event/obedience-classes-4/2024-02-15/
LOCATION:Ring Room and Star Room
CATEGORIES:Obedience
END:VEVENT
BEGIN:VEVENT
DTSTART;TZID=America/Chicago:20240215T173000
DTEND;TZID=America/Chicago:20240215T213000
DTSTAMP:20260421T224829
CREATED:20230809T203810Z
LAST-MODIFIED:20231229T160132Z
UID:10005937-1708018200-1708032600@www.tcotc.com
SUMMARY:Obedience Classes
DESCRIPTION:5:45 p.m.\, 7:00 p.m. and 8:15 p.m.\nRing Room and Star Room
URL:https://www.tcotc.com/event/obedience-classes-33/2024-02-15/
LOCATION:Ring Room and Star Room
CATEGORIES:Obedience
END:VEVENT
BEGIN:VEVENT
DTSTART;TZID=America/Chicago:20240214T173000
DTEND;TZID=America/Chicago:20240214T213000
DTSTAMP:20260421T224829
CREATED:20241119T164634Z
LAST-MODIFIED:20260205T192024Z
UID:10014753-1707931800-1707946200@www.tcotc.com
SUMMARY:Obedience Classes
DESCRIPTION:Ring Room and Star Room
URL:https://www.tcotc.com/event/obedience-classes-3/2024-02-14/
LOCATION:Ring Room and Star Room
CATEGORIES:Obedience
END:VEVENT
BEGIN:VEVENT
DTSTART;TZID=America/Chicago:20240214T173000
DTEND;TZID=America/Chicago:20240214T213000
DTSTAMP:20260421T224829
CREATED:20230809T203447Z
LAST-MODIFIED:20240813T200719Z
UID:10005750-1707931800-1707946200@www.tcotc.com
SUMMARY:Obedience Classes
DESCRIPTION:5:45 p.m.\, 7:00 p.m.\, and 8:15 p.m.\nRing Room and Star Room
URL:https://www.tcotc.com/event/obedience-classes-31/2024-02-14/
LOCATION:Ring Room and Star Room
CATEGORIES:Obedience
END:VEVENT
BEGIN:VEVENT
DTSTART;TZID=America/Chicago:20240213T090000
DTEND;TZID=America/Chicago:20240213T130000
DTSTAMP:20260421T224829
CREATED:20230809T202952Z
LAST-MODIFIED:20240813T203320Z
UID:10005363-1707814800-1707829200@www.tcotc.com
SUMMARY:Obedience Classes
DESCRIPTION:9:30 a.m.\, 10:45 a.m.\, 12:00 p.m.  Classes are offered in six-week sessions.
URL:https://www.tcotc.com/event/obedience-classes-29/2024-02-13/
LOCATION:Ring Room and Star Room
CATEGORIES:Obedience
END:VEVENT
BEGIN:VEVENT
DTSTART;TZID=America/Chicago:20240212T173000
DTEND;TZID=America/Chicago:20240212T213000
DTSTAMP:20260421T224829
CREATED:20230809T204342Z
LAST-MODIFIED:20241119T180345Z
UID:10005271-1707759000-1707773400@www.tcotc.com
SUMMARY:Obedience Classes
DESCRIPTION:5:45 p.m.\, 7:00 p.m.\, 8:15 p.m.\nRing Room and Star Room
URL:https://www.tcotc.com/event/obedience-classes-35/2024-02-12/
LOCATION:Ring Room and Star Room
CATEGORIES:Obedience
END:VEVENT
BEGIN:VEVENT
DTSTART;TZID=America/Chicago:20240208T173000
DTEND;TZID=America/Chicago:20240208T213000
DTSTAMP:20260421T224829
CREATED:20241119T180230Z
LAST-MODIFIED:20260123T205523Z
UID:10013306-1707413400-1707427800@www.tcotc.com
SUMMARY:Obedience Classes
DESCRIPTION:5:30 pm – 9:30 pm – Ring Room and Star Room
URL:https://www.tcotc.com/event/obedience-classes-4/2024-02-08/
LOCATION:Ring Room and Star Room
CATEGORIES:Obedience
END:VEVENT
BEGIN:VEVENT
DTSTART;TZID=America/Chicago:20240208T173000
DTEND;TZID=America/Chicago:20240208T213000
DTSTAMP:20260421T224829
CREATED:20230809T203810Z
LAST-MODIFIED:20231229T160132Z
UID:10005936-1707413400-1707427800@www.tcotc.com
SUMMARY:Obedience Classes
DESCRIPTION:5:45 p.m.\, 7:00 p.m. and 8:15 p.m.\nRing Room and Star Room
URL:https://www.tcotc.com/event/obedience-classes-33/2024-02-08/
LOCATION:Ring Room and Star Room
CATEGORIES:Obedience
END:VEVENT
BEGIN:VEVENT
DTSTART;TZID=America/Chicago:20240207T173000
DTEND;TZID=America/Chicago:20240207T213000
DTSTAMP:20260421T224829
CREATED:20241119T164634Z
LAST-MODIFIED:20260205T192024Z
UID:10014752-1707327000-1707341400@www.tcotc.com
SUMMARY:Obedience Classes
DESCRIPTION:Ring Room and Star Room
URL:https://www.tcotc.com/event/obedience-classes-3/2024-02-07/
LOCATION:Ring Room and Star Room
CATEGORIES:Obedience
END:VEVENT
BEGIN:VEVENT
DTSTART;TZID=America/Chicago:20240207T173000
DTEND;TZID=America/Chicago:20240207T213000
DTSTAMP:20260421T224829
CREATED:20230809T203447Z
LAST-MODIFIED:20240813T200719Z
UID:10005749-1707327000-1707341400@www.tcotc.com
SUMMARY:Obedience Classes
DESCRIPTION:5:45 p.m.\, 7:00 p.m.\, and 8:15 p.m.\nRing Room and Star Room
URL:https://www.tcotc.com/event/obedience-classes-31/2024-02-07/
LOCATION:Ring Room and Star Room
CATEGORIES:Obedience
END:VEVENT
BEGIN:VEVENT
DTSTART;TZID=America/Chicago:20240206T090000
DTEND;TZID=America/Chicago:20240206T130000
DTSTAMP:20260421T224829
CREATED:20230809T202952Z
LAST-MODIFIED:20240813T203320Z
UID:10005362-1707210000-1707224400@www.tcotc.com
SUMMARY:Obedience Classes
DESCRIPTION:9:30 a.m.\, 10:45 a.m.\, 12:00 p.m.  Classes are offered in six-week sessions.
URL:https://www.tcotc.com/event/obedience-classes-29/2024-02-06/
LOCATION:Ring Room and Star Room
CATEGORIES:Obedience
END:VEVENT
BEGIN:VEVENT
DTSTART;TZID=America/Chicago:20240205T173000
DTEND;TZID=America/Chicago:20240205T213000
DTSTAMP:20260421T224829
CREATED:20230809T204342Z
LAST-MODIFIED:20241119T180345Z
UID:10005270-1707154200-1707168600@www.tcotc.com
SUMMARY:Obedience Classes
DESCRIPTION:5:45 p.m.\, 7:00 p.m.\, 8:15 p.m.\nRing Room and Star Room
URL:https://www.tcotc.com/event/obedience-classes-35/2024-02-05/
LOCATION:Ring Room and Star Room
CATEGORIES:Obedience
END:VEVENT
BEGIN:VEVENT
DTSTART;TZID=America/Chicago:20240201T173000
DTEND;TZID=America/Chicago:20240201T213000
DTSTAMP:20260421T224829
CREATED:20241119T180230Z
LAST-MODIFIED:20260123T205523Z
UID:10013305-1706808600-1706823000@www.tcotc.com
SUMMARY:Obedience Classes
DESCRIPTION:5:30 pm – 9:30 pm – Ring Room and Star Room
URL:https://www.tcotc.com/event/obedience-classes-4/2024-02-01/
LOCATION:Ring Room and Star Room
CATEGORIES:Obedience
END:VEVENT
BEGIN:VEVENT
DTSTART;TZID=America/Chicago:20240201T173000
DTEND;TZID=America/Chicago:20240201T213000
DTSTAMP:20260421T224829
CREATED:20230809T203810Z
LAST-MODIFIED:20231229T160132Z
UID:10005935-1706808600-1706823000@www.tcotc.com
SUMMARY:Obedience Classes
DESCRIPTION:5:45 p.m.\, 7:00 p.m. and 8:15 p.m.\nRing Room and Star Room
URL:https://www.tcotc.com/event/obedience-classes-33/2024-02-01/
LOCATION:Ring Room and Star Room
CATEGORIES:Obedience
END:VEVENT
BEGIN:VEVENT
DTSTART;TZID=America/Chicago:20240131T173000
DTEND;TZID=America/Chicago:20240131T213000
DTSTAMP:20260421T224829
CREATED:20241119T164634Z
LAST-MODIFIED:20260205T192024Z
UID:10014751-1706722200-1706736600@www.tcotc.com
SUMMARY:Obedience Classes
DESCRIPTION:Ring Room and Star Room
URL:https://www.tcotc.com/event/obedience-classes-3/2024-01-31/
LOCATION:Ring Room and Star Room
CATEGORIES:Obedience
END:VEVENT
BEGIN:VEVENT
DTSTART;TZID=America/Chicago:20240131T173000
DTEND;TZID=America/Chicago:20240131T213000
DTSTAMP:20260421T224829
CREATED:20230809T203447Z
LAST-MODIFIED:20240813T200719Z
UID:10000221-1706722200-1706736600@www.tcotc.com
SUMMARY:Obedience Classes
DESCRIPTION:5:45 p.m.\, 7:00 p.m.\, and 8:15 p.m.\nRing Room and Star Room
URL:https://www.tcotc.com/event/obedience-classes-31/2024-01-31/
LOCATION:Ring Room and Star Room
CATEGORIES:Obedience
END:VEVENT
BEGIN:VEVENT
DTSTART;TZID=America/Chicago:20240130T090000
DTEND;TZID=America/Chicago:20240130T130000
DTSTAMP:20260421T224829
CREATED:20230809T202952Z
LAST-MODIFIED:20240813T203320Z
UID:10000057-1706605200-1706619600@www.tcotc.com
SUMMARY:Obedience Classes
DESCRIPTION:9:30 a.m.\, 10:45 a.m.\, 12:00 p.m.  Classes are offered in six-week sessions.
URL:https://www.tcotc.com/event/obedience-classes-29/2024-01-30/
LOCATION:Ring Room and Star Room
CATEGORIES:Obedience
END:VEVENT
BEGIN:VEVENT
DTSTART;TZID=America/Chicago:20240129T173000
DTEND;TZID=America/Chicago:20240129T213000
DTSTAMP:20260421T224829
CREATED:20230809T204342Z
LAST-MODIFIED:20241119T180345Z
UID:10000274-1706549400-1706563800@www.tcotc.com
SUMMARY:Obedience Classes
DESCRIPTION:5:45 p.m.\, 7:00 p.m.\, 8:15 p.m.\nRing Room and Star Room
URL:https://www.tcotc.com/event/obedience-classes-35/2024-01-29/
LOCATION:Ring Room and Star Room
CATEGORIES:Obedience
END:VEVENT
BEGIN:VEVENT
DTSTART;TZID=America/Chicago:20240125T173000
DTEND;TZID=America/Chicago:20240125T213000
DTSTAMP:20260421T224829
CREATED:20241119T180230Z
LAST-MODIFIED:20260123T205523Z
UID:10013304-1706203800-1706218200@www.tcotc.com
SUMMARY:Obedience Classes
DESCRIPTION:5:30 pm – 9:30 pm – Ring Room and Star Room
URL:https://www.tcotc.com/event/obedience-classes-4/2024-01-25/
LOCATION:Ring Room and Star Room
CATEGORIES:Obedience
END:VEVENT
BEGIN:VEVENT
DTSTART;TZID=America/Chicago:20240125T173000
DTEND;TZID=America/Chicago:20240125T213000
DTSTAMP:20260421T224829
CREATED:20230809T203810Z
LAST-MODIFIED:20231229T160132Z
UID:10000166-1706203800-1706218200@www.tcotc.com
SUMMARY:Obedience Classes
DESCRIPTION:5:45 p.m.\, 7:00 p.m. and 8:15 p.m.\nRing Room and Star Room
URL:https://www.tcotc.com/event/obedience-classes-33/2024-01-25/
LOCATION:Ring Room and Star Room
CATEGORIES:Obedience
END:VEVENT
BEGIN:VEVENT
DTSTART;TZID=America/Chicago:20240124T173000
DTEND;TZID=America/Chicago:20240124T213000
DTSTAMP:20260421T224829
CREATED:20241119T164634Z
LAST-MODIFIED:20260205T192024Z
UID:10014750-1706117400-1706131800@www.tcotc.com
SUMMARY:Obedience Classes
DESCRIPTION:Ring Room and Star Room
URL:https://www.tcotc.com/event/obedience-classes-3/2024-01-24/
LOCATION:Ring Room and Star Room
CATEGORIES:Obedience
END:VEVENT
BEGIN:VEVENT
DTSTART;TZID=America/Chicago:20240124T173000
DTEND;TZID=America/Chicago:20240124T213000
DTSTAMP:20260421T224829
CREATED:20230809T203447Z
LAST-MODIFIED:20240813T200719Z
UID:10000220-1706117400-1706131800@www.tcotc.com
SUMMARY:Obedience Classes
DESCRIPTION:5:45 p.m.\, 7:00 p.m.\, and 8:15 p.m.\nRing Room and Star Room
URL:https://www.tcotc.com/event/obedience-classes-31/2024-01-24/
LOCATION:Ring Room and Star Room
CATEGORIES:Obedience
END:VEVENT
BEGIN:VEVENT
DTSTART;TZID=America/Chicago:20240123T090000
DTEND;TZID=America/Chicago:20240123T130000
DTSTAMP:20260421T224829
CREATED:20230809T202952Z
LAST-MODIFIED:20240813T203320Z
UID:10000056-1706000400-1706014800@www.tcotc.com
SUMMARY:Obedience Classes
DESCRIPTION:9:30 a.m.\, 10:45 a.m.\, 12:00 p.m.  Classes are offered in six-week sessions.
URL:https://www.tcotc.com/event/obedience-classes-29/2024-01-23/
LOCATION:Ring Room and Star Room
CATEGORIES:Obedience
END:VEVENT
BEGIN:VEVENT
DTSTART;TZID=America/Chicago:20240122T173000
DTEND;TZID=America/Chicago:20240122T213000
DTSTAMP:20260421T224829
CREATED:20230809T204342Z
LAST-MODIFIED:20241119T180345Z
UID:10000273-1705944600-1705959000@www.tcotc.com
SUMMARY:Obedience Classes
DESCRIPTION:5:45 p.m.\, 7:00 p.m.\, 8:15 p.m.\nRing Room and Star Room
URL:https://www.tcotc.com/event/obedience-classes-35/2024-01-22/
LOCATION:Ring Room and Star Room
CATEGORIES:Obedience
END:VEVENT
BEGIN:VEVENT
DTSTART;TZID=America/Chicago:20240118T173000
DTEND;TZID=America/Chicago:20240118T213000
DTSTAMP:20260421T224829
CREATED:20241119T180230Z
LAST-MODIFIED:20260123T205523Z
UID:10013303-1705599000-1705613400@www.tcotc.com
SUMMARY:Obedience Classes
DESCRIPTION:5:30 pm – 9:30 pm – Ring Room and Star Room
URL:https://www.tcotc.com/event/obedience-classes-4/2024-01-18/
LOCATION:Ring Room and Star Room
CATEGORIES:Obedience
END:VEVENT
BEGIN:VEVENT
DTSTART;TZID=America/Chicago:20240118T173000
DTEND;TZID=America/Chicago:20240118T213000
DTSTAMP:20260421T224829
CREATED:20230809T203810Z
LAST-MODIFIED:20231229T160132Z
UID:10000165-1705599000-1705613400@www.tcotc.com
SUMMARY:Obedience Classes
DESCRIPTION:5:45 p.m.\, 7:00 p.m. and 8:15 p.m.\nRing Room and Star Room
URL:https://www.tcotc.com/event/obedience-classes-33/2024-01-18/
LOCATION:Ring Room and Star Room
CATEGORIES:Obedience
END:VEVENT
BEGIN:VEVENT
DTSTART;TZID=America/Chicago:20240117T173000
DTEND;TZID=America/Chicago:20240117T213000
DTSTAMP:20260421T224829
CREATED:20241119T164634Z
LAST-MODIFIED:20260205T192024Z
UID:10014926-1705512600-1705527000@www.tcotc.com
SUMMARY:Obedience Classes
DESCRIPTION:Ring Room and Star Room
URL:https://www.tcotc.com/event/obedience-classes-3/2024-01-17/
LOCATION:Ring Room and Star Room
CATEGORIES:Obedience
END:VEVENT
BEGIN:VEVENT
DTSTART;TZID=America/Chicago:20240117T173000
DTEND;TZID=America/Chicago:20240117T213000
DTSTAMP:20260421T224829
CREATED:20230809T203447Z
LAST-MODIFIED:20240813T200719Z
UID:10000219-1705512600-1705527000@www.tcotc.com
SUMMARY:Obedience Classes
DESCRIPTION:5:45 p.m.\, 7:00 p.m.\, and 8:15 p.m.\nRing Room and Star Room
URL:https://www.tcotc.com/event/obedience-classes-31/2024-01-17/
LOCATION:Ring Room and Star Room
CATEGORIES:Obedience
END:VEVENT
BEGIN:VEVENT
DTSTART;TZID=America/Chicago:20240116T090000
DTEND;TZID=America/Chicago:20240116T130000
DTSTAMP:20260421T224829
CREATED:20230809T202952Z
LAST-MODIFIED:20240813T203320Z
UID:10000055-1705395600-1705410000@www.tcotc.com
SUMMARY:Obedience Classes
DESCRIPTION:9:30 a.m.\, 10:45 a.m.\, 12:00 p.m.  Classes are offered in six-week sessions.
URL:https://www.tcotc.com/event/obedience-classes-29/2024-01-16/
LOCATION:Ring Room and Star Room
CATEGORIES:Obedience
END:VEVENT
BEGIN:VEVENT
DTSTART;TZID=America/Chicago:20240115T173000
DTEND;TZID=America/Chicago:20240115T213000
DTSTAMP:20260421T224829
CREATED:20230809T204342Z
LAST-MODIFIED:20241119T180345Z
UID:10000272-1705339800-1705354200@www.tcotc.com
SUMMARY:Obedience Classes
DESCRIPTION:5:45 p.m.\, 7:00 p.m.\, 8:15 p.m.\nRing Room and Star Room
URL:https://www.tcotc.com/event/obedience-classes-35/2024-01-15/
LOCATION:Ring Room and Star Room
CATEGORIES:Obedience
END:VEVENT
END:VCALENDAR