BEGIN:VCALENDAR
VERSION:2.0
PRODID:-//Twin Cities Obedience Training Club - ECPv6.15.13//NONSGML v1.0//EN
CALSCALE:GREGORIAN
METHOD:PUBLISH
X-WR-CALNAME:Twin Cities Obedience Training Club
X-ORIGINAL-URL:https://www.tcotc.com
X-WR-CALDESC:Events for Twin Cities Obedience Training Club
REFRESH-INTERVAL;VALUE=DURATION:PT1H
X-Robots-Tag:noindex
X-PUBLISHED-TTL:PT1H
BEGIN:VTIMEZONE
TZID:America/Chicago
BEGIN:DAYLIGHT
TZOFFSETFROM:-0600
TZOFFSETTO:-0500
TZNAME:CDT
DTSTART:20230312T080000
END:DAYLIGHT
BEGIN:STANDARD
TZOFFSETFROM:-0500
TZOFFSETTO:-0600
TZNAME:CST
DTSTART:20231105T070000
END:STANDARD
BEGIN:DAYLIGHT
TZOFFSETFROM:-0600
TZOFFSETTO:-0500
TZNAME:CDT
DTSTART:20240310T080000
END:DAYLIGHT
BEGIN:STANDARD
TZOFFSETFROM:-0500
TZOFFSETTO:-0600
TZNAME:CST
DTSTART:20241103T070000
END:STANDARD
BEGIN:DAYLIGHT
TZOFFSETFROM:-0600
TZOFFSETTO:-0500
TZNAME:CDT
DTSTART:20250309T080000
END:DAYLIGHT
BEGIN:STANDARD
TZOFFSETFROM:-0500
TZOFFSETTO:-0600
TZNAME:CST
DTSTART:20251102T070000
END:STANDARD
END:VTIMEZONE
BEGIN:VEVENT
DTSTART;TZID=America/Chicago:20240604T090000
DTEND;TZID=America/Chicago:20240604T130000
DTSTAMP:20260421T193235
CREATED:20230809T202952Z
LAST-MODIFIED:20240813T203320Z
UID:10005378-1717491600-1717506000@www.tcotc.com
SUMMARY:Obedience Classes
DESCRIPTION:9:30 a.m.\, 10:45 a.m.\, 12:00 p.m.  Classes are offered in six-week sessions.
URL:https://www.tcotc.com/event/obedience-classes-29/2024-06-04/
LOCATION:Ring Room and Star Room
CATEGORIES:Obedience
END:VEVENT
BEGIN:VEVENT
DTSTART;TZID=America/Chicago:20240604T090000
DTEND;TZID=America/Chicago:20240604T120000
DTSTAMP:20260421T193235
CREATED:20241119T163521Z
LAST-MODIFIED:20260106T141756Z
UID:10011160-1717491600-1717502400@www.tcotc.com
SUMMARY:Obedience Classes
DESCRIPTION:Meeting Room and Star Room
URL:https://www.tcotc.com/event/obedience-classes-2/2024-06-04/
LOCATION:Ring Room and Star Room
CATEGORIES:Obedience
END:VEVENT
BEGIN:VEVENT
DTSTART;TZID=America/Chicago:20240603T173000
DTEND;TZID=America/Chicago:20240603T213000
DTSTAMP:20260421T193235
CREATED:20230809T204342Z
LAST-MODIFIED:20241119T180345Z
UID:10005285-1717435800-1717450200@www.tcotc.com
SUMMARY:Obedience Classes
DESCRIPTION:5:45 p.m.\, 7:00 p.m.\, 8:15 p.m.\nRing Room and Star Room
URL:https://www.tcotc.com/event/obedience-classes-35/2024-06-03/
LOCATION:Ring Room and Star Room
CATEGORIES:Obedience
END:VEVENT
BEGIN:VEVENT
DTSTART;TZID=America/Chicago:20240530T173000
DTEND;TZID=America/Chicago:20240530T213000
DTSTAMP:20260421T193235
CREATED:20241119T180230Z
LAST-MODIFIED:20260123T205523Z
UID:10012310-1717090200-1717104600@www.tcotc.com
SUMMARY:Obedience Classes
DESCRIPTION:5:30 pm – 9:30 pm – Ring Room and Star Room
URL:https://www.tcotc.com/event/obedience-classes-4/2024-05-30/
LOCATION:Ring Room and Star Room
CATEGORIES:Obedience
END:VEVENT
BEGIN:VEVENT
DTSTART;TZID=America/Chicago:20240530T173000
DTEND;TZID=America/Chicago:20240530T213000
DTSTAMP:20260421T193235
CREATED:20230809T203810Z
LAST-MODIFIED:20231229T160132Z
UID:10005951-1717090200-1717104600@www.tcotc.com
SUMMARY:Obedience Classes
DESCRIPTION:5:45 p.m.\, 7:00 p.m. and 8:15 p.m.\nRing Room and Star Room
URL:https://www.tcotc.com/event/obedience-classes-33/2024-05-30/
LOCATION:Ring Room and Star Room
CATEGORIES:Obedience
END:VEVENT
BEGIN:VEVENT
DTSTART;TZID=America/Chicago:20240529T173000
DTEND;TZID=America/Chicago:20240529T213000
DTSTAMP:20260421T193235
CREATED:20241119T164634Z
LAST-MODIFIED:20260205T192024Z
UID:10014768-1717003800-1717018200@www.tcotc.com
SUMMARY:Obedience Classes
DESCRIPTION:Ring Room and Star Room
URL:https://www.tcotc.com/event/obedience-classes-3/2024-05-29/
LOCATION:Ring Room and Star Room
CATEGORIES:Obedience
END:VEVENT
BEGIN:VEVENT
DTSTART;TZID=America/Chicago:20240528T090000
DTEND;TZID=America/Chicago:20240528T130000
DTSTAMP:20260421T193235
CREATED:20230809T202952Z
LAST-MODIFIED:20240813T203320Z
UID:10005377-1716886800-1716901200@www.tcotc.com
SUMMARY:Obedience Classes
DESCRIPTION:9:30 a.m.\, 10:45 a.m.\, 12:00 p.m.  Classes are offered in six-week sessions.
URL:https://www.tcotc.com/event/obedience-classes-29/2024-05-28/
LOCATION:Ring Room and Star Room
CATEGORIES:Obedience
END:VEVENT
BEGIN:VEVENT
DTSTART;TZID=America/Chicago:20240528T090000
DTEND;TZID=America/Chicago:20240528T120000
DTSTAMP:20260421T193235
CREATED:20241119T163521Z
LAST-MODIFIED:20260106T141756Z
UID:10011159-1716886800-1716897600@www.tcotc.com
SUMMARY:Obedience Classes
DESCRIPTION:Meeting Room and Star Room
URL:https://www.tcotc.com/event/obedience-classes-2/2024-05-28/
LOCATION:Ring Room and Star Room
CATEGORIES:Obedience
END:VEVENT
BEGIN:VEVENT
DTSTART;TZID=America/Chicago:20240523T173000
DTEND;TZID=America/Chicago:20240523T213000
DTSTAMP:20260421T193235
CREATED:20241119T180230Z
LAST-MODIFIED:20260123T205523Z
UID:10012309-1716485400-1716499800@www.tcotc.com
SUMMARY:Obedience Classes
DESCRIPTION:5:30 pm – 9:30 pm – Ring Room and Star Room
URL:https://www.tcotc.com/event/obedience-classes-4/2024-05-23/
LOCATION:Ring Room and Star Room
CATEGORIES:Obedience
END:VEVENT
BEGIN:VEVENT
DTSTART;TZID=America/Chicago:20240523T173000
DTEND;TZID=America/Chicago:20240523T213000
DTSTAMP:20260421T193235
CREATED:20230809T203810Z
LAST-MODIFIED:20231229T160132Z
UID:10005950-1716485400-1716499800@www.tcotc.com
SUMMARY:Obedience Classes
DESCRIPTION:5:45 p.m.\, 7:00 p.m. and 8:15 p.m.\nRing Room and Star Room
URL:https://www.tcotc.com/event/obedience-classes-33/2024-05-23/
LOCATION:Ring Room and Star Room
CATEGORIES:Obedience
END:VEVENT
BEGIN:VEVENT
DTSTART;TZID=America/Chicago:20240522T173000
DTEND;TZID=America/Chicago:20240522T213000
DTSTAMP:20260421T193235
CREATED:20241119T164634Z
LAST-MODIFIED:20260205T192024Z
UID:10014767-1716399000-1716413400@www.tcotc.com
SUMMARY:Obedience Classes
DESCRIPTION:Ring Room and Star Room
URL:https://www.tcotc.com/event/obedience-classes-3/2024-05-22/
LOCATION:Ring Room and Star Room
CATEGORIES:Obedience
END:VEVENT
BEGIN:VEVENT
DTSTART;TZID=America/Chicago:20240522T173000
DTEND;TZID=America/Chicago:20240522T213000
DTSTAMP:20260421T193235
CREATED:20230809T203447Z
LAST-MODIFIED:20240813T200719Z
UID:10005764-1716399000-1716413400@www.tcotc.com
SUMMARY:Obedience Classes
DESCRIPTION:5:45 p.m.\, 7:00 p.m.\, and 8:15 p.m.\nRing Room and Star Room
URL:https://www.tcotc.com/event/obedience-classes-31/2024-05-22/
LOCATION:Ring Room and Star Room
CATEGORIES:Obedience
END:VEVENT
BEGIN:VEVENT
DTSTART;TZID=America/Chicago:20240521T090000
DTEND;TZID=America/Chicago:20240521T130000
DTSTAMP:20260421T193235
CREATED:20230809T202952Z
LAST-MODIFIED:20240813T203320Z
UID:10005376-1716282000-1716296400@www.tcotc.com
SUMMARY:Obedience Classes
DESCRIPTION:9:30 a.m.\, 10:45 a.m.\, 12:00 p.m.  Classes are offered in six-week sessions.
URL:https://www.tcotc.com/event/obedience-classes-29/2024-05-21/
LOCATION:Ring Room and Star Room
CATEGORIES:Obedience
END:VEVENT
BEGIN:VEVENT
DTSTART;TZID=America/Chicago:20240521T090000
DTEND;TZID=America/Chicago:20240521T120000
DTSTAMP:20260421T193235
CREATED:20241119T163521Z
LAST-MODIFIED:20260106T141756Z
UID:10011158-1716282000-1716292800@www.tcotc.com
SUMMARY:Obedience Classes
DESCRIPTION:Meeting Room and Star Room
URL:https://www.tcotc.com/event/obedience-classes-2/2024-05-21/
LOCATION:Ring Room and Star Room
CATEGORIES:Obedience
END:VEVENT
BEGIN:VEVENT
DTSTART;TZID=America/Chicago:20240520T173000
DTEND;TZID=America/Chicago:20240520T213000
DTSTAMP:20260421T193235
CREATED:20230809T204342Z
LAST-MODIFIED:20241119T180345Z
UID:10005284-1716226200-1716240600@www.tcotc.com
SUMMARY:Obedience Classes
DESCRIPTION:5:45 p.m.\, 7:00 p.m.\, 8:15 p.m.\nRing Room and Star Room
URL:https://www.tcotc.com/event/obedience-classes-35/2024-05-20/
LOCATION:Ring Room and Star Room
CATEGORIES:Obedience
END:VEVENT
BEGIN:VEVENT
DTSTART;TZID=America/Chicago:20240516T173000
DTEND;TZID=America/Chicago:20240516T213000
DTSTAMP:20260421T193235
CREATED:20241119T180230Z
LAST-MODIFIED:20260123T205523Z
UID:10012308-1715880600-1715895000@www.tcotc.com
SUMMARY:Obedience Classes
DESCRIPTION:5:30 pm – 9:30 pm – Ring Room and Star Room
URL:https://www.tcotc.com/event/obedience-classes-4/2024-05-16/
LOCATION:Ring Room and Star Room
CATEGORIES:Obedience
END:VEVENT
BEGIN:VEVENT
DTSTART;TZID=America/Chicago:20240516T173000
DTEND;TZID=America/Chicago:20240516T213000
DTSTAMP:20260421T193235
CREATED:20230809T203810Z
LAST-MODIFIED:20231229T160132Z
UID:10005949-1715880600-1715895000@www.tcotc.com
SUMMARY:Obedience Classes
DESCRIPTION:5:45 p.m.\, 7:00 p.m. and 8:15 p.m.\nRing Room and Star Room
URL:https://www.tcotc.com/event/obedience-classes-33/2024-05-16/
LOCATION:Ring Room and Star Room
CATEGORIES:Obedience
END:VEVENT
BEGIN:VEVENT
DTSTART;TZID=America/Chicago:20240515T173000
DTEND;TZID=America/Chicago:20240515T213000
DTSTAMP:20260421T193235
CREATED:20241119T164634Z
LAST-MODIFIED:20260205T192024Z
UID:10014766-1715794200-1715808600@www.tcotc.com
SUMMARY:Obedience Classes
DESCRIPTION:Ring Room and Star Room
URL:https://www.tcotc.com/event/obedience-classes-3/2024-05-15/
LOCATION:Ring Room and Star Room
CATEGORIES:Obedience
END:VEVENT
BEGIN:VEVENT
DTSTART;TZID=America/Chicago:20240515T173000
DTEND;TZID=America/Chicago:20240515T213000
DTSTAMP:20260421T193235
CREATED:20230809T203447Z
LAST-MODIFIED:20240813T200719Z
UID:10005763-1715794200-1715808600@www.tcotc.com
SUMMARY:Obedience Classes
DESCRIPTION:5:45 p.m.\, 7:00 p.m.\, and 8:15 p.m.\nRing Room and Star Room
URL:https://www.tcotc.com/event/obedience-classes-31/2024-05-15/
LOCATION:Ring Room and Star Room
CATEGORIES:Obedience
END:VEVENT
BEGIN:VEVENT
DTSTART;TZID=America/Chicago:20240514T090000
DTEND;TZID=America/Chicago:20240514T130000
DTSTAMP:20260421T193235
CREATED:20230809T202952Z
LAST-MODIFIED:20240813T203320Z
UID:10005375-1715677200-1715691600@www.tcotc.com
SUMMARY:Obedience Classes
DESCRIPTION:9:30 a.m.\, 10:45 a.m.\, 12:00 p.m.  Classes are offered in six-week sessions.
URL:https://www.tcotc.com/event/obedience-classes-29/2024-05-14/
LOCATION:Ring Room and Star Room
CATEGORIES:Obedience
END:VEVENT
BEGIN:VEVENT
DTSTART;TZID=America/Chicago:20240514T090000
DTEND;TZID=America/Chicago:20240514T120000
DTSTAMP:20260421T193235
CREATED:20241119T163521Z
LAST-MODIFIED:20260106T141756Z
UID:10011157-1715677200-1715688000@www.tcotc.com
SUMMARY:Obedience Classes
DESCRIPTION:Meeting Room and Star Room
URL:https://www.tcotc.com/event/obedience-classes-2/2024-05-14/
LOCATION:Ring Room and Star Room
CATEGORIES:Obedience
END:VEVENT
BEGIN:VEVENT
DTSTART;TZID=America/Chicago:20240513T173000
DTEND;TZID=America/Chicago:20240513T213000
DTSTAMP:20260421T193235
CREATED:20230809T204342Z
LAST-MODIFIED:20241119T180345Z
UID:10005283-1715621400-1715635800@www.tcotc.com
SUMMARY:Obedience Classes
DESCRIPTION:5:45 p.m.\, 7:00 p.m.\, 8:15 p.m.\nRing Room and Star Room
URL:https://www.tcotc.com/event/obedience-classes-35/2024-05-13/
LOCATION:Ring Room and Star Room
CATEGORIES:Obedience
END:VEVENT
BEGIN:VEVENT
DTSTART;TZID=America/Chicago:20240509T173000
DTEND;TZID=America/Chicago:20240509T213000
DTSTAMP:20260421T193235
CREATED:20241119T180230Z
LAST-MODIFIED:20260123T205523Z
UID:10012307-1715275800-1715290200@www.tcotc.com
SUMMARY:Obedience Classes
DESCRIPTION:5:30 pm – 9:30 pm – Ring Room and Star Room
URL:https://www.tcotc.com/event/obedience-classes-4/2024-05-09/
LOCATION:Ring Room and Star Room
CATEGORIES:Obedience
END:VEVENT
BEGIN:VEVENT
DTSTART;TZID=America/Chicago:20240509T173000
DTEND;TZID=America/Chicago:20240509T213000
DTSTAMP:20260421T193235
CREATED:20230809T203810Z
LAST-MODIFIED:20231229T160132Z
UID:10005948-1715275800-1715290200@www.tcotc.com
SUMMARY:Obedience Classes
DESCRIPTION:5:45 p.m.\, 7:00 p.m. and 8:15 p.m.\nRing Room and Star Room
URL:https://www.tcotc.com/event/obedience-classes-33/2024-05-09/
LOCATION:Ring Room and Star Room
CATEGORIES:Obedience
END:VEVENT
BEGIN:VEVENT
DTSTART;TZID=America/Chicago:20240508T173000
DTEND;TZID=America/Chicago:20240508T213000
DTSTAMP:20260421T193235
CREATED:20241119T164634Z
LAST-MODIFIED:20260205T192024Z
UID:10014765-1715189400-1715203800@www.tcotc.com
SUMMARY:Obedience Classes
DESCRIPTION:Ring Room and Star Room
URL:https://www.tcotc.com/event/obedience-classes-3/2024-05-08/
LOCATION:Ring Room and Star Room
CATEGORIES:Obedience
END:VEVENT
BEGIN:VEVENT
DTSTART;TZID=America/Chicago:20240508T173000
DTEND;TZID=America/Chicago:20240508T213000
DTSTAMP:20260421T193235
CREATED:20230809T203447Z
LAST-MODIFIED:20240813T200719Z
UID:10005762-1715189400-1715203800@www.tcotc.com
SUMMARY:Obedience Classes
DESCRIPTION:5:45 p.m.\, 7:00 p.m.\, and 8:15 p.m.\nRing Room and Star Room
URL:https://www.tcotc.com/event/obedience-classes-31/2024-05-08/
LOCATION:Ring Room and Star Room
CATEGORIES:Obedience
END:VEVENT
BEGIN:VEVENT
DTSTART;TZID=America/Chicago:20240507T090000
DTEND;TZID=America/Chicago:20240507T130000
DTSTAMP:20260421T193235
CREATED:20230809T202952Z
LAST-MODIFIED:20240813T203320Z
UID:10005374-1715072400-1715086800@www.tcotc.com
SUMMARY:Obedience Classes
DESCRIPTION:9:30 a.m.\, 10:45 a.m.\, 12:00 p.m.  Classes are offered in six-week sessions.
URL:https://www.tcotc.com/event/obedience-classes-29/2024-05-07/
LOCATION:Ring Room and Star Room
CATEGORIES:Obedience
END:VEVENT
BEGIN:VEVENT
DTSTART;TZID=America/Chicago:20240507T090000
DTEND;TZID=America/Chicago:20240507T120000
DTSTAMP:20260421T193235
CREATED:20241119T163521Z
LAST-MODIFIED:20260106T141756Z
UID:10011156-1715072400-1715083200@www.tcotc.com
SUMMARY:Obedience Classes
DESCRIPTION:Meeting Room and Star Room
URL:https://www.tcotc.com/event/obedience-classes-2/2024-05-07/
LOCATION:Ring Room and Star Room
CATEGORIES:Obedience
END:VEVENT
BEGIN:VEVENT
DTSTART;TZID=America/Chicago:20240506T173000
DTEND;TZID=America/Chicago:20240506T213000
DTSTAMP:20260421T193235
CREATED:20230809T204342Z
LAST-MODIFIED:20241119T180345Z
UID:10005282-1715016600-1715031000@www.tcotc.com
SUMMARY:Obedience Classes
DESCRIPTION:5:45 p.m.\, 7:00 p.m.\, 8:15 p.m.\nRing Room and Star Room
URL:https://www.tcotc.com/event/obedience-classes-35/2024-05-06/
LOCATION:Ring Room and Star Room
CATEGORIES:Obedience
END:VEVENT
BEGIN:VEVENT
DTSTART;TZID=America/Chicago:20240502T173000
DTEND;TZID=America/Chicago:20240502T213000
DTSTAMP:20260421T193235
CREATED:20241119T180230Z
LAST-MODIFIED:20260123T205523Z
UID:10012306-1714671000-1714685400@www.tcotc.com
SUMMARY:Obedience Classes
DESCRIPTION:5:30 pm – 9:30 pm – Ring Room and Star Room
URL:https://www.tcotc.com/event/obedience-classes-4/2024-05-02/
LOCATION:Ring Room and Star Room
CATEGORIES:Obedience
END:VEVENT
END:VCALENDAR