BEGIN:VCALENDAR
VERSION:2.0
PRODID:-//Twin Cities Obedience Training Club - ECPv6.15.13//NONSGML v1.0//EN
CALSCALE:GREGORIAN
METHOD:PUBLISH
X-WR-CALNAME:Twin Cities Obedience Training Club
X-ORIGINAL-URL:https://www.tcotc.com
X-WR-CALDESC:Events for Twin Cities Obedience Training Club
REFRESH-INTERVAL;VALUE=DURATION:PT1H
X-Robots-Tag:noindex
X-PUBLISHED-TTL:PT1H
BEGIN:VTIMEZONE
TZID:America/Chicago
BEGIN:DAYLIGHT
TZOFFSETFROM:-0600
TZOFFSETTO:-0500
TZNAME:CDT
DTSTART:20250309T080000
END:DAYLIGHT
BEGIN:STANDARD
TZOFFSETFROM:-0500
TZOFFSETTO:-0600
TZNAME:CST
DTSTART:20251102T070000
END:STANDARD
BEGIN:DAYLIGHT
TZOFFSETFROM:-0600
TZOFFSETTO:-0500
TZNAME:CDT
DTSTART:20260308T080000
END:DAYLIGHT
BEGIN:STANDARD
TZOFFSETFROM:-0500
TZOFFSETTO:-0600
TZNAME:CST
DTSTART:20261101T070000
END:STANDARD
BEGIN:DAYLIGHT
TZOFFSETFROM:-0600
TZOFFSETTO:-0500
TZNAME:CDT
DTSTART:20270314T080000
END:DAYLIGHT
BEGIN:STANDARD
TZOFFSETFROM:-0500
TZOFFSETTO:-0600
TZNAME:CST
DTSTART:20271107T070000
END:STANDARD
BEGIN:DAYLIGHT
TZOFFSETFROM:-0600
TZOFFSETTO:-0500
TZNAME:CDT
DTSTART:20280312T080000
END:DAYLIGHT
BEGIN:STANDARD
TZOFFSETFROM:-0500
TZOFFSETTO:-0600
TZNAME:CST
DTSTART:20281105T070000
END:STANDARD
END:VTIMEZONE
BEGIN:VEVENT
DTSTART;TZID=America/Chicago:20261222T133000
DTEND;TZID=America/Chicago:20261222T213000
DTSTAMP:20260419T071316
CREATED:20241119T193615Z
LAST-MODIFIED:20251218T211433Z
UID:10010621-1797946200-1797975000@www.tcotc.com
SUMMARY:Agility Classes
DESCRIPTION:
URL:https://www.tcotc.com/event/agility-classes-4/2026-12-22/
LOCATION:Annex
CATEGORIES:Agility
END:VEVENT
BEGIN:VEVENT
DTSTART;TZID=America/Chicago:20261224T150000
DTEND;TZID=America/Chicago:20261224T173000
DTSTAMP:20260419T071316
CREATED:20240213T211645Z
LAST-MODIFIED:20260123T203755Z
UID:10006365-1798124400-1798133400@www.tcotc.com
SUMMARY:Agility for Fun classes
DESCRIPTION:3:00 to 4:00 p.m. and 4:15 p.m. to 5:15 p.m.
URL:https://www.tcotc.com/event/agility-for-fun-classes/2026-12-24/
LOCATION:Annex
CATEGORIES:Agility
END:VEVENT
BEGIN:VEVENT
DTSTART;TZID=America/Chicago:20261224T173000
DTEND;TZID=America/Chicago:20261224T213000
DTSTAMP:20260419T071316
CREATED:20241119T194942Z
LAST-MODIFIED:20260123T203945Z
UID:10008541-1798133400-1798147800@www.tcotc.com
SUMMARY:Agility Classes
DESCRIPTION:
URL:https://www.tcotc.com/event/agility-classes-7/2026-12-24/
LOCATION:Annex
CATEGORIES:Agility
END:VEVENT
BEGIN:VEVENT
DTSTART;TZID=America/Chicago:20261228T173000
DTEND;TZID=America/Chicago:20261228T213000
DTSTAMP:20260419T071316
CREATED:20241119T192531Z
LAST-MODIFIED:20251218T211137Z
UID:10010571-1798479000-1798493400@www.tcotc.com
SUMMARY:Agility Classes
DESCRIPTION:5:30 p.m. – 9:30 p.m. – Annex
URL:https://www.tcotc.com/event/agility-classes-2/2026-12-28/
LOCATION:Annex
CATEGORIES:Agility
END:VEVENT
BEGIN:VEVENT
DTSTART;TZID=America/Chicago:20261231T150000
DTEND;TZID=America/Chicago:20261231T173000
DTSTAMP:20260419T071316
CREATED:20240213T211645Z
LAST-MODIFIED:20260123T203755Z
UID:10006366-1798729200-1798738200@www.tcotc.com
SUMMARY:Agility for Fun classes
DESCRIPTION:3:00 to 4:00 p.m. and 4:15 p.m. to 5:15 p.m.
URL:https://www.tcotc.com/event/agility-for-fun-classes/2026-12-31/
LOCATION:Annex
CATEGORIES:Agility
END:VEVENT
BEGIN:VEVENT
DTSTART;TZID=America/Chicago:20261231T173000
DTEND;TZID=America/Chicago:20261231T213000
DTSTAMP:20260419T071316
CREATED:20241119T194942Z
LAST-MODIFIED:20260123T203945Z
UID:10008542-1798738200-1798752600@www.tcotc.com
SUMMARY:Agility Classes
DESCRIPTION:
URL:https://www.tcotc.com/event/agility-classes-7/2026-12-31/
LOCATION:Annex
CATEGORIES:Agility
END:VEVENT
BEGIN:VEVENT
DTSTART;TZID=America/Chicago:20270104T173000
DTEND;TZID=America/Chicago:20270104T213000
DTSTAMP:20260419T071316
CREATED:20241119T192531Z
LAST-MODIFIED:20251218T211137Z
UID:10010572-1799083800-1799098200@www.tcotc.com
SUMMARY:Agility Classes
DESCRIPTION:5:30 p.m. – 9:30 p.m. – Annex
URL:https://www.tcotc.com/event/agility-classes-2/2027-01-04/
LOCATION:Annex
CATEGORIES:Agility
END:VEVENT
BEGIN:VEVENT
DTSTART;TZID=America/Chicago:20270105T090000
DTEND;TZID=America/Chicago:20270105T123000
DTSTAMP:20260419T071316
CREATED:20241119T193218Z
LAST-MODIFIED:20260106T141843Z
UID:10007962-1799139600-1799152200@www.tcotc.com
SUMMARY:Agility Classes
DESCRIPTION:
URL:https://www.tcotc.com/event/agility-classes-3/2027-01-05/
LOCATION:Annex
CATEGORIES:Agility
END:VEVENT
BEGIN:VEVENT
DTSTART;TZID=America/Chicago:20270105T133000
DTEND;TZID=America/Chicago:20270105T213000
DTSTAMP:20260419T071316
CREATED:20241119T193615Z
LAST-MODIFIED:20251218T211433Z
UID:10010622-1799155800-1799184600@www.tcotc.com
SUMMARY:Agility Classes
DESCRIPTION:
URL:https://www.tcotc.com/event/agility-classes-4/2027-01-05/
LOCATION:Annex
CATEGORIES:Agility
END:VEVENT
BEGIN:VEVENT
DTSTART;TZID=America/Chicago:20270106T113000
DTEND;TZID=America/Chicago:20270106T150000
DTSTAMP:20260419T071316
CREATED:20241119T194155Z
LAST-MODIFIED:20251218T214644Z
UID:10008254-1799235000-1799247600@www.tcotc.com
SUMMARY:Agility Classes
DESCRIPTION:
URL:https://www.tcotc.com/event/agility-classes-5/2027-01-06/
LOCATION:Annex
CATEGORIES:Agility
END:VEVENT
BEGIN:VEVENT
DTSTART;TZID=America/Chicago:20270106T173000
DTEND;TZID=America/Chicago:20270106T213000
DTSTAMP:20260419T071316
CREATED:20241119T194515Z
LAST-MODIFIED:20251218T214801Z
UID:10010671-1799256600-1799271000@www.tcotc.com
SUMMARY:Agility Classes
DESCRIPTION:
URL:https://www.tcotc.com/event/agility-classes-6/2027-01-06/
LOCATION:Annex
CATEGORIES:Agility
END:VEVENT
BEGIN:VEVENT
DTSTART;TZID=America/Chicago:20270107T150000
DTEND;TZID=America/Chicago:20270107T173000
DTSTAMP:20260419T071316
CREATED:20240213T211645Z
LAST-MODIFIED:20260123T203755Z
UID:10006367-1799334000-1799343000@www.tcotc.com
SUMMARY:Agility for Fun classes
DESCRIPTION:3:00 to 4:00 p.m. and 4:15 p.m. to 5:15 p.m.
URL:https://www.tcotc.com/event/agility-for-fun-classes/2027-01-07/
LOCATION:Annex
CATEGORIES:Agility
END:VEVENT
BEGIN:VEVENT
DTSTART;TZID=America/Chicago:20270107T173000
DTEND;TZID=America/Chicago:20270107T213000
DTSTAMP:20260419T071316
CREATED:20241119T194942Z
LAST-MODIFIED:20260123T203945Z
UID:10008543-1799343000-1799357400@www.tcotc.com
SUMMARY:Agility Classes
DESCRIPTION:
URL:https://www.tcotc.com/event/agility-classes-7/2027-01-07/
LOCATION:Annex
CATEGORIES:Agility
END:VEVENT
BEGIN:VEVENT
DTSTART;TZID=America/Chicago:20270111T173000
DTEND;TZID=America/Chicago:20270111T213000
DTSTAMP:20260419T071316
CREATED:20241119T192531Z
LAST-MODIFIED:20251218T211137Z
UID:10010573-1799688600-1799703000@www.tcotc.com
SUMMARY:Agility Classes
DESCRIPTION:5:30 p.m. – 9:30 p.m. – Annex
URL:https://www.tcotc.com/event/agility-classes-2/2027-01-11/
LOCATION:Annex
CATEGORIES:Agility
END:VEVENT
BEGIN:VEVENT
DTSTART;TZID=America/Chicago:20270112T090000
DTEND;TZID=America/Chicago:20270112T123000
DTSTAMP:20260419T071316
CREATED:20241119T193218Z
LAST-MODIFIED:20260106T141843Z
UID:10007963-1799744400-1799757000@www.tcotc.com
SUMMARY:Agility Classes
DESCRIPTION:
URL:https://www.tcotc.com/event/agility-classes-3/2027-01-12/
LOCATION:Annex
CATEGORIES:Agility
END:VEVENT
BEGIN:VEVENT
DTSTART;TZID=America/Chicago:20270112T133000
DTEND;TZID=America/Chicago:20270112T213000
DTSTAMP:20260419T071316
CREATED:20241119T193615Z
LAST-MODIFIED:20251218T211433Z
UID:10010623-1799760600-1799789400@www.tcotc.com
SUMMARY:Agility Classes
DESCRIPTION:
URL:https://www.tcotc.com/event/agility-classes-4/2027-01-12/
LOCATION:Annex
CATEGORIES:Agility
END:VEVENT
BEGIN:VEVENT
DTSTART;TZID=America/Chicago:20270113T113000
DTEND;TZID=America/Chicago:20270113T150000
DTSTAMP:20260419T071316
CREATED:20241119T194155Z
LAST-MODIFIED:20251218T214644Z
UID:10008255-1799839800-1799852400@www.tcotc.com
SUMMARY:Agility Classes
DESCRIPTION:
URL:https://www.tcotc.com/event/agility-classes-5/2027-01-13/
LOCATION:Annex
CATEGORIES:Agility
END:VEVENT
BEGIN:VEVENT
DTSTART;TZID=America/Chicago:20270113T173000
DTEND;TZID=America/Chicago:20270113T213000
DTSTAMP:20260419T071316
CREATED:20241119T194515Z
LAST-MODIFIED:20251218T214801Z
UID:10010672-1799861400-1799875800@www.tcotc.com
SUMMARY:Agility Classes
DESCRIPTION:
URL:https://www.tcotc.com/event/agility-classes-6/2027-01-13/
LOCATION:Annex
CATEGORIES:Agility
END:VEVENT
BEGIN:VEVENT
DTSTART;TZID=America/Chicago:20270114T150000
DTEND;TZID=America/Chicago:20270114T173000
DTSTAMP:20260419T071316
CREATED:20240213T211645Z
LAST-MODIFIED:20260123T203755Z
UID:10006368-1799938800-1799947800@www.tcotc.com
SUMMARY:Agility for Fun classes
DESCRIPTION:3:00 to 4:00 p.m. and 4:15 p.m. to 5:15 p.m.
URL:https://www.tcotc.com/event/agility-for-fun-classes/2027-01-14/
LOCATION:Annex
CATEGORIES:Agility
END:VEVENT
BEGIN:VEVENT
DTSTART;TZID=America/Chicago:20270114T173000
DTEND;TZID=America/Chicago:20270114T213000
DTSTAMP:20260419T071316
CREATED:20241119T194942Z
LAST-MODIFIED:20260123T203945Z
UID:10008544-1799947800-1799962200@www.tcotc.com
SUMMARY:Agility Classes
DESCRIPTION:
URL:https://www.tcotc.com/event/agility-classes-7/2027-01-14/
LOCATION:Annex
CATEGORIES:Agility
END:VEVENT
BEGIN:VEVENT
DTSTART;TZID=America/Chicago:20270118T173000
DTEND;TZID=America/Chicago:20270118T213000
DTSTAMP:20260419T071316
CREATED:20241119T192531Z
LAST-MODIFIED:20251218T211137Z
UID:10010574-1800293400-1800307800@www.tcotc.com
SUMMARY:Agility Classes
DESCRIPTION:5:30 p.m. – 9:30 p.m. – Annex
URL:https://www.tcotc.com/event/agility-classes-2/2027-01-18/
LOCATION:Annex
CATEGORIES:Agility
END:VEVENT
BEGIN:VEVENT
DTSTART;TZID=America/Chicago:20270119T090000
DTEND;TZID=America/Chicago:20270119T123000
DTSTAMP:20260419T071316
CREATED:20241119T193218Z
LAST-MODIFIED:20260106T141843Z
UID:10007964-1800349200-1800361800@www.tcotc.com
SUMMARY:Agility Classes
DESCRIPTION:
URL:https://www.tcotc.com/event/agility-classes-3/2027-01-19/
LOCATION:Annex
CATEGORIES:Agility
END:VEVENT
BEGIN:VEVENT
DTSTART;TZID=America/Chicago:20270119T133000
DTEND;TZID=America/Chicago:20270119T213000
DTSTAMP:20260419T071316
CREATED:20241119T193615Z
LAST-MODIFIED:20251218T211433Z
UID:10010624-1800365400-1800394200@www.tcotc.com
SUMMARY:Agility Classes
DESCRIPTION:
URL:https://www.tcotc.com/event/agility-classes-4/2027-01-19/
LOCATION:Annex
CATEGORIES:Agility
END:VEVENT
BEGIN:VEVENT
DTSTART;TZID=America/Chicago:20270120T113000
DTEND;TZID=America/Chicago:20270120T150000
DTSTAMP:20260419T071316
CREATED:20241119T194155Z
LAST-MODIFIED:20251218T214644Z
UID:10008256-1800444600-1800457200@www.tcotc.com
SUMMARY:Agility Classes
DESCRIPTION:
URL:https://www.tcotc.com/event/agility-classes-5/2027-01-20/
LOCATION:Annex
CATEGORIES:Agility
END:VEVENT
BEGIN:VEVENT
DTSTART;TZID=America/Chicago:20270120T173000
DTEND;TZID=America/Chicago:20270120T213000
DTSTAMP:20260419T071316
CREATED:20241119T194515Z
LAST-MODIFIED:20251218T214801Z
UID:10010673-1800466200-1800480600@www.tcotc.com
SUMMARY:Agility Classes
DESCRIPTION:
URL:https://www.tcotc.com/event/agility-classes-6/2027-01-20/
LOCATION:Annex
CATEGORIES:Agility
END:VEVENT
BEGIN:VEVENT
DTSTART;TZID=America/Chicago:20270121T150000
DTEND;TZID=America/Chicago:20270121T173000
DTSTAMP:20260419T071316
CREATED:20240213T211645Z
LAST-MODIFIED:20260123T203755Z
UID:10006369-1800543600-1800552600@www.tcotc.com
SUMMARY:Agility for Fun classes
DESCRIPTION:3:00 to 4:00 p.m. and 4:15 p.m. to 5:15 p.m.
URL:https://www.tcotc.com/event/agility-for-fun-classes/2027-01-21/
LOCATION:Annex
CATEGORIES:Agility
END:VEVENT
BEGIN:VEVENT
DTSTART;TZID=America/Chicago:20270121T173000
DTEND;TZID=America/Chicago:20270121T213000
DTSTAMP:20260419T071316
CREATED:20241119T194942Z
LAST-MODIFIED:20260123T203945Z
UID:10008545-1800552600-1800567000@www.tcotc.com
SUMMARY:Agility Classes
DESCRIPTION:
URL:https://www.tcotc.com/event/agility-classes-7/2027-01-21/
LOCATION:Annex
CATEGORIES:Agility
END:VEVENT
BEGIN:VEVENT
DTSTART;TZID=America/Chicago:20270125T173000
DTEND;TZID=America/Chicago:20270125T213000
DTSTAMP:20260419T071316
CREATED:20241119T192531Z
LAST-MODIFIED:20251218T211137Z
UID:10010575-1800898200-1800912600@www.tcotc.com
SUMMARY:Agility Classes
DESCRIPTION:5:30 p.m. – 9:30 p.m. – Annex
URL:https://www.tcotc.com/event/agility-classes-2/2027-01-25/
LOCATION:Annex
CATEGORIES:Agility
END:VEVENT
BEGIN:VEVENT
DTSTART;TZID=America/Chicago:20270126T090000
DTEND;TZID=America/Chicago:20270126T123000
DTSTAMP:20260419T071316
CREATED:20241119T193218Z
LAST-MODIFIED:20260106T141843Z
UID:10007965-1800954000-1800966600@www.tcotc.com
SUMMARY:Agility Classes
DESCRIPTION:
URL:https://www.tcotc.com/event/agility-classes-3/2027-01-26/
LOCATION:Annex
CATEGORIES:Agility
END:VEVENT
BEGIN:VEVENT
DTSTART;TZID=America/Chicago:20270126T133000
DTEND;TZID=America/Chicago:20270126T213000
DTSTAMP:20260419T071316
CREATED:20241119T193615Z
LAST-MODIFIED:20251218T211433Z
UID:10010625-1800970200-1800999000@www.tcotc.com
SUMMARY:Agility Classes
DESCRIPTION:
URL:https://www.tcotc.com/event/agility-classes-4/2027-01-26/
LOCATION:Annex
CATEGORIES:Agility
END:VEVENT
END:VCALENDAR