BEGIN:VCALENDAR
VERSION:2.0
PRODID:-//Twin Cities Obedience Training Club - ECPv6.15.13//NONSGML v1.0//EN
CALSCALE:GREGORIAN
METHOD:PUBLISH
X-WR-CALNAME:Twin Cities Obedience Training Club
X-ORIGINAL-URL:https://www.tcotc.com
X-WR-CALDESC:Events for Twin Cities Obedience Training Club
REFRESH-INTERVAL;VALUE=DURATION:PT1H
X-Robots-Tag:noindex
X-PUBLISHED-TTL:PT1H
BEGIN:VTIMEZONE
TZID:America/Chicago
BEGIN:DAYLIGHT
TZOFFSETFROM:-0600
TZOFFSETTO:-0500
TZNAME:CDT
DTSTART:20240310T080000
END:DAYLIGHT
BEGIN:STANDARD
TZOFFSETFROM:-0500
TZOFFSETTO:-0600
TZNAME:CST
DTSTART:20241103T070000
END:STANDARD
BEGIN:DAYLIGHT
TZOFFSETFROM:-0600
TZOFFSETTO:-0500
TZNAME:CDT
DTSTART:20250309T080000
END:DAYLIGHT
BEGIN:STANDARD
TZOFFSETFROM:-0500
TZOFFSETTO:-0600
TZNAME:CST
DTSTART:20251102T070000
END:STANDARD
BEGIN:DAYLIGHT
TZOFFSETFROM:-0600
TZOFFSETTO:-0500
TZNAME:CDT
DTSTART:20260308T080000
END:DAYLIGHT
BEGIN:STANDARD
TZOFFSETFROM:-0500
TZOFFSETTO:-0600
TZNAME:CST
DTSTART:20261101T070000
END:STANDARD
END:VTIMEZONE
BEGIN:VEVENT
DTSTART;TZID=America/Chicago:20250109T100000
DTEND;TZID=America/Chicago:20250109T110000
DTSTAMP:20260422T004505
CREATED:20230810T011416Z
LAST-MODIFIED:20240813T201005Z
UID:10005839-1736416800-1736420400@www.tcotc.com
SUMMARY:Agility Class
DESCRIPTION:10:00 a.m. – Advanced
URL:https://www.tcotc.com/event/agility-class-11/2025-01-09/
CATEGORIES:Agility
END:VEVENT
BEGIN:VEVENT
DTSTART;TZID=America/Chicago:20250109T070000
DTEND;TZID=America/Chicago:20250109T170000
DTSTAMP:20260422T004505
CREATED:20230810T155658Z
LAST-MODIFIED:20240624T175359Z
UID:10006195-1736406000-1736442000@www.tcotc.com
SUMMARY:Camp K9
DESCRIPTION:Camp K9 @TCOTC is an individualized\, custom day-training program for dogs 5 months and older that combines training with enrichment activities to build your dog’s confidence and establish positive behaviors. To learn more\, visit the Camp K9 Web page.
URL:https://www.tcotc.com/event/camp-k9-5/2025-01-09/
LOCATION:Ring Rm\, Mtg Rm & Star Rm
CATEGORIES:Camp K9
END:VEVENT
BEGIN:VEVENT
DTSTART;TZID=America/Chicago:20250108T173000
DTEND;TZID=America/Chicago:20250108T213000
DTSTAMP:20260422T004505
CREATED:20241119T164634Z
LAST-MODIFIED:20260205T192024Z
UID:10014800-1736357400-1736371800@www.tcotc.com
SUMMARY:Obedience Classes
DESCRIPTION:Ring Room and Star Room
URL:https://www.tcotc.com/event/obedience-classes-3/2025-01-08/
LOCATION:Ring Room and Star Room
CATEGORIES:Obedience
END:VEVENT
BEGIN:VEVENT
DTSTART;TZID=America/Chicago:20250108T173000
DTEND;TZID=America/Chicago:20250108T213000
DTSTAMP:20260422T004505
CREATED:20230810T011239Z
LAST-MODIFIED:20231229T163524Z
UID:10005700-1736357400-1736371800@www.tcotc.com
SUMMARY:Agility Classes
DESCRIPTION:
URL:https://www.tcotc.com/event/agility-classes-32/2025-01-08/
LOCATION:Annex
CATEGORIES:Agility
END:VEVENT
BEGIN:VEVENT
DTSTART;TZID=America/Chicago:20250108T173000
DTEND;TZID=America/Chicago:20250108T213000
DTSTAMP:20260422T004505
CREATED:20230809T203447Z
LAST-MODIFIED:20240813T200719Z
UID:10005794-1736357400-1736371800@www.tcotc.com
SUMMARY:Obedience Classes
DESCRIPTION:5:45 p.m.\, 7:00 p.m.\, and 8:15 p.m.\nRing Room and Star Room
URL:https://www.tcotc.com/event/obedience-classes-31/2025-01-08/
LOCATION:Ring Room and Star Room
CATEGORIES:Obedience
END:VEVENT
BEGIN:VEVENT
DTSTART;TZID=America/Chicago:20250108T173000
DTEND;TZID=America/Chicago:20250108T193000
DTSTAMP:20260422T004505
CREATED:20230810T145347Z
LAST-MODIFIED:20240813T200814Z
UID:10005746-1736357400-1736364600@www.tcotc.com
SUMMARY:Puppy/Tweener Classes
DESCRIPTION:5:45 p.m.\, 7:00 p.m. – Meeting Room
URL:https://www.tcotc.com/event/puppy-tweener-classes/2025-01-08/
LOCATION:Meeting Room
CATEGORIES:Puppy/Tweener
END:VEVENT
BEGIN:VEVENT
DTSTART;TZID=America/Chicago:20250108T113000
DTEND;TZID=America/Chicago:20250108T150000
DTSTAMP:20260422T004505
CREATED:20230810T010353Z
LAST-MODIFIED:20231229T164100Z
UID:10005651-1736335800-1736348400@www.tcotc.com
SUMMARY:Agility Classes
DESCRIPTION:12:00 p.m. – Advanced \n1:45 p.m. – Beginner
URL:https://www.tcotc.com/event/agility-classes-28/2025-01-08/
LOCATION:Annex
CATEGORIES:Agility
END:VEVENT
BEGIN:VEVENT
DTSTART;TZID=America/Chicago:20250108T070000
DTEND;TZID=America/Chicago:20250108T170000
DTSTAMP:20260422T004505
CREATED:20230810T155310Z
LAST-MODIFIED:20231229T182844Z
UID:10006144-1736319600-1736355600@www.tcotc.com
SUMMARY:Camp K9
DESCRIPTION:Camp K9 @TCOTC is an individualized\, custom day-training program for dogs 5 months and older that combines training with enrichment activities to build your dog’s confidence and establish positive behaviors. To learn more\, visit the Camp K9 Web page.
URL:https://www.tcotc.com/event/camp-k9-4/2025-01-08/
LOCATION:Ring Rm\, Mtg Rm & Star Rm
CATEGORIES:Camp K9
END:VEVENT
BEGIN:VEVENT
DTSTART;TZID=America/Chicago:20250107T180000
DTEND;TZID=America/Chicago:20250107T193000
DTSTAMP:20260422T004505
CREATED:20240326T132413Z
LAST-MODIFIED:20241119T175144Z
UID:10006844-1736272800-1736278200@www.tcotc.com
SUMMARY:Changing Attitudes
DESCRIPTION:6:00 p.m. – 7:30 p.m. in the Star Room
URL:https://www.tcotc.com/event/changing-attitues/2025-01-07/
LOCATION:Star Room
CATEGORIES:Behavior
END:VEVENT
BEGIN:VEVENT
DTSTART;TZID=America/Chicago:20250107T180000
DTEND;TZID=America/Chicago:20250107T190000
DTSTAMP:20260422T004505
CREATED:20250304T152658Z
LAST-MODIFIED:20260120T211953Z
UID:10011357-1736272800-1736276400@www.tcotc.com
SUMMARY:Conformation
DESCRIPTION:Wendy Olson – Ring 1 \nNo class on December 16\, 2025
URL:https://www.tcotc.com/event/conformation-2/2025-01-07/
LOCATION:Ring 1
CATEGORIES:Conformation
END:VEVENT
BEGIN:VEVENT
DTSTART;TZID=America/Chicago:20250107T173000
DTEND;TZID=America/Chicago:20250107T213000
DTSTAMP:20260422T004505
CREATED:20230810T010802Z
LAST-MODIFIED:20240326T132002Z
UID:10005601-1736271000-1736285400@www.tcotc.com
SUMMARY:Agility Classes
DESCRIPTION:
URL:https://www.tcotc.com/event/agility-classes-30/2025-01-07/
LOCATION:Annex
CATEGORIES:Agility
END:VEVENT
BEGIN:VEVENT
DTSTART;TZID=America/Chicago:20250107T133000
DTEND;TZID=America/Chicago:20250107T150000
DTSTAMP:20260422T004505
CREATED:20230810T005937Z
LAST-MODIFIED:20240326T131919Z
UID:10005503-1736256600-1736262000@www.tcotc.com
SUMMARY:Agility Class
DESCRIPTION:2:00 p.m.
URL:https://www.tcotc.com/event/agility-class-9/2025-01-07/
LOCATION:Annex
CATEGORIES:Agility
END:VEVENT
BEGIN:VEVENT
DTSTART;TZID=America/Chicago:20250107T130000
DTEND;TZID=America/Chicago:20250107T143000
DTSTAMP:20260422T004505
CREATED:20230810T151104Z
LAST-MODIFIED:20241119T200250Z
UID:10005454-1736254800-1736260200@www.tcotc.com
SUMMARY:Conformation
DESCRIPTION:1:15 p.m. – 2:15 p.m. – Ring 1\nInstructor: Wendy Olson
URL:https://www.tcotc.com/event/conformation-4/2025-01-07/
LOCATION:Ring 1
CATEGORIES:Conformation
END:VEVENT
BEGIN:VEVENT
DTSTART;TZID=America/Chicago:20250107T121500
DTEND;TZID=America/Chicago:20250107T131500
DTSTAMP:20260422T004505
CREATED:20250527T185947Z
LAST-MODIFIED:20260106T142050Z
UID:10011301-1736252100-1736255700@www.tcotc.com
SUMMARY:Conformation
DESCRIPTION:12:15 p.m. – 1:15 p.m. – Ring 1\nInstructor: Wendy Olson \n$10 members/$12 non-members \nNo classes on December 16\, 2025 \nREGISTER HERE
URL:https://www.tcotc.com/event/conformation-4-2-2/2025-01-07/
LOCATION:Ring 1
CATEGORIES:Conformation
END:VEVENT
BEGIN:VEVENT
DTSTART;TZID=America/Chicago:20250107T120000
DTEND;TZID=America/Chicago:20250107T130000
DTSTAMP:20260422T004505
CREATED:20241119T183140Z
LAST-MODIFIED:20260106T141954Z
UID:10011289-1736251200-1736254800@www.tcotc.com
SUMMARY:Competition Bedrock
DESCRIPTION:
URL:https://www.tcotc.com/event/competition-bedrock/2025-01-07/
LOCATION:Ring Room
CATEGORIES:Obedience
END:VEVENT
BEGIN:VEVENT
DTSTART;TZID=America/Chicago:20250107T090000
DTEND;TZID=America/Chicago:20250107T130000
DTSTAMP:20260422T004505
CREATED:20230809T202952Z
LAST-MODIFIED:20240813T203320Z
UID:10005405-1736240400-1736254800@www.tcotc.com
SUMMARY:Obedience Classes
DESCRIPTION:9:30 a.m.\, 10:45 a.m.\, 12:00 p.m.  Classes are offered in six-week sessions.
URL:https://www.tcotc.com/event/obedience-classes-29/2025-01-07/
LOCATION:Ring Room and Star Room
CATEGORIES:Obedience
END:VEVENT
BEGIN:VEVENT
DTSTART;TZID=America/Chicago:20250107T090000
DTEND;TZID=America/Chicago:20250107T123000
DTSTAMP:20260422T004505
CREATED:20241119T193218Z
LAST-MODIFIED:20260106T141843Z
UID:10011240-1736240400-1736253000@www.tcotc.com
SUMMARY:Agility Classes
DESCRIPTION:
URL:https://www.tcotc.com/event/agility-classes-3/2025-01-07/
LOCATION:Annex
CATEGORIES:Agility
END:VEVENT
BEGIN:VEVENT
DTSTART;TZID=America/Chicago:20250107T090000
DTEND;TZID=America/Chicago:20250107T123000
DTSTAMP:20260422T004505
CREATED:20230810T005743Z
LAST-MODIFIED:20240326T131733Z
UID:10005358-1736240400-1736253000@www.tcotc.com
SUMMARY:Agility Classes
DESCRIPTION:9:30 a.m.\, 10:45 a.m
URL:https://www.tcotc.com/event/agility-classes-26/2025-01-07/
LOCATION:Annex
CATEGORIES:Agility
END:VEVENT
BEGIN:VEVENT
DTSTART;TZID=America/Chicago:20250107T090000
DTEND;TZID=America/Chicago:20250107T120000
DTSTAMP:20260422T004505
CREATED:20241119T163521Z
LAST-MODIFIED:20260106T141756Z
UID:10011191-1736240400-1736251200@www.tcotc.com
SUMMARY:Obedience Classes
DESCRIPTION:Meeting Room and Star Room
URL:https://www.tcotc.com/event/obedience-classes-2/2025-01-07/
LOCATION:Ring Room and Star Room
CATEGORIES:Obedience
END:VEVENT
BEGIN:VEVENT
DTSTART;TZID=America/Chicago:20250106T173000
DTEND;TZID=America/Chicago:20250106T213000
DTSTAMP:20260422T004505
CREATED:20230809T204342Z
LAST-MODIFIED:20241119T180345Z
UID:10005308-1736184600-1736199000@www.tcotc.com
SUMMARY:Obedience Classes
DESCRIPTION:5:45 p.m.\, 7:00 p.m.\, 8:15 p.m.\nRing Room and Star Room
URL:https://www.tcotc.com/event/obedience-classes-35/2025-01-06/
LOCATION:Ring Room and Star Room
CATEGORIES:Obedience
END:VEVENT
BEGIN:VEVENT
DTSTART;TZID=America/Chicago:20250106T170000
DTEND;TZID=America/Chicago:20250106T210000
DTSTAMP:20260422T004505
CREATED:20230809T221516Z
LAST-MODIFIED:20241119T192112Z
UID:10005224-1736182800-1736197200@www.tcotc.com
SUMMARY:Agility Classes
DESCRIPTION:5:30 p.m.\, 7:00 p.m.\, 8:15 p.m.\nAnnex
URL:https://www.tcotc.com/event/agility-classes-24/2025-01-06/
CATEGORIES:Agility
END:VEVENT
BEGIN:VEVENT
DTSTART;TZID=America/Chicago:20250106T070000
DTEND;TZID=America/Chicago:20250106T170000
DTSTAMP:20260422T004505
CREATED:20230810T155151Z
LAST-MODIFIED:20231229T182641Z
UID:10006093-1736146800-1736182800@www.tcotc.com
SUMMARY:Camp K9
DESCRIPTION:Camp K9 @TCOTC is an individualized\, custom day-training program for dogs 5 months and older that combines training with enrichment activities to build your dog’s confidence and establish positive behaviors. To learn more\, visit the Camp K9 Web page.
URL:https://www.tcotc.com/event/camp-k9-2/2025-01-06/
LOCATION:Ring Rm\, Mtg Rm & Star Rm
CATEGORIES:Camp K9
END:VEVENT
BEGIN:VEVENT
DTSTART;TZID=America/Chicago:20250105T170000
DTEND;TZID=America/Chicago:20250105T190000
DTSTAMP:20260422T004505
CREATED:20230815T024306Z
LAST-MODIFIED:20251224T051912Z
UID:10009028-1736096400-1736103600@www.tcotc.com
SUMMARY:High Sprits Flyball
DESCRIPTION:High Spirits Flyball Practice – Ring Room – \nContact: Karen Radford
URL:https://www.tcotc.com/event/high-sprits-flyball/2025-01-05/
LOCATION:Ring Room
CATEGORIES:Rental
END:VEVENT
BEGIN:VEVENT
DTSTART;TZID=America/Chicago:20250105T140000
DTEND;TZID=America/Chicago:20250105T160000
DTSTAMP:20260422T004505
CREATED:20230815T023542Z
LAST-MODIFIED:20251224T051157Z
UID:10008991-1736085600-1736092800@www.tcotc.com
SUMMARY:Balls Out Flyball
DESCRIPTION:Balls Out Flyball Practice – Ring Room – \nContact: John Rohling
URL:https://www.tcotc.com/event/balls-out-flyball/2025-01-05/
LOCATION:Ring Room
CATEGORIES:Rental
END:VEVENT
BEGIN:VEVENT
DTSTART;TZID=America/Chicago:20250105T113000
DTEND;TZID=America/Chicago:20250105T133000
DTSTAMP:20260422T004505
CREATED:20230815T023058Z
LAST-MODIFIED:20251224T051257Z
UID:10008954-1736076600-1736083800@www.tcotc.com
SUMMARY:Brat Pack Flyball
DESCRIPTION:Brat Pack Flyball Practice – Ring Room – \nContact: Corrie Barrows
URL:https://www.tcotc.com/event/brat-pack-flyball/2025-01-05/
LOCATION:Ring Room
CATEGORIES:Rental
END:VEVENT
BEGIN:VEVENT
DTSTART;TZID=America/Chicago:20250105T090000
DTEND;TZID=America/Chicago:20250105T110000
DTSTAMP:20260422T004505
CREATED:20230815T022526Z
LAST-MODIFIED:20251224T051356Z
UID:10008917-1736067600-1736074800@www.tcotc.com
SUMMARY:Makin Trax Flyball
DESCRIPTION:Makin Trax Flyball Practice – Ring Room – \nContact: Debbie Huddleston
URL:https://www.tcotc.com/event/makin-trax-flyball/2025-01-05/
LOCATION:Ring Room
CATEGORIES:Rental
END:VEVENT
BEGIN:VEVENT
DTSTART;TZID=America/Chicago:20250104T150000
DTEND;TZID=America/Chicago:20250104T163000
DTSTAMP:20260422T004505
CREATED:20230815T005747Z
LAST-MODIFIED:20251224T045641Z
UID:10008849-1736002800-1736008200@www.tcotc.com
SUMMARY:Nose to Nose Flyball
DESCRIPTION:Nose to Nose Flyball Practice – Ring Room – \nContact: Shawn Hurley
URL:https://www.tcotc.com/event/nose-to-nose-flyball/2025-01-04/
LOCATION:Ring Room
CATEGORIES:Rental
END:VEVENT
BEGIN:VEVENT
DTSTART;TZID=America/Chicago:20250103T190000
DTEND;TZID=America/Chicago:20250103T210000
DTSTAMP:20260422T004505
CREATED:20230814T200135Z
LAST-MODIFIED:20251224T045104Z
UID:10008797-1735930800-1735938000@www.tcotc.com
SUMMARY:High Velocity Flyball
DESCRIPTION:High Velocity Flyball Practice – Ring Room – \nContact: Dawn Todd
URL:https://www.tcotc.com/event/high-velocity-flyball-2/2025-01-03/
LOCATION:Ring Room
CATEGORIES:Rental
END:VEVENT
BEGIN:VEVENT
DTSTART;TZID=America/Chicago:20250103T080000
DTEND;TZID=America/Chicago:20250105T170000
DTSTAMP:20260422T004505
CREATED:20241007T171048Z
LAST-MODIFIED:20241227T221016Z
UID:10007238-1735891200-1736096400@www.tcotc.com
SUMMARY:Agility Seminars with Kelsey Kirkpatrick
DESCRIPTION:Join us for a series of agility seminars with Kelsey Kirkpatrick!\nIn lieu of our January agility trial\, TCOTC is hosting this opportunity to learn and build skills in agility with Kelsey Kirkpatrick\, a seasoned instructor and handler with 23 years of agility experience. Working spots are $140 and audit spots are $25. No refunds unless we can fill your spot.  If a session is full and you’d like to be added to a waitlist\, please email anneschenk@tcotc.com with your request. \nFriday\, January 3: \n\n5:00 p.m. to 9:00 p.m.: Foundation Skills for Pre-Novice Dogs: Dogs must be at least 6 months old; jumps and tunnels only; jumps do not need to be at full height.\n\nSaturday\, January 4: \n\n8:00 a.m. – 12:00 p.m.: Novice Dog with Experienced Handler: Short sequences for dogs at novice level or getting ready to trial; jumps and tunnels only; jumps do not need to be at full height.\n1:00 p.m. – 5:00 p.m.: Novice Dog with First-Time Handler: Short sequences for dogs at novice level or getting ready to trial; specifically for handlers with their first agility dog or for whom agility is still fairly new\n\nSunday\, January 5: \n\n8:00 a.m. – 11:30 p.m.: NEW! Winning Weaves: Strengthen your dog’s weave pole performance. Mastering difficult weave entries\, building independence/distance\, solving popping-out issues\, or simply getting started in the weaves: whatever your challenges are\, this seminar will give you the tools to address them.\n12:30 p.m. – 4:00 p.m.: Intermediate and Advanced: Dogs at intermediate and advanced level. Jumps\, tunnels\, weaves\, and contacts may be used.\n\nFOLLOW THIS LINK TO REGISTER \nAbout Kelsey Kirkpatrick: Kelsey has been doing agility for 23 years. She teaches classes weekly and teaches online students. She is a 5-time National Champion with 3 different dogs and a 37-time regional champion with 4 different dogs. She’s a 5-time World Team Member. Her 3 year old\, Wow!\, has been on the AWC short list the last two years. She was a team finalist at the European Open. EO she placed 16th out of 350 dogs in Team jumpers. Won Team Jumping at IFCS Worlds. She has also won every class at USDAA Nationals beside team (3rd). She’s a 4-time UKI Classic winner. Her students have made multiple trips to the podiums at AWC World Team Tryouts\, US Open and Cynosport. Her students have also joined multiple world teams including AWC\, EO and IFCS. Kelsey is big into getting tight lines and getting the most speed she can out of her and her students’ dogs. She also believes that agility is not a one size fits all. She believes in working with the dog that you have in front of you.
URL:https://www.tcotc.com/event/agility-seminar/
LOCATION:Annex & Meeting Room
CATEGORIES:Agility,Special Events
ATTACH;FMTTYPE=image/jpeg:https://www.tcotc.com/wp-content/uploads/2024/12/image_1236502914.jpg
END:VEVENT
BEGIN:VEVENT
DTSTART;TZID=America/Chicago:20250102T181500
DTEND;TZID=America/Chicago:20250102T203000
DTSTAMP:20260422T004505
CREATED:20241211T154459Z
LAST-MODIFIED:20241211T154459Z
UID:10007298-1735841700-1735849800@www.tcotc.com
SUMMARY:Game Night
DESCRIPTION:Join us for some New Years fun and games for you and your dog at our Game Night. Sign up for one of three sessions to play games and tackle fun challenges while earning tickets to win great prizes. $10 per dog for members\, $15 per dog for nonmembers. Sessions at 6:15 p.m.\, 7:00 p.m. and 7:45 p.m. \nReserve your spot here today!
URL:https://www.tcotc.com/event/game-night-3-2/
LOCATION:Ring Rm\, Mtg Rm & Star Rm
CATEGORIES:Special Events
ATTACH;FMTTYPE=image/jpeg:https://www.tcotc.com/wp-content/uploads/2022/04/gamenight-2.jpg
END:VEVENT
END:VCALENDAR