BEGIN:VCALENDAR
VERSION:2.0
PRODID:-//Twin Cities Obedience Training Club - ECPv6.15.13//NONSGML v1.0//EN
CALSCALE:GREGORIAN
METHOD:PUBLISH
X-WR-CALNAME:Twin Cities Obedience Training Club
X-ORIGINAL-URL:https://www.tcotc.com
X-WR-CALDESC:Events for Twin Cities Obedience Training Club
REFRESH-INTERVAL;VALUE=DURATION:PT1H
X-Robots-Tag:noindex
X-PUBLISHED-TTL:PT1H
BEGIN:VTIMEZONE
TZID:America/Chicago
BEGIN:DAYLIGHT
TZOFFSETFROM:-0600
TZOFFSETTO:-0500
TZNAME:CDT
DTSTART:20240310T080000
END:DAYLIGHT
BEGIN:STANDARD
TZOFFSETFROM:-0500
TZOFFSETTO:-0600
TZNAME:CST
DTSTART:20241103T070000
END:STANDARD
BEGIN:DAYLIGHT
TZOFFSETFROM:-0600
TZOFFSETTO:-0500
TZNAME:CDT
DTSTART:20250309T080000
END:DAYLIGHT
BEGIN:STANDARD
TZOFFSETFROM:-0500
TZOFFSETTO:-0600
TZNAME:CST
DTSTART:20251102T070000
END:STANDARD
BEGIN:DAYLIGHT
TZOFFSETFROM:-0600
TZOFFSETTO:-0500
TZNAME:CDT
DTSTART:20260308T080000
END:DAYLIGHT
BEGIN:STANDARD
TZOFFSETFROM:-0500
TZOFFSETTO:-0600
TZNAME:CST
DTSTART:20261101T070000
END:STANDARD
END:VTIMEZONE
BEGIN:VEVENT
DTSTART;TZID=America/Chicago:20250119T090000
DTEND;TZID=America/Chicago:20250119T110000
DTSTAMP:20260421T230707
CREATED:20230815T022526Z
LAST-MODIFIED:20251224T051356Z
UID:10008918-1737277200-1737284400@www.tcotc.com
SUMMARY:Makin Trax Flyball
DESCRIPTION:Makin Trax Flyball Practice – Ring Room – \nContact: Debbie Huddleston
URL:https://www.tcotc.com/event/makin-trax-flyball/2025-01-19/
LOCATION:Ring Room
CATEGORIES:Rental
END:VEVENT
BEGIN:VEVENT
DTSTART;TZID=America/Chicago:20250118T160000
DTEND;TZID=America/Chicago:20250118T220000
DTSTAMP:20260421T230707
CREATED:20240308T142334Z
LAST-MODIFIED:20240308T142334Z
UID:10006792-1737216000-1737237600@www.tcotc.com
SUMMARY:MAC Annual Banquet
DESCRIPTION:Ring Room and Meeting Room. Contact – Laura Thomas
URL:https://www.tcotc.com/event/mac-annual-banquet-2/
LOCATION:Ring Room and Meeting Room
CATEGORIES:Rental
END:VEVENT
BEGIN:VEVENT
DTSTART;TZID=America/Chicago:20250118T103000
DTEND;TZID=America/Chicago:20250118T133000
DTSTAMP:20260421T230707
CREATED:20230821T165056Z
LAST-MODIFIED:20251224T043203Z
UID:10007282-1737196200-1737207000@www.tcotc.com
SUMMARY:Fun With Cavaliers
DESCRIPTION:Fun With Cavaliers Meeting – Ring Room – \nContact: Donna-lee Borovansky
URL:https://www.tcotc.com/event/fun-with-cavaliers/2025-01-18/
LOCATION:Ring Room
CATEGORIES:Rental
END:VEVENT
BEGIN:VEVENT
DTSTART;TZID=America/Chicago:20250118T100000
DTEND;TZID=America/Chicago:20250118T130000
DTSTAMP:20260421T230707
CREATED:20230815T011736Z
LAST-MODIFIED:20250920T203942Z
UID:10007240-1737194400-1737205200@www.tcotc.com
SUMMARY:Pugs In The City
DESCRIPTION:Pugs In The City Meeting – Meeting Room – \nContact: Christina Smither
URL:https://www.tcotc.com/event/pugs-in-the-city/2025-01-18/
LOCATION:Meeting Room
CATEGORIES:Rental
END:VEVENT
BEGIN:VEVENT
DTSTART;TZID=America/Chicago:20250117T190000
DTEND;TZID=America/Chicago:20250117T210000
DTSTAMP:20260421T230707
CREATED:20230814T200135Z
LAST-MODIFIED:20251224T045104Z
UID:10008799-1737140400-1737147600@www.tcotc.com
SUMMARY:High Velocity Flyball
DESCRIPTION:High Velocity Flyball Practice – Ring Room – \nContact: Dawn Todd
URL:https://www.tcotc.com/event/high-velocity-flyball-2/2025-01-17/
LOCATION:Ring Room
CATEGORIES:Rental
END:VEVENT
BEGIN:VEVENT
DTSTART;TZID=America/Chicago:20250117T183000
DTEND;TZID=America/Chicago:20250117T203000
DTSTAMP:20260421T230707
CREATED:20230810T163003Z
LAST-MODIFIED:20260331T215208Z
UID:10009072-1737138600-1737145800@www.tcotc.com
SUMMARY:Agility Open Ring Time
DESCRIPTION:Weekend Agility Open Ring Sessions hosted by Jan Poole and Jo Schwietz. $8 Members/$12 Non-members for 10 minutes of training time. Please follow posted rules. Dogs must have at least 18 weeks of agility training at the beginner level or higher and be able to safely handle contacts at full height. \nNOTE: Registration must be completed by 3:30 p.m. the day of the event.  \nRegister in advance here.
URL:https://www.tcotc.com/event/agility-open-ring-time-5/2025-01-17/
LOCATION:Annex
CATEGORIES:Agility,Open Ring
END:VEVENT
BEGIN:VEVENT
DTSTART;TZID=America/Chicago:20250117T090000
DTEND;TZID=America/Chicago:20250117T120000
DTSTAMP:20260421T230707
CREATED:20241226T151354Z
LAST-MODIFIED:20241226T152045Z
UID:10009083-1737104400-1737115200@www.tcotc.com
SUMMARY:Rental
DESCRIPTION:Annex – Anne Bentley
URL:https://www.tcotc.com/event/rental-4/2025-01-17/
LOCATION:Annex
CATEGORIES:Rental
END:VEVENT
BEGIN:VEVENT
DTSTART;TZID=America/Chicago:20250116T174500
DTEND;TZID=America/Chicago:20250116T184500
DTSTAMP:20260421T230707
CREATED:20241119T184400Z
LAST-MODIFIED:20260123T205319Z
UID:10012180-1737049500-1737053100@www.tcotc.com
SUMMARY:Competition Bedrock
DESCRIPTION:
URL:https://www.tcotc.com/event/competition-bedrock-3/2025-01-16/
LOCATION:Ring Room
CATEGORIES:Obedience
END:VEVENT
BEGIN:VEVENT
DTSTART;TZID=America/Chicago:20250116T173000
DTEND;TZID=America/Chicago:20250116T213000
DTSTAMP:20260421T230707
CREATED:20241119T194942Z
LAST-MODIFIED:20260123T203945Z
UID:10012231-1737048600-1737063000@www.tcotc.com
SUMMARY:Agility Classes
DESCRIPTION:
URL:https://www.tcotc.com/event/agility-classes-7/2025-01-16/
LOCATION:Annex
CATEGORIES:Agility
END:VEVENT
BEGIN:VEVENT
DTSTART;TZID=America/Chicago:20250116T173000
DTEND;TZID=America/Chicago:20250116T213000
DTSTAMP:20260421T230707
CREATED:20241119T180230Z
LAST-MODIFIED:20260123T205523Z
UID:10012343-1737048600-1737063000@www.tcotc.com
SUMMARY:Obedience Classes
DESCRIPTION:5:30 pm – 9:30 pm – Ring Room and Star Room
URL:https://www.tcotc.com/event/obedience-classes-4/2025-01-16/
LOCATION:Ring Room and Star Room
CATEGORIES:Obedience
END:VEVENT
BEGIN:VEVENT
DTSTART;TZID=America/Chicago:20250116T173000
DTEND;TZID=America/Chicago:20250116T213000
DTSTAMP:20260421T230707
CREATED:20230810T011548Z
LAST-MODIFIED:20240813T200913Z
UID:10006025-1737048600-1737063000@www.tcotc.com
SUMMARY:Agility Classes
DESCRIPTION:
URL:https://www.tcotc.com/event/agility-classes-34/2025-01-16/
LOCATION:Annex
CATEGORIES:Agility
END:VEVENT
BEGIN:VEVENT
DTSTART;TZID=America/Chicago:20250116T173000
DTEND;TZID=America/Chicago:20250116T213000
DTSTAMP:20260421T230707
CREATED:20230809T203810Z
LAST-MODIFIED:20231229T160132Z
UID:10005978-1737048600-1737063000@www.tcotc.com
SUMMARY:Obedience Classes
DESCRIPTION:5:45 p.m.\, 7:00 p.m. and 8:15 p.m.\nRing Room and Star Room
URL:https://www.tcotc.com/event/obedience-classes-33/2025-01-16/
LOCATION:Ring Room and Star Room
CATEGORIES:Obedience
END:VEVENT
BEGIN:VEVENT
DTSTART;TZID=America/Chicago:20250116T173000
DTEND;TZID=America/Chicago:20250116T200000
DTSTAMP:20260421T230707
CREATED:20241119T174858Z
LAST-MODIFIED:20260123T205416Z
UID:10012394-1737048600-1737057600@www.tcotc.com
SUMMARY:Puppy/Tweener Classes
DESCRIPTION:Meeting Room
URL:https://www.tcotc.com/event/puppy-tweener-classes-3/2025-01-16/
LOCATION:Meeting Room
CATEGORIES:Puppy/Tweener
END:VEVENT
BEGIN:VEVENT
DTSTART;TZID=America/Chicago:20250116T173000
DTEND;TZID=America/Chicago:20250116T193000
DTSTAMP:20260421T230707
CREATED:20230810T145850Z
LAST-MODIFIED:20231229T155955Z
UID:10005932-1737048600-1737055800@www.tcotc.com
SUMMARY:Puppy/Tweener Classes
DESCRIPTION:5:45 p.m.\, 7:00 p.m. – Meeting Room
URL:https://www.tcotc.com/event/puppy-tweener-classes-2-3/2025-01-16/
CATEGORIES:Puppy/Tweener
END:VEVENT
BEGIN:VEVENT
DTSTART;TZID=America/Chicago:20250116T150000
DTEND;TZID=America/Chicago:20250116T173000
DTSTAMP:20260421T230707
CREATED:20240213T211645Z
LAST-MODIFIED:20260123T203755Z
UID:10006264-1737039600-1737048600@www.tcotc.com
SUMMARY:Agility for Fun classes
DESCRIPTION:3:00 to 4:00 p.m. and 4:15 p.m. to 5:15 p.m.
URL:https://www.tcotc.com/event/agility-for-fun-classes/2025-01-16/
LOCATION:Annex
CATEGORIES:Agility
END:VEVENT
BEGIN:VEVENT
DTSTART;TZID=America/Chicago:20250116T123000
DTEND;TZID=America/Chicago:20250116T143000
DTSTAMP:20260421T230707
CREATED:20240227T223016Z
LAST-MODIFIED:20260123T204054Z
UID:10006785-1737030600-1737037800@www.tcotc.com
SUMMARY:Open Ring Time
DESCRIPTION:Agility and Obedience Open Ring Time\nMost Thursdays\, 12:30 p.m. – 2:30 p.m. \nLooking for some extra training time? Want to practice before an upcoming trial? Sign up for Obedience and Agility Open Ring Time. Members and non-members welcome. Please follow posted rules. For agility practice\, dogs must have at least 18 weeks of agility training at the beginner level or higher and be able to safely handle contacts at full height. \nMembers $8/Non-members $12 for 10 minutes of ring time. Three dogs may sign up for each half-hour time slot. You may be sharing a ring with others who have signed up for the same time slot. \nRegister in advance here.
URL:https://www.tcotc.com/event/open-ring-time-6-2-2/2025-01-16/
LOCATION:Annex & Ring Room
CATEGORIES:Open Ring
END:VEVENT
BEGIN:VEVENT
DTSTART;TZID=America/Chicago:20250116T100000
DTEND;TZID=America/Chicago:20250116T110000
DTSTAMP:20260421T230707
CREATED:20230810T011416Z
LAST-MODIFIED:20240813T201005Z
UID:10005840-1737021600-1737025200@www.tcotc.com
SUMMARY:Agility Class
DESCRIPTION:10:00 a.m. – Advanced
URL:https://www.tcotc.com/event/agility-class-11/2025-01-16/
CATEGORIES:Agility
END:VEVENT
BEGIN:VEVENT
DTSTART;TZID=America/Chicago:20250116T070000
DTEND;TZID=America/Chicago:20250116T170000
DTSTAMP:20260421T230707
CREATED:20230810T155658Z
LAST-MODIFIED:20240624T175359Z
UID:10006196-1737010800-1737046800@www.tcotc.com
SUMMARY:Camp K9
DESCRIPTION:Camp K9 @TCOTC is an individualized\, custom day-training program for dogs 5 months and older that combines training with enrichment activities to build your dog’s confidence and establish positive behaviors. To learn more\, visit the Camp K9 Web page.
URL:https://www.tcotc.com/event/camp-k9-5/2025-01-16/
LOCATION:Ring Rm\, Mtg Rm & Star Rm
CATEGORIES:Camp K9
END:VEVENT
BEGIN:VEVENT
DTSTART;TZID=America/Chicago:20250115T173000
DTEND;TZID=America/Chicago:20250115T213000
DTSTAMP:20260421T230707
CREATED:20241119T164634Z
LAST-MODIFIED:20260205T192024Z
UID:10014801-1736962200-1736976600@www.tcotc.com
SUMMARY:Obedience Classes
DESCRIPTION:Ring Room and Star Room
URL:https://www.tcotc.com/event/obedience-classes-3/2025-01-15/
LOCATION:Ring Room and Star Room
CATEGORIES:Obedience
END:VEVENT
BEGIN:VEVENT
DTSTART;TZID=America/Chicago:20250115T173000
DTEND;TZID=America/Chicago:20250115T213000
DTSTAMP:20260421T230707
CREATED:20230810T011239Z
LAST-MODIFIED:20231229T163524Z
UID:10005701-1736962200-1736976600@www.tcotc.com
SUMMARY:Agility Classes
DESCRIPTION:
URL:https://www.tcotc.com/event/agility-classes-32/2025-01-15/
LOCATION:Annex
CATEGORIES:Agility
END:VEVENT
BEGIN:VEVENT
DTSTART;TZID=America/Chicago:20250115T173000
DTEND;TZID=America/Chicago:20250115T213000
DTSTAMP:20260421T230707
CREATED:20230809T203447Z
LAST-MODIFIED:20240813T200719Z
UID:10005795-1736962200-1736976600@www.tcotc.com
SUMMARY:Obedience Classes
DESCRIPTION:5:45 p.m.\, 7:00 p.m.\, and 8:15 p.m.\nRing Room and Star Room
URL:https://www.tcotc.com/event/obedience-classes-31/2025-01-15/
LOCATION:Ring Room and Star Room
CATEGORIES:Obedience
END:VEVENT
BEGIN:VEVENT
DTSTART;TZID=America/Chicago:20250115T113000
DTEND;TZID=America/Chicago:20250115T150000
DTSTAMP:20260421T230707
CREATED:20230810T010353Z
LAST-MODIFIED:20231229T164100Z
UID:10005652-1736940600-1736953200@www.tcotc.com
SUMMARY:Agility Classes
DESCRIPTION:12:00 p.m. – Advanced \n1:45 p.m. – Beginner
URL:https://www.tcotc.com/event/agility-classes-28/2025-01-15/
LOCATION:Annex
CATEGORIES:Agility
END:VEVENT
BEGIN:VEVENT
DTSTART;TZID=America/Chicago:20250115T070000
DTEND;TZID=America/Chicago:20250115T170000
DTSTAMP:20260421T230707
CREATED:20230810T155310Z
LAST-MODIFIED:20231229T182844Z
UID:10006145-1736924400-1736960400@www.tcotc.com
SUMMARY:Camp K9
DESCRIPTION:Camp K9 @TCOTC is an individualized\, custom day-training program for dogs 5 months and older that combines training with enrichment activities to build your dog’s confidence and establish positive behaviors. To learn more\, visit the Camp K9 Web page.
URL:https://www.tcotc.com/event/camp-k9-4/2025-01-15/
LOCATION:Ring Rm\, Mtg Rm & Star Rm
CATEGORIES:Camp K9
END:VEVENT
BEGIN:VEVENT
DTSTART;TZID=America/Chicago:20250114T190000
DTEND;TZID=America/Chicago:20250114T200000
DTSTAMP:20260421T230707
CREATED:20241211T154752Z
LAST-MODIFIED:20250112T155617Z
UID:10008794-1736881200-1736884800@www.tcotc.com
SUMMARY:Annual Membership Meeting
DESCRIPTION:TCOTC’s annual membership meeting will be held on Tuesday\, January 14\, 2025\, both in person and virtually over Zoom. Board and staff leadership will share achievements over the past year and we will elect a new member to the board. Please consider attending so we can reach our 35-member quorum. \n2025 Agenda\, 2024 Meeting Minutes and Annual Report [download PDF] \nTo attend in person\, register here. \nTo attend virtually over Zoom\, register here.
URL:https://www.tcotc.com/event/annual-membership-meeting-2/
LOCATION:Meeting Room and Virtual
CATEGORIES:Special Events
END:VEVENT
BEGIN:VEVENT
DTSTART;TZID=America/Chicago:20250114T180000
DTEND;TZID=America/Chicago:20250114T193000
DTSTAMP:20260421T230707
CREATED:20240326T132413Z
LAST-MODIFIED:20241119T175144Z
UID:10006845-1736877600-1736883000@www.tcotc.com
SUMMARY:Changing Attitudes
DESCRIPTION:6:00 p.m. – 7:30 p.m. in the Star Room
URL:https://www.tcotc.com/event/changing-attitues/2025-01-14/
LOCATION:Star Room
CATEGORIES:Behavior
END:VEVENT
BEGIN:VEVENT
DTSTART;TZID=America/Chicago:20250114T180000
DTEND;TZID=America/Chicago:20250114T190000
DTSTAMP:20260421T230707
CREATED:20250304T152658Z
LAST-MODIFIED:20260120T211953Z
UID:10011358-1736877600-1736881200@www.tcotc.com
SUMMARY:Conformation
DESCRIPTION:Wendy Olson – Ring 1 \nNo class on December 16\, 2025
URL:https://www.tcotc.com/event/conformation-2/2025-01-14/
LOCATION:Ring 1
CATEGORIES:Conformation
END:VEVENT
BEGIN:VEVENT
DTSTART;TZID=America/Chicago:20250114T180000
DTEND;TZID=America/Chicago:20250114T190000
DTSTAMP:20260421T230707
CREATED:20250121T153016Z
LAST-MODIFIED:20250121T153017Z
UID:10009111-1736877600-1736881200@www.tcotc.com
SUMMARY:Conformation
DESCRIPTION:6:00 p.m. – 7:00 p.m. – Ring 1 \nInstructor: Wendy Olson \n$10 members/$12 non-members \nREGISTER HERE
URL:https://www.tcotc.com/event/conformation-6-4-2/2025-01-14/
LOCATION:Ring 1
CATEGORIES:Conformation
END:VEVENT
BEGIN:VEVENT
DTSTART;TZID=America/Chicago:20250114T173000
DTEND;TZID=America/Chicago:20250114T213000
DTSTAMP:20260421T230707
CREATED:20230810T010802Z
LAST-MODIFIED:20240326T132002Z
UID:10005602-1736875800-1736890200@www.tcotc.com
SUMMARY:Agility Classes
DESCRIPTION:
URL:https://www.tcotc.com/event/agility-classes-30/2025-01-14/
LOCATION:Annex
CATEGORIES:Agility
END:VEVENT
BEGIN:VEVENT
DTSTART;TZID=America/Chicago:20250114T133000
DTEND;TZID=America/Chicago:20250114T150000
DTSTAMP:20260421T230707
CREATED:20230810T005937Z
LAST-MODIFIED:20240326T131919Z
UID:10005504-1736861400-1736866800@www.tcotc.com
SUMMARY:Agility Class
DESCRIPTION:2:00 p.m.
URL:https://www.tcotc.com/event/agility-class-9/2025-01-14/
LOCATION:Annex
CATEGORIES:Agility
END:VEVENT
BEGIN:VEVENT
DTSTART;TZID=America/Chicago:20250114T131500
DTEND;TZID=America/Chicago:20250114T141500
DTSTAMP:20260421T230707
CREATED:20250121T153138Z
LAST-MODIFIED:20250121T153138Z
UID:10005455-1736860500-1736864100@www.tcotc.com
SUMMARY:Conformation
DESCRIPTION:1:15 p.m. – 2:15 p.m. – Ring 1\nInstructor: Wendy Olson \n$10 members/$12 non-members \nREGISTER HERE
URL:https://www.tcotc.com/event/conformation-4-2/2025-01-14/
LOCATION:Ring 1
CATEGORIES:Conformation
END:VEVENT
END:VCALENDAR