BEGIN:VCALENDAR
VERSION:2.0
PRODID:-//Twin Cities Obedience Training Club - ECPv6.15.13//NONSGML v1.0//EN
CALSCALE:GREGORIAN
METHOD:PUBLISH
X-WR-CALNAME:Twin Cities Obedience Training Club
X-ORIGINAL-URL:https://www.tcotc.com
X-WR-CALDESC:Events for Twin Cities Obedience Training Club
REFRESH-INTERVAL;VALUE=DURATION:PT1H
X-Robots-Tag:noindex
X-PUBLISHED-TTL:PT1H
BEGIN:VTIMEZONE
TZID:America/Chicago
BEGIN:DAYLIGHT
TZOFFSETFROM:-0600
TZOFFSETTO:-0500
TZNAME:CDT
DTSTART:20270314T080000
END:DAYLIGHT
BEGIN:STANDARD
TZOFFSETFROM:-0500
TZOFFSETTO:-0600
TZNAME:CST
DTSTART:20271107T070000
END:STANDARD
BEGIN:DAYLIGHT
TZOFFSETFROM:-0600
TZOFFSETTO:-0500
TZNAME:CDT
DTSTART:20280312T080000
END:DAYLIGHT
BEGIN:STANDARD
TZOFFSETFROM:-0500
TZOFFSETTO:-0600
TZNAME:CST
DTSTART:20281105T070000
END:STANDARD
BEGIN:DAYLIGHT
TZOFFSETFROM:-0600
TZOFFSETTO:-0500
TZNAME:CDT
DTSTART:20290311T080000
END:DAYLIGHT
BEGIN:STANDARD
TZOFFSETFROM:-0500
TZOFFSETTO:-0600
TZNAME:CST
DTSTART:20291104T070000
END:STANDARD
END:VTIMEZONE
BEGIN:VEVENT
DTSTART;TZID=America/Chicago:20280203T173000
DTEND;TZID=America/Chicago:20280203T213000
DTSTAMP:20260421T194001
CREATED:20241119T194942Z
LAST-MODIFIED:20260123T203945Z
UID:10008599-1833211800-1833226200@www.tcotc.com
SUMMARY:Agility Classes
DESCRIPTION:
URL:https://www.tcotc.com/event/agility-classes-7/2028-02-03/
LOCATION:Annex
CATEGORIES:Agility
END:VEVENT
BEGIN:VEVENT
DTSTART;TZID=America/Chicago:20280208T151500
DTEND;TZID=America/Chicago:20280208T173000
DTSTAMP:20260421T194001
CREATED:20260106T180136Z
LAST-MODIFIED:20260106T180213Z
UID:10011478-1833635700-1833643800@www.tcotc.com
SUMMARY:Scent Work
DESCRIPTION:3:15 pm class is in the Star Room \n 
URL:https://www.tcotc.com/event/scent-work/2028-02-08/
LOCATION:Meeting Room
CATEGORIES:Obedience
END:VEVENT
BEGIN:VEVENT
DTSTART;TZID=America/Chicago:20280208T180000
DTEND;TZID=America/Chicago:20280208T190000
DTSTAMP:20260421T194001
CREATED:20250304T152658Z
LAST-MODIFIED:20260120T211953Z
UID:10009338-1833645600-1833649200@www.tcotc.com
SUMMARY:Conformation
DESCRIPTION:Wendy Olson – Ring 1 \nNo class on December 16\, 2025
URL:https://www.tcotc.com/event/conformation-2/2028-02-08/
LOCATION:Ring 1
CATEGORIES:Conformation
END:VEVENT
BEGIN:VEVENT
DTSTART;TZID=America/Chicago:20280208T191500
DTEND;TZID=America/Chicago:20280208T201500
DTSTAMP:20260421T194001
CREATED:20260112T182400Z
LAST-MODIFIED:20260112T182400Z
UID:10011739-1833650100-1833653700@www.tcotc.com
SUMMARY:Treibball Class
DESCRIPTION:Rings 1 & 2
URL:https://www.tcotc.com/event/treibball-class/2028-02-08/
LOCATION:Rings 1&2
CATEGORIES:Obedience
END:VEVENT
BEGIN:VEVENT
DTSTART;TZID=America/Chicago:20280210T150000
DTEND;TZID=America/Chicago:20280210T173000
DTSTAMP:20260421T194001
CREATED:20240213T211645Z
LAST-MODIFIED:20260123T203755Z
UID:10006424-1833807600-1833816600@www.tcotc.com
SUMMARY:Agility for Fun classes
DESCRIPTION:3:00 to 4:00 p.m. and 4:15 p.m. to 5:15 p.m.
URL:https://www.tcotc.com/event/agility-for-fun-classes/2028-02-10/
LOCATION:Annex
CATEGORIES:Agility
END:VEVENT
BEGIN:VEVENT
DTSTART;TZID=America/Chicago:20280210T173000
DTEND;TZID=America/Chicago:20280210T213000
DTSTAMP:20260421T194001
CREATED:20241119T194942Z
LAST-MODIFIED:20260123T203945Z
UID:10008600-1833816600-1833831000@www.tcotc.com
SUMMARY:Agility Classes
DESCRIPTION:
URL:https://www.tcotc.com/event/agility-classes-7/2028-02-10/
LOCATION:Annex
CATEGORIES:Agility
END:VEVENT
BEGIN:VEVENT
DTSTART;TZID=America/Chicago:20280215T151500
DTEND;TZID=America/Chicago:20280215T173000
DTSTAMP:20260421T194001
CREATED:20260106T180136Z
LAST-MODIFIED:20260106T180213Z
UID:10011479-1834240500-1834248600@www.tcotc.com
SUMMARY:Scent Work
DESCRIPTION:3:15 pm class is in the Star Room \n 
URL:https://www.tcotc.com/event/scent-work/2028-02-15/
LOCATION:Meeting Room
CATEGORIES:Obedience
END:VEVENT
BEGIN:VEVENT
DTSTART;TZID=America/Chicago:20280215T180000
DTEND;TZID=America/Chicago:20280215T190000
DTSTAMP:20260421T194001
CREATED:20250304T152658Z
LAST-MODIFIED:20260120T211953Z
UID:10009339-1834250400-1834254000@www.tcotc.com
SUMMARY:Conformation
DESCRIPTION:Wendy Olson – Ring 1 \nNo class on December 16\, 2025
URL:https://www.tcotc.com/event/conformation-2/2028-02-15/
LOCATION:Ring 1
CATEGORIES:Conformation
END:VEVENT
BEGIN:VEVENT
DTSTART;TZID=America/Chicago:20280215T191500
DTEND;TZID=America/Chicago:20280215T201500
DTSTAMP:20260421T194001
CREATED:20260112T182400Z
LAST-MODIFIED:20260112T182400Z
UID:10011740-1834254900-1834258500@www.tcotc.com
SUMMARY:Treibball Class
DESCRIPTION:Rings 1 & 2
URL:https://www.tcotc.com/event/treibball-class/2028-02-15/
LOCATION:Rings 1&2
CATEGORIES:Obedience
END:VEVENT
BEGIN:VEVENT
DTSTART;TZID=America/Chicago:20280217T150000
DTEND;TZID=America/Chicago:20280217T173000
DTSTAMP:20260421T194001
CREATED:20240213T211645Z
LAST-MODIFIED:20260123T203755Z
UID:10006425-1834412400-1834421400@www.tcotc.com
SUMMARY:Agility for Fun classes
DESCRIPTION:3:00 to 4:00 p.m. and 4:15 p.m. to 5:15 p.m.
URL:https://www.tcotc.com/event/agility-for-fun-classes/2028-02-17/
LOCATION:Annex
CATEGORIES:Agility
END:VEVENT
BEGIN:VEVENT
DTSTART;TZID=America/Chicago:20280217T173000
DTEND;TZID=America/Chicago:20280217T213000
DTSTAMP:20260421T194001
CREATED:20241119T194942Z
LAST-MODIFIED:20260123T203945Z
UID:10008601-1834421400-1834435800@www.tcotc.com
SUMMARY:Agility Classes
DESCRIPTION:
URL:https://www.tcotc.com/event/agility-classes-7/2028-02-17/
LOCATION:Annex
CATEGORIES:Agility
END:VEVENT
BEGIN:VEVENT
DTSTART;TZID=America/Chicago:20280222T151500
DTEND;TZID=America/Chicago:20280222T173000
DTSTAMP:20260421T194001
CREATED:20260106T180136Z
LAST-MODIFIED:20260106T180213Z
UID:10011480-1834845300-1834853400@www.tcotc.com
SUMMARY:Scent Work
DESCRIPTION:3:15 pm class is in the Star Room \n 
URL:https://www.tcotc.com/event/scent-work/2028-02-22/
LOCATION:Meeting Room
CATEGORIES:Obedience
END:VEVENT
BEGIN:VEVENT
DTSTART;TZID=America/Chicago:20280222T180000
DTEND;TZID=America/Chicago:20280222T190000
DTSTAMP:20260421T194001
CREATED:20250304T152658Z
LAST-MODIFIED:20260120T211953Z
UID:10009340-1834855200-1834858800@www.tcotc.com
SUMMARY:Conformation
DESCRIPTION:Wendy Olson – Ring 1 \nNo class on December 16\, 2025
URL:https://www.tcotc.com/event/conformation-2/2028-02-22/
LOCATION:Ring 1
CATEGORIES:Conformation
END:VEVENT
BEGIN:VEVENT
DTSTART;TZID=America/Chicago:20280222T191500
DTEND;TZID=America/Chicago:20280222T201500
DTSTAMP:20260421T194001
CREATED:20260112T182400Z
LAST-MODIFIED:20260112T182400Z
UID:10011741-1834859700-1834863300@www.tcotc.com
SUMMARY:Treibball Class
DESCRIPTION:Rings 1 & 2
URL:https://www.tcotc.com/event/treibball-class/2028-02-22/
LOCATION:Rings 1&2
CATEGORIES:Obedience
END:VEVENT
BEGIN:VEVENT
DTSTART;TZID=America/Chicago:20280224T150000
DTEND;TZID=America/Chicago:20280224T173000
DTSTAMP:20260421T194001
CREATED:20240213T211645Z
LAST-MODIFIED:20260123T203755Z
UID:10006426-1835017200-1835026200@www.tcotc.com
SUMMARY:Agility for Fun classes
DESCRIPTION:3:00 to 4:00 p.m. and 4:15 p.m. to 5:15 p.m.
URL:https://www.tcotc.com/event/agility-for-fun-classes/2028-02-24/
LOCATION:Annex
CATEGORIES:Agility
END:VEVENT
BEGIN:VEVENT
DTSTART;TZID=America/Chicago:20280224T173000
DTEND;TZID=America/Chicago:20280224T213000
DTSTAMP:20260421T194001
CREATED:20241119T194942Z
LAST-MODIFIED:20260123T203945Z
UID:10008602-1835026200-1835040600@www.tcotc.com
SUMMARY:Agility Classes
DESCRIPTION:
URL:https://www.tcotc.com/event/agility-classes-7/2028-02-24/
LOCATION:Annex
CATEGORIES:Agility
END:VEVENT
BEGIN:VEVENT
DTSTART;TZID=America/Chicago:20280229T151500
DTEND;TZID=America/Chicago:20280229T173000
DTSTAMP:20260421T194001
CREATED:20260106T180136Z
LAST-MODIFIED:20260106T180213Z
UID:10011481-1835450100-1835458200@www.tcotc.com
SUMMARY:Scent Work
DESCRIPTION:3:15 pm class is in the Star Room \n 
URL:https://www.tcotc.com/event/scent-work/2028-02-29/
LOCATION:Meeting Room
CATEGORIES:Obedience
END:VEVENT
BEGIN:VEVENT
DTSTART;TZID=America/Chicago:20280229T180000
DTEND;TZID=America/Chicago:20280229T190000
DTSTAMP:20260421T194001
CREATED:20250304T152658Z
LAST-MODIFIED:20260120T211953Z
UID:10009341-1835460000-1835463600@www.tcotc.com
SUMMARY:Conformation
DESCRIPTION:Wendy Olson – Ring 1 \nNo class on December 16\, 2025
URL:https://www.tcotc.com/event/conformation-2/2028-02-29/
LOCATION:Ring 1
CATEGORIES:Conformation
END:VEVENT
BEGIN:VEVENT
DTSTART;TZID=America/Chicago:20280229T191500
DTEND;TZID=America/Chicago:20280229T201500
DTSTAMP:20260421T194001
CREATED:20260112T182400Z
LAST-MODIFIED:20260112T182400Z
UID:10011742-1835464500-1835468100@www.tcotc.com
SUMMARY:Treibball Class
DESCRIPTION:Rings 1 & 2
URL:https://www.tcotc.com/event/treibball-class/2028-02-29/
LOCATION:Rings 1&2
CATEGORIES:Obedience
END:VEVENT
BEGIN:VEVENT
DTSTART;TZID=America/Chicago:20280302T150000
DTEND;TZID=America/Chicago:20280302T173000
DTSTAMP:20260421T194001
CREATED:20240213T211645Z
LAST-MODIFIED:20260123T203755Z
UID:10006427-1835622000-1835631000@www.tcotc.com
SUMMARY:Agility for Fun classes
DESCRIPTION:3:00 to 4:00 p.m. and 4:15 p.m. to 5:15 p.m.
URL:https://www.tcotc.com/event/agility-for-fun-classes/2028-03-02/
LOCATION:Annex
CATEGORIES:Agility
END:VEVENT
BEGIN:VEVENT
DTSTART;TZID=America/Chicago:20280302T173000
DTEND;TZID=America/Chicago:20280302T213000
DTSTAMP:20260421T194001
CREATED:20241119T194942Z
LAST-MODIFIED:20260123T203945Z
UID:10008603-1835631000-1835645400@www.tcotc.com
SUMMARY:Agility Classes
DESCRIPTION:
URL:https://www.tcotc.com/event/agility-classes-7/2028-03-02/
LOCATION:Annex
CATEGORIES:Agility
END:VEVENT
BEGIN:VEVENT
DTSTART;TZID=America/Chicago:20280307T151500
DTEND;TZID=America/Chicago:20280307T173000
DTSTAMP:20260421T194001
CREATED:20260106T180136Z
LAST-MODIFIED:20260106T180213Z
UID:10011482-1836054900-1836063000@www.tcotc.com
SUMMARY:Scent Work
DESCRIPTION:3:15 pm class is in the Star Room \n 
URL:https://www.tcotc.com/event/scent-work/2028-03-07/
LOCATION:Meeting Room
CATEGORIES:Obedience
END:VEVENT
BEGIN:VEVENT
DTSTART;TZID=America/Chicago:20280307T180000
DTEND;TZID=America/Chicago:20280307T190000
DTSTAMP:20260421T194001
CREATED:20250304T152658Z
LAST-MODIFIED:20260120T211953Z
UID:10009342-1836064800-1836068400@www.tcotc.com
SUMMARY:Conformation
DESCRIPTION:Wendy Olson – Ring 1 \nNo class on December 16\, 2025
URL:https://www.tcotc.com/event/conformation-2/2028-03-07/
LOCATION:Ring 1
CATEGORIES:Conformation
END:VEVENT
BEGIN:VEVENT
DTSTART;TZID=America/Chicago:20280307T191500
DTEND;TZID=America/Chicago:20280307T201500
DTSTAMP:20260421T194001
CREATED:20260112T182400Z
LAST-MODIFIED:20260112T182400Z
UID:10011743-1836069300-1836072900@www.tcotc.com
SUMMARY:Treibball Class
DESCRIPTION:Rings 1 & 2
URL:https://www.tcotc.com/event/treibball-class/2028-03-07/
LOCATION:Rings 1&2
CATEGORIES:Obedience
END:VEVENT
BEGIN:VEVENT
DTSTART;TZID=America/Chicago:20280309T150000
DTEND;TZID=America/Chicago:20280309T173000
DTSTAMP:20260421T194001
CREATED:20240213T211645Z
LAST-MODIFIED:20260123T203755Z
UID:10006428-1836226800-1836235800@www.tcotc.com
SUMMARY:Agility for Fun classes
DESCRIPTION:3:00 to 4:00 p.m. and 4:15 p.m. to 5:15 p.m.
URL:https://www.tcotc.com/event/agility-for-fun-classes/2028-03-09/
LOCATION:Annex
CATEGORIES:Agility
END:VEVENT
BEGIN:VEVENT
DTSTART;TZID=America/Chicago:20280309T173000
DTEND;TZID=America/Chicago:20280309T213000
DTSTAMP:20260421T194001
CREATED:20241119T194942Z
LAST-MODIFIED:20260123T203945Z
UID:10008604-1836235800-1836250200@www.tcotc.com
SUMMARY:Agility Classes
DESCRIPTION:
URL:https://www.tcotc.com/event/agility-classes-7/2028-03-09/
LOCATION:Annex
CATEGORIES:Agility
END:VEVENT
BEGIN:VEVENT
DTSTART;TZID=America/Chicago:20280314T151500
DTEND;TZID=America/Chicago:20280314T173000
DTSTAMP:20260421T194001
CREATED:20260106T180136Z
LAST-MODIFIED:20260106T180213Z
UID:10011483-1836659700-1836667800@www.tcotc.com
SUMMARY:Scent Work
DESCRIPTION:3:15 pm class is in the Star Room \n 
URL:https://www.tcotc.com/event/scent-work/2028-03-14/
LOCATION:Meeting Room
CATEGORIES:Obedience
END:VEVENT
BEGIN:VEVENT
DTSTART;TZID=America/Chicago:20280314T180000
DTEND;TZID=America/Chicago:20280314T190000
DTSTAMP:20260421T194001
CREATED:20250304T152658Z
LAST-MODIFIED:20260120T211953Z
UID:10009343-1836669600-1836673200@www.tcotc.com
SUMMARY:Conformation
DESCRIPTION:Wendy Olson – Ring 1 \nNo class on December 16\, 2025
URL:https://www.tcotc.com/event/conformation-2/2028-03-14/
LOCATION:Ring 1
CATEGORIES:Conformation
END:VEVENT
BEGIN:VEVENT
DTSTART;TZID=America/Chicago:20280314T191500
DTEND;TZID=America/Chicago:20280314T201500
DTSTAMP:20260421T194001
CREATED:20260112T182400Z
LAST-MODIFIED:20260112T182400Z
UID:10011744-1836674100-1836677700@www.tcotc.com
SUMMARY:Treibball Class
DESCRIPTION:Rings 1 & 2
URL:https://www.tcotc.com/event/treibball-class/2028-03-14/
LOCATION:Rings 1&2
CATEGORIES:Obedience
END:VEVENT
BEGIN:VEVENT
DTSTART;TZID=America/Chicago:20280316T150000
DTEND;TZID=America/Chicago:20280316T173000
DTSTAMP:20260421T194001
CREATED:20240213T211645Z
LAST-MODIFIED:20260123T203755Z
UID:10006429-1836831600-1836840600@www.tcotc.com
SUMMARY:Agility for Fun classes
DESCRIPTION:3:00 to 4:00 p.m. and 4:15 p.m. to 5:15 p.m.
URL:https://www.tcotc.com/event/agility-for-fun-classes/2028-03-16/
LOCATION:Annex
CATEGORIES:Agility
END:VEVENT
END:VCALENDAR