BEGIN:VCALENDAR
VERSION:2.0
PRODID:-//Twin Cities Obedience Training Club - ECPv6.15.13//NONSGML v1.0//EN
CALSCALE:GREGORIAN
METHOD:PUBLISH
X-WR-CALNAME:Twin Cities Obedience Training Club
X-ORIGINAL-URL:https://www.tcotc.com
X-WR-CALDESC:Events for Twin Cities Obedience Training Club
REFRESH-INTERVAL;VALUE=DURATION:PT1H
X-Robots-Tag:noindex
X-PUBLISHED-TTL:PT1H
BEGIN:VTIMEZONE
TZID:America/Chicago
BEGIN:DAYLIGHT
TZOFFSETFROM:-0600
TZOFFSETTO:-0500
TZNAME:CDT
DTSTART:20240310T080000
END:DAYLIGHT
BEGIN:STANDARD
TZOFFSETFROM:-0500
TZOFFSETTO:-0600
TZNAME:CST
DTSTART:20241103T070000
END:STANDARD
BEGIN:DAYLIGHT
TZOFFSETFROM:-0600
TZOFFSETTO:-0500
TZNAME:CDT
DTSTART:20250309T080000
END:DAYLIGHT
BEGIN:STANDARD
TZOFFSETFROM:-0500
TZOFFSETTO:-0600
TZNAME:CST
DTSTART:20251102T070000
END:STANDARD
BEGIN:DAYLIGHT
TZOFFSETFROM:-0600
TZOFFSETTO:-0500
TZNAME:CDT
DTSTART:20260308T080000
END:DAYLIGHT
BEGIN:STANDARD
TZOFFSETFROM:-0500
TZOFFSETTO:-0600
TZNAME:CST
DTSTART:20261101T070000
END:STANDARD
END:VTIMEZONE
BEGIN:VEVENT
DTSTART;TZID=America/Chicago:20250219T173000
DTEND;TZID=America/Chicago:20250219T213000
DTSTAMP:20260421T180328
CREATED:20241119T164634Z
LAST-MODIFIED:20260205T192024Z
UID:10007534-1739986200-1740000600@www.tcotc.com
SUMMARY:Obedience Classes
DESCRIPTION:Ring Room and Star Room
URL:https://www.tcotc.com/event/obedience-classes-3/2025-02-19/
LOCATION:Ring Room and Star Room
CATEGORIES:Obedience
END:VEVENT
BEGIN:VEVENT
DTSTART;TZID=America/Chicago:20250219T113000
DTEND;TZID=America/Chicago:20250219T150000
DTSTAMP:20260421T180328
CREATED:20241119T194155Z
LAST-MODIFIED:20251218T214644Z
UID:10008161-1739964600-1739977200@www.tcotc.com
SUMMARY:Agility Classes
DESCRIPTION:
URL:https://www.tcotc.com/event/agility-classes-5/2025-02-19/
LOCATION:Annex
CATEGORIES:Agility
END:VEVENT
BEGIN:VEVENT
DTSTART;TZID=America/Chicago:20250218T180000
DTEND;TZID=America/Chicago:20250218T193000
DTSTAMP:20260421T180328
CREATED:20240326T132413Z
LAST-MODIFIED:20241119T175144Z
UID:10006850-1739901600-1739907000@www.tcotc.com
SUMMARY:Changing Attitudes
DESCRIPTION:6:00 p.m. – 7:30 p.m. in the Star Room
URL:https://www.tcotc.com/event/changing-attitues/2025-02-18/
LOCATION:Star Room
CATEGORIES:Behavior
END:VEVENT
BEGIN:VEVENT
DTSTART;TZID=America/Chicago:20250218T180000
DTEND;TZID=America/Chicago:20250218T190000
DTSTAMP:20260421T180328
CREATED:20250304T152658Z
LAST-MODIFIED:20260120T211953Z
UID:10011363-1739901600-1739905200@www.tcotc.com
SUMMARY:Conformation
DESCRIPTION:Wendy Olson – Ring 1 \nNo class on December 16\, 2025
URL:https://www.tcotc.com/event/conformation-2/2025-02-18/
LOCATION:Ring 1
CATEGORIES:Conformation
END:VEVENT
BEGIN:VEVENT
DTSTART;TZID=America/Chicago:20250218T133000
DTEND;TZID=America/Chicago:20250218T213000
DTSTAMP:20260421T180328
CREATED:20241119T193615Z
LAST-MODIFIED:20251218T211433Z
UID:10008114-1739885400-1739914200@www.tcotc.com
SUMMARY:Agility Classes
DESCRIPTION:
URL:https://www.tcotc.com/event/agility-classes-4/2025-02-18/
LOCATION:Annex
CATEGORIES:Agility
END:VEVENT
BEGIN:VEVENT
DTSTART;TZID=America/Chicago:20250218T131500
DTEND;TZID=America/Chicago:20250218T141500
DTSTAMP:20260421T180328
CREATED:20250121T153138Z
LAST-MODIFIED:20250121T153138Z
UID:10009118-1739884500-1739888100@www.tcotc.com
SUMMARY:Conformation
DESCRIPTION:1:15 p.m. – 2:15 p.m. – Ring 1\nInstructor: Wendy Olson \n$10 members/$12 non-members \nREGISTER HERE
URL:https://www.tcotc.com/event/conformation-4-2/2025-02-18/
LOCATION:Ring 1
CATEGORIES:Conformation
END:VEVENT
BEGIN:VEVENT
DTSTART;TZID=America/Chicago:20250218T121500
DTEND;TZID=America/Chicago:20250218T131500
DTSTAMP:20260421T180328
CREATED:20250527T185947Z
LAST-MODIFIED:20260106T142050Z
UID:10011307-1739880900-1739884500@www.tcotc.com
SUMMARY:Conformation
DESCRIPTION:12:15 p.m. – 1:15 p.m. – Ring 1\nInstructor: Wendy Olson \n$10 members/$12 non-members \nNo classes on December 16\, 2025 \nREGISTER HERE
URL:https://www.tcotc.com/event/conformation-4-2-2/2025-02-18/
LOCATION:Ring 1
CATEGORIES:Conformation
END:VEVENT
BEGIN:VEVENT
DTSTART;TZID=America/Chicago:20250218T120000
DTEND;TZID=America/Chicago:20250218T130000
DTSTAMP:20260421T180328
CREATED:20241119T183140Z
LAST-MODIFIED:20260106T141954Z
UID:10007673-1739880000-1739883600@www.tcotc.com
SUMMARY:Competition Bedrock
DESCRIPTION:
URL:https://www.tcotc.com/event/competition-bedrock/2025-02-18/
LOCATION:Ring Room
CATEGORIES:Obedience
END:VEVENT
BEGIN:VEVENT
DTSTART;TZID=America/Chicago:20250218T090000
DTEND;TZID=America/Chicago:20250218T123000
DTSTAMP:20260421T180328
CREATED:20241119T193218Z
LAST-MODIFIED:20260106T141843Z
UID:10007866-1739869200-1739881800@www.tcotc.com
SUMMARY:Agility Classes
DESCRIPTION:
URL:https://www.tcotc.com/event/agility-classes-3/2025-02-18/
LOCATION:Annex
CATEGORIES:Agility
END:VEVENT
BEGIN:VEVENT
DTSTART;TZID=America/Chicago:20250218T090000
DTEND;TZID=America/Chicago:20250218T120000
DTSTAMP:20260421T180328
CREATED:20241119T163521Z
LAST-MODIFIED:20260106T141756Z
UID:10007442-1739869200-1739880000@www.tcotc.com
SUMMARY:Obedience Classes
DESCRIPTION:Meeting Room and Star Room
URL:https://www.tcotc.com/event/obedience-classes-2/2025-02-18/
LOCATION:Ring Room and Star Room
CATEGORIES:Obedience
END:VEVENT
BEGIN:VEVENT
DTSTART;TZID=America/Chicago:20250217T173000
DTEND;TZID=America/Chicago:20250217T213000
DTSTAMP:20260421T180328
CREATED:20241119T192531Z
LAST-MODIFIED:20251218T211137Z
UID:10007818-1739813400-1739827800@www.tcotc.com
SUMMARY:Agility Classes
DESCRIPTION:5:30 p.m. – 9:30 p.m. – Annex
URL:https://www.tcotc.com/event/agility-classes-2/2025-02-17/
LOCATION:Annex
CATEGORIES:Agility
END:VEVENT
BEGIN:VEVENT
DTSTART;TZID=America/Chicago:20250217T173000
DTEND;TZID=America/Chicago:20250217T213000
DTSTAMP:20260421T180328
CREATED:20241119T162919Z
LAST-MODIFIED:20251218T183215Z
UID:10007397-1739813400-1739827800@www.tcotc.com
SUMMARY:Obedience Classes
DESCRIPTION:
URL:https://www.tcotc.com/event/obedience-classes/2025-02-17/
LOCATION:Ring Room and Star Room
CATEGORIES:Obedience
END:VEVENT
BEGIN:VEVENT
DTSTART;TZID=America/Chicago:20250214T080000
DTEND;TZID=America/Chicago:20250216T170000
DTSTAMP:20260421T180328
CREATED:20230916T175658Z
LAST-MODIFIED:20250901T031546Z
UID:10007071-1739520000-1739725200@www.tcotc.com
SUMMARY:Happy Hurdlers Flyball Tournament
DESCRIPTION:Happy Hurdlers Flyball Tournament – Entire Facility – Ed Pheifer
URL:https://www.tcotc.com/event/happy-hurdlers-flyball-tournament/2025-02-14/
LOCATION:Entire Facility
CATEGORIES:Rental
END:VEVENT
BEGIN:VEVENT
DTSTART;TZID=America/Chicago:20250213T174500
DTEND;TZID=America/Chicago:20250213T184500
DTSTAMP:20260421T180328
CREATED:20241119T184400Z
LAST-MODIFIED:20260123T205319Z
UID:10007757-1739468700-1739472300@www.tcotc.com
SUMMARY:Competition Bedrock
DESCRIPTION:
URL:https://www.tcotc.com/event/competition-bedrock-3/2025-02-13/
LOCATION:Ring Room
CATEGORIES:Obedience
END:VEVENT
BEGIN:VEVENT
DTSTART;TZID=America/Chicago:20250213T173000
DTEND;TZID=America/Chicago:20250213T213000
DTSTAMP:20260421T180328
CREATED:20241119T194942Z
LAST-MODIFIED:20260123T203945Z
UID:10008452-1739467800-1739482200@www.tcotc.com
SUMMARY:Agility Classes
DESCRIPTION:
URL:https://www.tcotc.com/event/agility-classes-7/2025-02-13/
LOCATION:Annex
CATEGORIES:Agility
END:VEVENT
BEGIN:VEVENT
DTSTART;TZID=America/Chicago:20250213T173000
DTEND;TZID=America/Chicago:20250213T213000
DTSTAMP:20260421T180328
CREATED:20241119T180230Z
LAST-MODIFIED:20260123T205523Z
UID:10007622-1739467800-1739482200@www.tcotc.com
SUMMARY:Obedience Classes
DESCRIPTION:5:30 pm – 9:30 pm – Ring Room and Star Room
URL:https://www.tcotc.com/event/obedience-classes-4/2025-02-13/
LOCATION:Ring Room and Star Room
CATEGORIES:Obedience
END:VEVENT
BEGIN:VEVENT
DTSTART;TZID=America/Chicago:20250213T173000
DTEND;TZID=America/Chicago:20250213T200000
DTSTAMP:20260421T180328
CREATED:20241119T174858Z
LAST-MODIFIED:20260123T205416Z
UID:10007578-1739467800-1739476800@www.tcotc.com
SUMMARY:Puppy/Tweener Classes
DESCRIPTION:Meeting Room
URL:https://www.tcotc.com/event/puppy-tweener-classes-3/2025-02-13/
LOCATION:Meeting Room
CATEGORIES:Puppy/Tweener
END:VEVENT
BEGIN:VEVENT
DTSTART;TZID=America/Chicago:20250213T150000
DTEND;TZID=America/Chicago:20250213T173000
DTSTAMP:20260421T180328
CREATED:20240213T211645Z
LAST-MODIFIED:20260123T203755Z
UID:10006268-1739458800-1739467800@www.tcotc.com
SUMMARY:Agility for Fun classes
DESCRIPTION:3:00 to 4:00 p.m. and 4:15 p.m. to 5:15 p.m.
URL:https://www.tcotc.com/event/agility-for-fun-classes/2025-02-13/
LOCATION:Annex
CATEGORIES:Agility
END:VEVENT
BEGIN:VEVENT
DTSTART;TZID=America/Chicago:20250213T123000
DTEND;TZID=America/Chicago:20250213T143000
DTSTAMP:20260421T180328
CREATED:20240227T223016Z
LAST-MODIFIED:20260123T204054Z
UID:10008695-1739449800-1739457000@www.tcotc.com
SUMMARY:Open Ring Time
DESCRIPTION:Agility and Obedience Open Ring Time\nMost Thursdays\, 12:30 p.m. – 2:30 p.m. \nLooking for some extra training time? Want to practice before an upcoming trial? Sign up for Obedience and Agility Open Ring Time. Members and non-members welcome. Please follow posted rules. For agility practice\, dogs must have at least 18 weeks of agility training at the beginner level or higher and be able to safely handle contacts at full height. \nMembers $8/Non-members $12 for 10 minutes of ring time. Three dogs may sign up for each half-hour time slot. You may be sharing a ring with others who have signed up for the same time slot. \nRegister in advance here.
URL:https://www.tcotc.com/event/open-ring-time-6-2-2/2025-02-13/
LOCATION:Annex & Ring Room
CATEGORIES:Open Ring
END:VEVENT
BEGIN:VEVENT
DTSTART;TZID=America/Chicago:20250212T201500
DTEND;TZID=America/Chicago:20250212T211500
DTSTAMP:20260421T180328
CREATED:20241119T183836Z
LAST-MODIFIED:20251218T190510Z
UID:10007715-1739391300-1739394900@www.tcotc.com
SUMMARY:Competition Bedrock
DESCRIPTION:8:15 pm – 9:15 pm Ring Room
URL:https://www.tcotc.com/event/competition-bedrock-2/2025-02-12/
END:VEVENT
BEGIN:VEVENT
DTSTART;TZID=America/Chicago:20250212T173000
DTEND;TZID=America/Chicago:20250212T213000
DTSTAMP:20260421T180328
CREATED:20241119T194515Z
LAST-MODIFIED:20251218T214801Z
UID:10008405-1739381400-1739395800@www.tcotc.com
SUMMARY:Agility Classes
DESCRIPTION:
URL:https://www.tcotc.com/event/agility-classes-6/2025-02-12/
LOCATION:Annex
CATEGORIES:Agility
END:VEVENT
BEGIN:VEVENT
DTSTART;TZID=America/Chicago:20250212T173000
DTEND;TZID=America/Chicago:20250212T213000
DTSTAMP:20260421T180328
CREATED:20241119T164634Z
LAST-MODIFIED:20260205T192024Z
UID:10007533-1739381400-1739395800@www.tcotc.com
SUMMARY:Obedience Classes
DESCRIPTION:Ring Room and Star Room
URL:https://www.tcotc.com/event/obedience-classes-3/2025-02-12/
LOCATION:Ring Room and Star Room
CATEGORIES:Obedience
END:VEVENT
BEGIN:VEVENT
DTSTART;TZID=America/Chicago:20250212T113000
DTEND;TZID=America/Chicago:20250212T150000
DTSTAMP:20260421T180328
CREATED:20241119T194155Z
LAST-MODIFIED:20251218T214644Z
UID:10008160-1739359800-1739372400@www.tcotc.com
SUMMARY:Agility Classes
DESCRIPTION:
URL:https://www.tcotc.com/event/agility-classes-5/2025-02-12/
LOCATION:Annex
CATEGORIES:Agility
END:VEVENT
BEGIN:VEVENT
DTSTART;TZID=America/Chicago:20250211T180000
DTEND;TZID=America/Chicago:20250211T193000
DTSTAMP:20260421T180328
CREATED:20240326T132413Z
LAST-MODIFIED:20241119T175144Z
UID:10006849-1739296800-1739302200@www.tcotc.com
SUMMARY:Changing Attitudes
DESCRIPTION:6:00 p.m. – 7:30 p.m. in the Star Room
URL:https://www.tcotc.com/event/changing-attitues/2025-02-11/
LOCATION:Star Room
CATEGORIES:Behavior
END:VEVENT
BEGIN:VEVENT
DTSTART;TZID=America/Chicago:20250211T180000
DTEND;TZID=America/Chicago:20250211T190000
DTSTAMP:20260421T180328
CREATED:20250304T152658Z
LAST-MODIFIED:20260120T211953Z
UID:10011362-1739296800-1739300400@www.tcotc.com
SUMMARY:Conformation
DESCRIPTION:Wendy Olson – Ring 1 \nNo class on December 16\, 2025
URL:https://www.tcotc.com/event/conformation-2/2025-02-11/
LOCATION:Ring 1
CATEGORIES:Conformation
END:VEVENT
BEGIN:VEVENT
DTSTART;TZID=America/Chicago:20250211T133000
DTEND;TZID=America/Chicago:20250211T213000
DTSTAMP:20260421T180328
CREATED:20241119T193615Z
LAST-MODIFIED:20251218T211433Z
UID:10008113-1739280600-1739309400@www.tcotc.com
SUMMARY:Agility Classes
DESCRIPTION:
URL:https://www.tcotc.com/event/agility-classes-4/2025-02-11/
LOCATION:Annex
CATEGORIES:Agility
END:VEVENT
BEGIN:VEVENT
DTSTART;TZID=America/Chicago:20250211T131500
DTEND;TZID=America/Chicago:20250211T141500
DTSTAMP:20260421T180328
CREATED:20250121T153138Z
LAST-MODIFIED:20250121T153138Z
UID:10009117-1739279700-1739283300@www.tcotc.com
SUMMARY:Conformation
DESCRIPTION:1:15 p.m. – 2:15 p.m. – Ring 1\nInstructor: Wendy Olson \n$10 members/$12 non-members \nREGISTER HERE
URL:https://www.tcotc.com/event/conformation-4-2/2025-02-11/
LOCATION:Ring 1
CATEGORIES:Conformation
END:VEVENT
BEGIN:VEVENT
DTSTART;TZID=America/Chicago:20250211T121500
DTEND;TZID=America/Chicago:20250211T131500
DTSTAMP:20260421T180328
CREATED:20250527T185947Z
LAST-MODIFIED:20260106T142050Z
UID:10011306-1739276100-1739279700@www.tcotc.com
SUMMARY:Conformation
DESCRIPTION:12:15 p.m. – 1:15 p.m. – Ring 1\nInstructor: Wendy Olson \n$10 members/$12 non-members \nNo classes on December 16\, 2025 \nREGISTER HERE
URL:https://www.tcotc.com/event/conformation-4-2-2/2025-02-11/
LOCATION:Ring 1
CATEGORIES:Conformation
END:VEVENT
BEGIN:VEVENT
DTSTART;TZID=America/Chicago:20250211T120000
DTEND;TZID=America/Chicago:20250211T130000
DTSTAMP:20260421T180328
CREATED:20241119T183140Z
LAST-MODIFIED:20260106T141954Z
UID:10007672-1739275200-1739278800@www.tcotc.com
SUMMARY:Competition Bedrock
DESCRIPTION:
URL:https://www.tcotc.com/event/competition-bedrock/2025-02-11/
LOCATION:Ring Room
CATEGORIES:Obedience
END:VEVENT
BEGIN:VEVENT
DTSTART;TZID=America/Chicago:20250211T090000
DTEND;TZID=America/Chicago:20250211T123000
DTSTAMP:20260421T180328
CREATED:20241119T193218Z
LAST-MODIFIED:20260106T141843Z
UID:10007865-1739264400-1739277000@www.tcotc.com
SUMMARY:Agility Classes
DESCRIPTION:
URL:https://www.tcotc.com/event/agility-classes-3/2025-02-11/
LOCATION:Annex
CATEGORIES:Agility
END:VEVENT
END:VCALENDAR