BEGIN:VCALENDAR
VERSION:2.0
PRODID:-//Twin Cities Obedience Training Club - ECPv6.15.13//NONSGML v1.0//EN
CALSCALE:GREGORIAN
METHOD:PUBLISH
X-WR-CALNAME:Twin Cities Obedience Training Club
X-ORIGINAL-URL:https://www.tcotc.com
X-WR-CALDESC:Events for Twin Cities Obedience Training Club
REFRESH-INTERVAL;VALUE=DURATION:PT1H
X-Robots-Tag:noindex
X-PUBLISHED-TTL:PT1H
BEGIN:VTIMEZONE
TZID:America/Chicago
BEGIN:DAYLIGHT
TZOFFSETFROM:-0600
TZOFFSETTO:-0500
TZNAME:CDT
DTSTART:20240310T080000
END:DAYLIGHT
BEGIN:STANDARD
TZOFFSETFROM:-0500
TZOFFSETTO:-0600
TZNAME:CST
DTSTART:20241103T070000
END:STANDARD
BEGIN:DAYLIGHT
TZOFFSETFROM:-0600
TZOFFSETTO:-0500
TZNAME:CDT
DTSTART:20250309T080000
END:DAYLIGHT
BEGIN:STANDARD
TZOFFSETFROM:-0500
TZOFFSETTO:-0600
TZNAME:CST
DTSTART:20251102T070000
END:STANDARD
BEGIN:DAYLIGHT
TZOFFSETFROM:-0600
TZOFFSETTO:-0500
TZNAME:CDT
DTSTART:20260308T080000
END:DAYLIGHT
BEGIN:STANDARD
TZOFFSETFROM:-0500
TZOFFSETTO:-0600
TZNAME:CST
DTSTART:20261101T070000
END:STANDARD
END:VTIMEZONE
BEGIN:VEVENT
DTSTART;TZID=America/Chicago:20250306T173000
DTEND;TZID=America/Chicago:20250306T213000
DTSTAMP:20260421T143045
CREATED:20241119T180230Z
LAST-MODIFIED:20260123T205523Z
UID:10007625-1741282200-1741296600@www.tcotc.com
SUMMARY:Obedience Classes
DESCRIPTION:5:30 pm – 9:30 pm – Ring Room and Star Room
URL:https://www.tcotc.com/event/obedience-classes-4/2025-03-06/
LOCATION:Ring Room and Star Room
CATEGORIES:Obedience
END:VEVENT
BEGIN:VEVENT
DTSTART;TZID=America/Chicago:20250306T173000
DTEND;TZID=America/Chicago:20250306T200000
DTSTAMP:20260421T143045
CREATED:20241119T174858Z
LAST-MODIFIED:20260123T205416Z
UID:10007581-1741282200-1741291200@www.tcotc.com
SUMMARY:Puppy/Tweener Classes
DESCRIPTION:Meeting Room
URL:https://www.tcotc.com/event/puppy-tweener-classes-3/2025-03-06/
LOCATION:Meeting Room
CATEGORIES:Puppy/Tweener
END:VEVENT
BEGIN:VEVENT
DTSTART;TZID=America/Chicago:20250306T150000
DTEND;TZID=America/Chicago:20250306T173000
DTSTAMP:20260421T143045
CREATED:20240213T211645Z
LAST-MODIFIED:20260123T203755Z
UID:10006271-1741273200-1741282200@www.tcotc.com
SUMMARY:Agility for Fun classes
DESCRIPTION:3:00 to 4:00 p.m. and 4:15 p.m. to 5:15 p.m.
URL:https://www.tcotc.com/event/agility-for-fun-classes/2025-03-06/
LOCATION:Annex
CATEGORIES:Agility
END:VEVENT
BEGIN:VEVENT
DTSTART;TZID=America/Chicago:20250306T123000
DTEND;TZID=America/Chicago:20250306T143000
DTSTAMP:20260421T143045
CREATED:20240227T223016Z
LAST-MODIFIED:20260123T204054Z
UID:10008697-1741264200-1741271400@www.tcotc.com
SUMMARY:Open Ring Time
DESCRIPTION:Agility and Obedience Open Ring Time\nMost Thursdays\, 12:30 p.m. – 2:30 p.m. \nLooking for some extra training time? Want to practice before an upcoming trial? Sign up for Obedience and Agility Open Ring Time. Members and non-members welcome. Please follow posted rules. For agility practice\, dogs must have at least 18 weeks of agility training at the beginner level or higher and be able to safely handle contacts at full height. \nMembers $8/Non-members $12 for 10 minutes of ring time. Three dogs may sign up for each half-hour time slot. You may be sharing a ring with others who have signed up for the same time slot. \nRegister in advance here.
URL:https://www.tcotc.com/event/open-ring-time-6-2-2/2025-03-06/
LOCATION:Annex & Ring Room
CATEGORIES:Open Ring
END:VEVENT
BEGIN:VEVENT
DTSTART;TZID=America/Chicago:20250305T201500
DTEND;TZID=America/Chicago:20250305T211500
DTSTAMP:20260421T143045
CREATED:20241119T183836Z
LAST-MODIFIED:20251218T190510Z
UID:10007718-1741205700-1741209300@www.tcotc.com
SUMMARY:Competition Bedrock
DESCRIPTION:8:15 pm – 9:15 pm Ring Room
URL:https://www.tcotc.com/event/competition-bedrock-2/2025-03-05/
END:VEVENT
BEGIN:VEVENT
DTSTART;TZID=America/Chicago:20250305T173000
DTEND;TZID=America/Chicago:20250305T213000
DTSTAMP:20260421T143045
CREATED:20241119T194515Z
LAST-MODIFIED:20251218T214801Z
UID:10008408-1741195800-1741210200@www.tcotc.com
SUMMARY:Agility Classes
DESCRIPTION:
URL:https://www.tcotc.com/event/agility-classes-6/2025-03-05/
LOCATION:Annex
CATEGORIES:Agility
END:VEVENT
BEGIN:VEVENT
DTSTART;TZID=America/Chicago:20250305T173000
DTEND;TZID=America/Chicago:20250305T213000
DTSTAMP:20260421T143045
CREATED:20241119T164634Z
LAST-MODIFIED:20260205T192024Z
UID:10007536-1741195800-1741210200@www.tcotc.com
SUMMARY:Obedience Classes
DESCRIPTION:Ring Room and Star Room
URL:https://www.tcotc.com/event/obedience-classes-3/2025-03-05/
LOCATION:Ring Room and Star Room
CATEGORIES:Obedience
END:VEVENT
BEGIN:VEVENT
DTSTART;TZID=America/Chicago:20250305T113000
DTEND;TZID=America/Chicago:20250305T150000
DTSTAMP:20260421T143045
CREATED:20241119T194155Z
LAST-MODIFIED:20251218T214644Z
UID:10008163-1741174200-1741186800@www.tcotc.com
SUMMARY:Agility Classes
DESCRIPTION:
URL:https://www.tcotc.com/event/agility-classes-5/2025-03-05/
LOCATION:Annex
CATEGORIES:Agility
END:VEVENT
BEGIN:VEVENT
DTSTART;TZID=America/Chicago:20250304T180000
DTEND;TZID=America/Chicago:20250304T200000
DTSTAMP:20260421T143045
CREATED:20250217T170505Z
LAST-MODIFIED:20250217T170505Z
UID:10009183-1741111200-1741118400@www.tcotc.com
SUMMARY:Obedience Practice
DESCRIPTION:Rings 1 & 2 – Contact: Laura Waudby
URL:https://www.tcotc.com/event/obedience-practice/
LOCATION:Rings 1&2
CATEGORIES:Obedience
END:VEVENT
BEGIN:VEVENT
DTSTART;TZID=America/Chicago:20250304T180000
DTEND;TZID=America/Chicago:20250304T193000
DTSTAMP:20260421T143045
CREATED:20240326T132413Z
LAST-MODIFIED:20241119T175144Z
UID:10006852-1741111200-1741116600@www.tcotc.com
SUMMARY:Changing Attitudes
DESCRIPTION:6:00 p.m. – 7:30 p.m. in the Star Room
URL:https://www.tcotc.com/event/changing-attitues/2025-03-04/
LOCATION:Star Room
CATEGORIES:Behavior
END:VEVENT
BEGIN:VEVENT
DTSTART;TZID=America/Chicago:20250304T180000
DTEND;TZID=America/Chicago:20250304T190000
DTSTAMP:20260421T143045
CREATED:20250304T152658Z
LAST-MODIFIED:20260120T211953Z
UID:10011365-1741111200-1741114800@www.tcotc.com
SUMMARY:Conformation
DESCRIPTION:Wendy Olson – Ring 1 \nNo class on December 16\, 2025
URL:https://www.tcotc.com/event/conformation-2/2025-03-04/
LOCATION:Ring 1
CATEGORIES:Conformation
END:VEVENT
BEGIN:VEVENT
DTSTART;TZID=America/Chicago:20250304T180000
DTEND;TZID=America/Chicago:20250304T190000
DTSTAMP:20260421T143045
CREATED:20250304T152559Z
LAST-MODIFIED:20250304T152559Z
UID:10009185-1741111200-1741114800@www.tcotc.com
SUMMARY:Conformation - Cancelled
DESCRIPTION:Wendy Olson – Ring 1
URL:https://www.tcotc.com/event/conformation-cancelled/
LOCATION:Ring 1
END:VEVENT
BEGIN:VEVENT
DTSTART;TZID=America/Chicago:20250304T133000
DTEND;TZID=America/Chicago:20250304T213000
DTSTAMP:20260421T143045
CREATED:20241119T193615Z
LAST-MODIFIED:20251218T211433Z
UID:10008116-1741095000-1741123800@www.tcotc.com
SUMMARY:Agility Classes
DESCRIPTION:
URL:https://www.tcotc.com/event/agility-classes-4/2025-03-04/
LOCATION:Annex
CATEGORIES:Agility
END:VEVENT
BEGIN:VEVENT
DTSTART;TZID=America/Chicago:20250304T131500
DTEND;TZID=America/Chicago:20250304T141500
DTSTAMP:20260421T143045
CREATED:20250121T153138Z
LAST-MODIFIED:20250121T153138Z
UID:10009120-1741094100-1741097700@www.tcotc.com
SUMMARY:Conformation
DESCRIPTION:1:15 p.m. – 2:15 p.m. – Ring 1\nInstructor: Wendy Olson \n$10 members/$12 non-members \nREGISTER HERE
URL:https://www.tcotc.com/event/conformation-4-2/2025-03-04/
LOCATION:Ring 1
CATEGORIES:Conformation
END:VEVENT
BEGIN:VEVENT
DTSTART;TZID=America/Chicago:20250304T121500
DTEND;TZID=America/Chicago:20250304T131500
DTSTAMP:20260421T143045
CREATED:20250527T185947Z
LAST-MODIFIED:20260106T142050Z
UID:10011309-1741090500-1741094100@www.tcotc.com
SUMMARY:Conformation
DESCRIPTION:12:15 p.m. – 1:15 p.m. – Ring 1\nInstructor: Wendy Olson \n$10 members/$12 non-members \nNo classes on December 16\, 2025 \nREGISTER HERE
URL:https://www.tcotc.com/event/conformation-4-2-2/2025-03-04/
LOCATION:Ring 1
CATEGORIES:Conformation
END:VEVENT
BEGIN:VEVENT
DTSTART;TZID=America/Chicago:20250304T120000
DTEND;TZID=America/Chicago:20250304T130000
DTSTAMP:20260421T143045
CREATED:20241119T183140Z
LAST-MODIFIED:20260106T141954Z
UID:10007675-1741089600-1741093200@www.tcotc.com
SUMMARY:Competition Bedrock
DESCRIPTION:
URL:https://www.tcotc.com/event/competition-bedrock/2025-03-04/
LOCATION:Ring Room
CATEGORIES:Obedience
END:VEVENT
BEGIN:VEVENT
DTSTART;TZID=America/Chicago:20250304T090000
DTEND;TZID=America/Chicago:20250304T123000
DTSTAMP:20260421T143045
CREATED:20241119T193218Z
LAST-MODIFIED:20260106T141843Z
UID:10007868-1741078800-1741091400@www.tcotc.com
SUMMARY:Agility Classes
DESCRIPTION:
URL:https://www.tcotc.com/event/agility-classes-3/2025-03-04/
LOCATION:Annex
CATEGORIES:Agility
END:VEVENT
BEGIN:VEVENT
DTSTART;TZID=America/Chicago:20250304T090000
DTEND;TZID=America/Chicago:20250304T120000
DTSTAMP:20260421T143045
CREATED:20241119T163521Z
LAST-MODIFIED:20260106T141756Z
UID:10007444-1741078800-1741089600@www.tcotc.com
SUMMARY:Obedience Classes
DESCRIPTION:Meeting Room and Star Room
URL:https://www.tcotc.com/event/obedience-classes-2/2025-03-04/
LOCATION:Ring Room and Star Room
CATEGORIES:Obedience
END:VEVENT
BEGIN:VEVENT
DTSTART;TZID=America/Chicago:20250303T190000
DTEND;TZID=America/Chicago:20250303T200000
DTSTAMP:20260421T143045
CREATED:20241119T162237Z
LAST-MODIFIED:20241119T175319Z
UID:10007352-1741028400-1741032000@www.tcotc.com
SUMMARY:Puppy/Tweener Class
DESCRIPTION:Meeting Room
URL:https://www.tcotc.com/event/puppy-tweener-class/2025-03-03/
LOCATION:Meeting Room
CATEGORIES:Puppy/Tweener
END:VEVENT
BEGIN:VEVENT
DTSTART;TZID=America/Chicago:20250303T173000
DTEND;TZID=America/Chicago:20250303T213000
DTSTAMP:20260421T143045
CREATED:20241119T192531Z
LAST-MODIFIED:20251218T211137Z
UID:10007820-1741023000-1741037400@www.tcotc.com
SUMMARY:Agility Classes
DESCRIPTION:5:30 p.m. – 9:30 p.m. – Annex
URL:https://www.tcotc.com/event/agility-classes-2/2025-03-03/
LOCATION:Annex
CATEGORIES:Agility
END:VEVENT
BEGIN:VEVENT
DTSTART;TZID=America/Chicago:20250303T173000
DTEND;TZID=America/Chicago:20250303T213000
DTSTAMP:20260421T143045
CREATED:20241119T162919Z
LAST-MODIFIED:20251218T183215Z
UID:10007399-1741023000-1741037400@www.tcotc.com
SUMMARY:Obedience Classes
DESCRIPTION:
URL:https://www.tcotc.com/event/obedience-classes/2025-03-03/
LOCATION:Ring Room and Star Room
CATEGORIES:Obedience
END:VEVENT
BEGIN:VEVENT
DTSTART;TZID=America/Chicago:20250228T080000
DTEND;TZID=America/Chicago:20250302T170000
DTSTAMP:20260421T143045
CREATED:20250113T174831Z
LAST-MODIFIED:20260114T234834Z
UID:10012039-1740729600-1740934800@www.tcotc.com
SUMMARY:TCOTC AKC Agility Trial
DESCRIPTION:Agility is a sport in which dog and handler teams race against the clock to complete a course consisting of jumps\, tunnels\, and other obstacles. It’s great fun but requires lots of training and skills. A great way to see it up close is to volunteer! And\, volunteers get free lunch and snacks and a chance to win fun prizes. If you’d like more information about volunteering\, email anneschenk@tcotc.com\, or simply slgn up below! \nOur February-March 2026 AKC Agility Trial is open for entries. We’re excited to welcome Judge Thomas O’Brien for his first visit to TCOTC! \nEntries open: Wednesday\, January 7\nDraw Date: Thursday\, January 22\nFinal Closing Date: Wednesday\, February 11\nTrial chair: Anne Schenk\, anneschenk@tcotc.com\nJudge: Shannon Jones\, Cary\, NC \nDOWNLOAD PREMIUM AND ENTRY FORM HERE \nOr enter online at labtestedonline.com. \nSIGN UP TO VOLUNTEER HERE \n 
URL:https://www.tcotc.com/event/akc-agility-trial-5/
LOCATION:Entire Facility
CATEGORIES:Special Events
END:VEVENT
BEGIN:VEVENT
DTSTART;TZID=America/Chicago:20250227T174500
DTEND;TZID=America/Chicago:20250227T184500
DTSTAMP:20260421T143045
CREATED:20241119T184400Z
LAST-MODIFIED:20260123T205319Z
UID:10007759-1740678300-1740681900@www.tcotc.com
SUMMARY:Competition Bedrock
DESCRIPTION:
URL:https://www.tcotc.com/event/competition-bedrock-3/2025-02-27/
LOCATION:Ring Room
CATEGORIES:Obedience
END:VEVENT
BEGIN:VEVENT
DTSTART;TZID=America/Chicago:20250227T173000
DTEND;TZID=America/Chicago:20250227T213000
DTSTAMP:20260421T143045
CREATED:20241119T180230Z
LAST-MODIFIED:20260123T205523Z
UID:10007624-1740677400-1740691800@www.tcotc.com
SUMMARY:Obedience Classes
DESCRIPTION:5:30 pm – 9:30 pm – Ring Room and Star Room
URL:https://www.tcotc.com/event/obedience-classes-4/2025-02-27/
LOCATION:Ring Room and Star Room
CATEGORIES:Obedience
END:VEVENT
BEGIN:VEVENT
DTSTART;TZID=America/Chicago:20250227T173000
DTEND;TZID=America/Chicago:20250227T200000
DTSTAMP:20260421T143045
CREATED:20241119T174858Z
LAST-MODIFIED:20260123T205416Z
UID:10007580-1740677400-1740686400@www.tcotc.com
SUMMARY:Puppy/Tweener Classes
DESCRIPTION:Meeting Room
URL:https://www.tcotc.com/event/puppy-tweener-classes-3/2025-02-27/
LOCATION:Meeting Room
CATEGORIES:Puppy/Tweener
END:VEVENT
BEGIN:VEVENT
DTSTART;TZID=America/Chicago:20250227T150000
DTEND;TZID=America/Chicago:20250227T173000
DTSTAMP:20260421T143045
CREATED:20240213T211645Z
LAST-MODIFIED:20260123T203755Z
UID:10006270-1740668400-1740677400@www.tcotc.com
SUMMARY:Agility for Fun classes
DESCRIPTION:3:00 to 4:00 p.m. and 4:15 p.m. to 5:15 p.m.
URL:https://www.tcotc.com/event/agility-for-fun-classes/2025-02-27/
LOCATION:Annex
CATEGORIES:Agility
END:VEVENT
BEGIN:VEVENT
DTSTART;TZID=America/Chicago:20250226T201500
DTEND;TZID=America/Chicago:20250226T211500
DTSTAMP:20260421T143045
CREATED:20241119T183836Z
LAST-MODIFIED:20251218T190510Z
UID:10007717-1740600900-1740604500@www.tcotc.com
SUMMARY:Competition Bedrock
DESCRIPTION:8:15 pm – 9:15 pm Ring Room
URL:https://www.tcotc.com/event/competition-bedrock-2/2025-02-26/
END:VEVENT
BEGIN:VEVENT
DTSTART;TZID=America/Chicago:20250226T173000
DTEND;TZID=America/Chicago:20250226T213000
DTSTAMP:20260421T143045
CREATED:20241119T194515Z
LAST-MODIFIED:20251218T214801Z
UID:10008407-1740591000-1740605400@www.tcotc.com
SUMMARY:Agility Classes
DESCRIPTION:
URL:https://www.tcotc.com/event/agility-classes-6/2025-02-26/
LOCATION:Annex
CATEGORIES:Agility
END:VEVENT
BEGIN:VEVENT
DTSTART;TZID=America/Chicago:20250226T173000
DTEND;TZID=America/Chicago:20250226T213000
DTSTAMP:20260421T143045
CREATED:20241119T164634Z
LAST-MODIFIED:20260205T192024Z
UID:10007535-1740591000-1740605400@www.tcotc.com
SUMMARY:Obedience Classes
DESCRIPTION:Ring Room and Star Room
URL:https://www.tcotc.com/event/obedience-classes-3/2025-02-26/
LOCATION:Ring Room and Star Room
CATEGORIES:Obedience
END:VEVENT
BEGIN:VEVENT
DTSTART;TZID=America/Chicago:20250226T113000
DTEND;TZID=America/Chicago:20250226T150000
DTSTAMP:20260421T143045
CREATED:20241119T194155Z
LAST-MODIFIED:20251218T214644Z
UID:10008162-1740569400-1740582000@www.tcotc.com
SUMMARY:Agility Classes
DESCRIPTION:
URL:https://www.tcotc.com/event/agility-classes-5/2025-02-26/
LOCATION:Annex
CATEGORIES:Agility
END:VEVENT
END:VCALENDAR