BEGIN:VCALENDAR
VERSION:2.0
PRODID:-//Twin Cities Obedience Training Club - ECPv6.15.13//NONSGML v1.0//EN
CALSCALE:GREGORIAN
METHOD:PUBLISH
X-WR-CALNAME:Twin Cities Obedience Training Club
X-ORIGINAL-URL:https://www.tcotc.com
X-WR-CALDESC:Events for Twin Cities Obedience Training Club
REFRESH-INTERVAL;VALUE=DURATION:PT1H
X-Robots-Tag:noindex
X-PUBLISHED-TTL:PT1H
BEGIN:VTIMEZONE
TZID:America/Chicago
BEGIN:DAYLIGHT
TZOFFSETFROM:-0600
TZOFFSETTO:-0500
TZNAME:CDT
DTSTART:20260308T080000
END:DAYLIGHT
BEGIN:STANDARD
TZOFFSETFROM:-0500
TZOFFSETTO:-0600
TZNAME:CST
DTSTART:20261101T070000
END:STANDARD
BEGIN:DAYLIGHT
TZOFFSETFROM:-0600
TZOFFSETTO:-0500
TZNAME:CDT
DTSTART:20270314T080000
END:DAYLIGHT
BEGIN:STANDARD
TZOFFSETFROM:-0500
TZOFFSETTO:-0600
TZNAME:CST
DTSTART:20271107T070000
END:STANDARD
BEGIN:DAYLIGHT
TZOFFSETFROM:-0600
TZOFFSETTO:-0500
TZNAME:CDT
DTSTART:20280312T080000
END:DAYLIGHT
BEGIN:STANDARD
TZOFFSETFROM:-0500
TZOFFSETTO:-0600
TZNAME:CST
DTSTART:20281105T070000
END:STANDARD
END:VTIMEZONE
BEGIN:VEVENT
DTSTART;TZID=America/Chicago:20270708T173000
DTEND;TZID=America/Chicago:20270708T213000
DTSTAMP:20260421T130137
CREATED:20241119T194942Z
LAST-MODIFIED:20260123T203945Z
UID:10008569-1815067800-1815082200@www.tcotc.com
SUMMARY:Agility Classes
DESCRIPTION:
URL:https://www.tcotc.com/event/agility-classes-7/2027-07-08/
LOCATION:Annex
CATEGORIES:Agility
END:VEVENT
BEGIN:VEVENT
DTSTART;TZID=America/Chicago:20270713T151500
DTEND;TZID=America/Chicago:20270713T173000
DTSTAMP:20260421T130137
CREATED:20260106T180136Z
LAST-MODIFIED:20260106T180213Z
UID:10011448-1815491700-1815499800@www.tcotc.com
SUMMARY:Scent Work
DESCRIPTION:3:15 pm class is in the Star Room \n 
URL:https://www.tcotc.com/event/scent-work/2027-07-13/
LOCATION:Meeting Room
CATEGORIES:Obedience
END:VEVENT
BEGIN:VEVENT
DTSTART;TZID=America/Chicago:20270713T180000
DTEND;TZID=America/Chicago:20270713T190000
DTSTAMP:20260421T130137
CREATED:20250304T152658Z
LAST-MODIFIED:20260120T211953Z
UID:10009308-1815501600-1815505200@www.tcotc.com
SUMMARY:Conformation
DESCRIPTION:Wendy Olson – Ring 1 \nNo class on December 16\, 2025
URL:https://www.tcotc.com/event/conformation-2/2027-07-13/
LOCATION:Ring 1
CATEGORIES:Conformation
END:VEVENT
BEGIN:VEVENT
DTSTART;TZID=America/Chicago:20270713T191500
DTEND;TZID=America/Chicago:20270713T201500
DTSTAMP:20260421T130137
CREATED:20260112T182400Z
LAST-MODIFIED:20260112T182400Z
UID:10011709-1815506100-1815509700@www.tcotc.com
SUMMARY:Treibball Class
DESCRIPTION:Rings 1 & 2
URL:https://www.tcotc.com/event/treibball-class/2027-07-13/
LOCATION:Rings 1&2
CATEGORIES:Obedience
END:VEVENT
BEGIN:VEVENT
DTSTART;TZID=America/Chicago:20270715T150000
DTEND;TZID=America/Chicago:20270715T173000
DTSTAMP:20260421T130137
CREATED:20240213T211645Z
LAST-MODIFIED:20260123T203755Z
UID:10006394-1815663600-1815672600@www.tcotc.com
SUMMARY:Agility for Fun classes
DESCRIPTION:3:00 to 4:00 p.m. and 4:15 p.m. to 5:15 p.m.
URL:https://www.tcotc.com/event/agility-for-fun-classes/2027-07-15/
LOCATION:Annex
CATEGORIES:Agility
END:VEVENT
BEGIN:VEVENT
DTSTART;TZID=America/Chicago:20270715T173000
DTEND;TZID=America/Chicago:20270715T213000
DTSTAMP:20260421T130137
CREATED:20241119T194942Z
LAST-MODIFIED:20260123T203945Z
UID:10008570-1815672600-1815687000@www.tcotc.com
SUMMARY:Agility Classes
DESCRIPTION:
URL:https://www.tcotc.com/event/agility-classes-7/2027-07-15/
LOCATION:Annex
CATEGORIES:Agility
END:VEVENT
BEGIN:VEVENT
DTSTART;TZID=America/Chicago:20270720T151500
DTEND;TZID=America/Chicago:20270720T173000
DTSTAMP:20260421T130137
CREATED:20260106T180136Z
LAST-MODIFIED:20260106T180213Z
UID:10011449-1816096500-1816104600@www.tcotc.com
SUMMARY:Scent Work
DESCRIPTION:3:15 pm class is in the Star Room \n 
URL:https://www.tcotc.com/event/scent-work/2027-07-20/
LOCATION:Meeting Room
CATEGORIES:Obedience
END:VEVENT
BEGIN:VEVENT
DTSTART;TZID=America/Chicago:20270720T180000
DTEND;TZID=America/Chicago:20270720T190000
DTSTAMP:20260421T130137
CREATED:20250304T152658Z
LAST-MODIFIED:20260120T211953Z
UID:10009309-1816106400-1816110000@www.tcotc.com
SUMMARY:Conformation
DESCRIPTION:Wendy Olson – Ring 1 \nNo class on December 16\, 2025
URL:https://www.tcotc.com/event/conformation-2/2027-07-20/
LOCATION:Ring 1
CATEGORIES:Conformation
END:VEVENT
BEGIN:VEVENT
DTSTART;TZID=America/Chicago:20270720T191500
DTEND;TZID=America/Chicago:20270720T201500
DTSTAMP:20260421T130137
CREATED:20260112T182400Z
LAST-MODIFIED:20260112T182400Z
UID:10011710-1816110900-1816114500@www.tcotc.com
SUMMARY:Treibball Class
DESCRIPTION:Rings 1 & 2
URL:https://www.tcotc.com/event/treibball-class/2027-07-20/
LOCATION:Rings 1&2
CATEGORIES:Obedience
END:VEVENT
BEGIN:VEVENT
DTSTART;TZID=America/Chicago:20270722T150000
DTEND;TZID=America/Chicago:20270722T173000
DTSTAMP:20260421T130137
CREATED:20240213T211645Z
LAST-MODIFIED:20260123T203755Z
UID:10006395-1816268400-1816277400@www.tcotc.com
SUMMARY:Agility for Fun classes
DESCRIPTION:3:00 to 4:00 p.m. and 4:15 p.m. to 5:15 p.m.
URL:https://www.tcotc.com/event/agility-for-fun-classes/2027-07-22/
LOCATION:Annex
CATEGORIES:Agility
END:VEVENT
BEGIN:VEVENT
DTSTART;TZID=America/Chicago:20270722T173000
DTEND;TZID=America/Chicago:20270722T213000
DTSTAMP:20260421T130137
CREATED:20241119T194942Z
LAST-MODIFIED:20260123T203945Z
UID:10008571-1816277400-1816291800@www.tcotc.com
SUMMARY:Agility Classes
DESCRIPTION:
URL:https://www.tcotc.com/event/agility-classes-7/2027-07-22/
LOCATION:Annex
CATEGORIES:Agility
END:VEVENT
BEGIN:VEVENT
DTSTART;TZID=America/Chicago:20270727T151500
DTEND;TZID=America/Chicago:20270727T173000
DTSTAMP:20260421T130137
CREATED:20260106T180136Z
LAST-MODIFIED:20260106T180213Z
UID:10011450-1816701300-1816709400@www.tcotc.com
SUMMARY:Scent Work
DESCRIPTION:3:15 pm class is in the Star Room \n 
URL:https://www.tcotc.com/event/scent-work/2027-07-27/
LOCATION:Meeting Room
CATEGORIES:Obedience
END:VEVENT
BEGIN:VEVENT
DTSTART;TZID=America/Chicago:20270727T180000
DTEND;TZID=America/Chicago:20270727T190000
DTSTAMP:20260421T130137
CREATED:20250304T152658Z
LAST-MODIFIED:20260120T211953Z
UID:10009310-1816711200-1816714800@www.tcotc.com
SUMMARY:Conformation
DESCRIPTION:Wendy Olson – Ring 1 \nNo class on December 16\, 2025
URL:https://www.tcotc.com/event/conformation-2/2027-07-27/
LOCATION:Ring 1
CATEGORIES:Conformation
END:VEVENT
BEGIN:VEVENT
DTSTART;TZID=America/Chicago:20270727T191500
DTEND;TZID=America/Chicago:20270727T201500
DTSTAMP:20260421T130137
CREATED:20260112T182400Z
LAST-MODIFIED:20260112T182400Z
UID:10011711-1816715700-1816719300@www.tcotc.com
SUMMARY:Treibball Class
DESCRIPTION:Rings 1 & 2
URL:https://www.tcotc.com/event/treibball-class/2027-07-27/
LOCATION:Rings 1&2
CATEGORIES:Obedience
END:VEVENT
BEGIN:VEVENT
DTSTART;TZID=America/Chicago:20270729T150000
DTEND;TZID=America/Chicago:20270729T173000
DTSTAMP:20260421T130137
CREATED:20240213T211645Z
LAST-MODIFIED:20260123T203755Z
UID:10006396-1816873200-1816882200@www.tcotc.com
SUMMARY:Agility for Fun classes
DESCRIPTION:3:00 to 4:00 p.m. and 4:15 p.m. to 5:15 p.m.
URL:https://www.tcotc.com/event/agility-for-fun-classes/2027-07-29/
LOCATION:Annex
CATEGORIES:Agility
END:VEVENT
BEGIN:VEVENT
DTSTART;TZID=America/Chicago:20270729T173000
DTEND;TZID=America/Chicago:20270729T213000
DTSTAMP:20260421T130137
CREATED:20241119T194942Z
LAST-MODIFIED:20260123T203945Z
UID:10008572-1816882200-1816896600@www.tcotc.com
SUMMARY:Agility Classes
DESCRIPTION:
URL:https://www.tcotc.com/event/agility-classes-7/2027-07-29/
LOCATION:Annex
CATEGORIES:Agility
END:VEVENT
BEGIN:VEVENT
DTSTART;TZID=America/Chicago:20270803T151500
DTEND;TZID=America/Chicago:20270803T173000
DTSTAMP:20260421T130137
CREATED:20260106T180136Z
LAST-MODIFIED:20260106T180213Z
UID:10011451-1817306100-1817314200@www.tcotc.com
SUMMARY:Scent Work
DESCRIPTION:3:15 pm class is in the Star Room \n 
URL:https://www.tcotc.com/event/scent-work/2027-08-03/
LOCATION:Meeting Room
CATEGORIES:Obedience
END:VEVENT
BEGIN:VEVENT
DTSTART;TZID=America/Chicago:20270803T180000
DTEND;TZID=America/Chicago:20270803T190000
DTSTAMP:20260421T130137
CREATED:20250304T152658Z
LAST-MODIFIED:20260120T211953Z
UID:10009311-1817316000-1817319600@www.tcotc.com
SUMMARY:Conformation
DESCRIPTION:Wendy Olson – Ring 1 \nNo class on December 16\, 2025
URL:https://www.tcotc.com/event/conformation-2/2027-08-03/
LOCATION:Ring 1
CATEGORIES:Conformation
END:VEVENT
BEGIN:VEVENT
DTSTART;TZID=America/Chicago:20270803T191500
DTEND;TZID=America/Chicago:20270803T201500
DTSTAMP:20260421T130137
CREATED:20260112T182400Z
LAST-MODIFIED:20260112T182400Z
UID:10011712-1817320500-1817324100@www.tcotc.com
SUMMARY:Treibball Class
DESCRIPTION:Rings 1 & 2
URL:https://www.tcotc.com/event/treibball-class/2027-08-03/
LOCATION:Rings 1&2
CATEGORIES:Obedience
END:VEVENT
BEGIN:VEVENT
DTSTART;TZID=America/Chicago:20270805T150000
DTEND;TZID=America/Chicago:20270805T173000
DTSTAMP:20260421T130137
CREATED:20240213T211645Z
LAST-MODIFIED:20260123T203755Z
UID:10006397-1817478000-1817487000@www.tcotc.com
SUMMARY:Agility for Fun classes
DESCRIPTION:3:00 to 4:00 p.m. and 4:15 p.m. to 5:15 p.m.
URL:https://www.tcotc.com/event/agility-for-fun-classes/2027-08-05/
LOCATION:Annex
CATEGORIES:Agility
END:VEVENT
BEGIN:VEVENT
DTSTART;TZID=America/Chicago:20270805T173000
DTEND;TZID=America/Chicago:20270805T213000
DTSTAMP:20260421T130137
CREATED:20241119T194942Z
LAST-MODIFIED:20260123T203945Z
UID:10008573-1817487000-1817501400@www.tcotc.com
SUMMARY:Agility Classes
DESCRIPTION:
URL:https://www.tcotc.com/event/agility-classes-7/2027-08-05/
LOCATION:Annex
CATEGORIES:Agility
END:VEVENT
BEGIN:VEVENT
DTSTART;TZID=America/Chicago:20270810T151500
DTEND;TZID=America/Chicago:20270810T173000
DTSTAMP:20260421T130137
CREATED:20260106T180136Z
LAST-MODIFIED:20260106T180213Z
UID:10011452-1817910900-1817919000@www.tcotc.com
SUMMARY:Scent Work
DESCRIPTION:3:15 pm class is in the Star Room \n 
URL:https://www.tcotc.com/event/scent-work/2027-08-10/
LOCATION:Meeting Room
CATEGORIES:Obedience
END:VEVENT
BEGIN:VEVENT
DTSTART;TZID=America/Chicago:20270810T180000
DTEND;TZID=America/Chicago:20270810T190000
DTSTAMP:20260421T130137
CREATED:20250304T152658Z
LAST-MODIFIED:20260120T211953Z
UID:10009312-1817920800-1817924400@www.tcotc.com
SUMMARY:Conformation
DESCRIPTION:Wendy Olson – Ring 1 \nNo class on December 16\, 2025
URL:https://www.tcotc.com/event/conformation-2/2027-08-10/
LOCATION:Ring 1
CATEGORIES:Conformation
END:VEVENT
BEGIN:VEVENT
DTSTART;TZID=America/Chicago:20270810T191500
DTEND;TZID=America/Chicago:20270810T201500
DTSTAMP:20260421T130137
CREATED:20260112T182400Z
LAST-MODIFIED:20260112T182400Z
UID:10011713-1817925300-1817928900@www.tcotc.com
SUMMARY:Treibball Class
DESCRIPTION:Rings 1 & 2
URL:https://www.tcotc.com/event/treibball-class/2027-08-10/
LOCATION:Rings 1&2
CATEGORIES:Obedience
END:VEVENT
BEGIN:VEVENT
DTSTART;TZID=America/Chicago:20270812T150000
DTEND;TZID=America/Chicago:20270812T173000
DTSTAMP:20260421T130137
CREATED:20240213T211645Z
LAST-MODIFIED:20260123T203755Z
UID:10006398-1818082800-1818091800@www.tcotc.com
SUMMARY:Agility for Fun classes
DESCRIPTION:3:00 to 4:00 p.m. and 4:15 p.m. to 5:15 p.m.
URL:https://www.tcotc.com/event/agility-for-fun-classes/2027-08-12/
LOCATION:Annex
CATEGORIES:Agility
END:VEVENT
BEGIN:VEVENT
DTSTART;TZID=America/Chicago:20270812T173000
DTEND;TZID=America/Chicago:20270812T213000
DTSTAMP:20260421T130137
CREATED:20241119T194942Z
LAST-MODIFIED:20260123T203945Z
UID:10008574-1818091800-1818106200@www.tcotc.com
SUMMARY:Agility Classes
DESCRIPTION:
URL:https://www.tcotc.com/event/agility-classes-7/2027-08-12/
LOCATION:Annex
CATEGORIES:Agility
END:VEVENT
BEGIN:VEVENT
DTSTART;TZID=America/Chicago:20270817T151500
DTEND;TZID=America/Chicago:20270817T173000
DTSTAMP:20260421T130137
CREATED:20260106T180136Z
LAST-MODIFIED:20260106T180213Z
UID:10011453-1818515700-1818523800@www.tcotc.com
SUMMARY:Scent Work
DESCRIPTION:3:15 pm class is in the Star Room \n 
URL:https://www.tcotc.com/event/scent-work/2027-08-17/
LOCATION:Meeting Room
CATEGORIES:Obedience
END:VEVENT
BEGIN:VEVENT
DTSTART;TZID=America/Chicago:20270817T180000
DTEND;TZID=America/Chicago:20270817T190000
DTSTAMP:20260421T130137
CREATED:20250304T152658Z
LAST-MODIFIED:20260120T211953Z
UID:10009313-1818525600-1818529200@www.tcotc.com
SUMMARY:Conformation
DESCRIPTION:Wendy Olson – Ring 1 \nNo class on December 16\, 2025
URL:https://www.tcotc.com/event/conformation-2/2027-08-17/
LOCATION:Ring 1
CATEGORIES:Conformation
END:VEVENT
BEGIN:VEVENT
DTSTART;TZID=America/Chicago:20270817T191500
DTEND;TZID=America/Chicago:20270817T201500
DTSTAMP:20260421T130137
CREATED:20260112T182400Z
LAST-MODIFIED:20260112T182400Z
UID:10011714-1818530100-1818533700@www.tcotc.com
SUMMARY:Treibball Class
DESCRIPTION:Rings 1 & 2
URL:https://www.tcotc.com/event/treibball-class/2027-08-17/
LOCATION:Rings 1&2
CATEGORIES:Obedience
END:VEVENT
BEGIN:VEVENT
DTSTART;TZID=America/Chicago:20270819T150000
DTEND;TZID=America/Chicago:20270819T173000
DTSTAMP:20260421T130137
CREATED:20240213T211645Z
LAST-MODIFIED:20260123T203755Z
UID:10006399-1818687600-1818696600@www.tcotc.com
SUMMARY:Agility for Fun classes
DESCRIPTION:3:00 to 4:00 p.m. and 4:15 p.m. to 5:15 p.m.
URL:https://www.tcotc.com/event/agility-for-fun-classes/2027-08-19/
LOCATION:Annex
CATEGORIES:Agility
END:VEVENT
END:VCALENDAR