BEGIN:VCALENDAR
VERSION:2.0
PRODID:-//Twin Cities Obedience Training Club - ECPv6.15.13//NONSGML v1.0//EN
CALSCALE:GREGORIAN
METHOD:PUBLISH
X-WR-CALNAME:Twin Cities Obedience Training Club
X-ORIGINAL-URL:https://www.tcotc.com
X-WR-CALDESC:Events for Twin Cities Obedience Training Club
REFRESH-INTERVAL;VALUE=DURATION:PT1H
X-Robots-Tag:noindex
X-PUBLISHED-TTL:PT1H
BEGIN:VTIMEZONE
TZID:America/Chicago
BEGIN:DAYLIGHT
TZOFFSETFROM:-0600
TZOFFSETTO:-0500
TZNAME:CDT
DTSTART:20240310T080000
END:DAYLIGHT
BEGIN:STANDARD
TZOFFSETFROM:-0500
TZOFFSETTO:-0600
TZNAME:CST
DTSTART:20241103T070000
END:STANDARD
BEGIN:DAYLIGHT
TZOFFSETFROM:-0600
TZOFFSETTO:-0500
TZNAME:CDT
DTSTART:20250309T080000
END:DAYLIGHT
BEGIN:STANDARD
TZOFFSETFROM:-0500
TZOFFSETTO:-0600
TZNAME:CST
DTSTART:20251102T070000
END:STANDARD
BEGIN:DAYLIGHT
TZOFFSETFROM:-0600
TZOFFSETTO:-0500
TZNAME:CDT
DTSTART:20260308T080000
END:DAYLIGHT
BEGIN:STANDARD
TZOFFSETFROM:-0500
TZOFFSETTO:-0600
TZNAME:CST
DTSTART:20261101T070000
END:STANDARD
END:VTIMEZONE
BEGIN:VEVENT
DTSTART;TZID=America/Chicago:20250320T173000
DTEND;TZID=America/Chicago:20250320T213000
DTSTAMP:20260421T100956
CREATED:20241119T180230Z
LAST-MODIFIED:20260123T205523Z
UID:10007627-1742491800-1742506200@www.tcotc.com
SUMMARY:Obedience Classes
DESCRIPTION:5:30 pm – 9:30 pm – Ring Room and Star Room
URL:https://www.tcotc.com/event/obedience-classes-4/2025-03-20/
LOCATION:Ring Room and Star Room
CATEGORIES:Obedience
END:VEVENT
BEGIN:VEVENT
DTSTART;TZID=America/Chicago:20250320T173000
DTEND;TZID=America/Chicago:20250320T200000
DTSTAMP:20260421T100956
CREATED:20241119T174858Z
LAST-MODIFIED:20260123T205416Z
UID:10007583-1742491800-1742500800@www.tcotc.com
SUMMARY:Puppy/Tweener Classes
DESCRIPTION:Meeting Room
URL:https://www.tcotc.com/event/puppy-tweener-classes-3/2025-03-20/
LOCATION:Meeting Room
CATEGORIES:Puppy/Tweener
END:VEVENT
BEGIN:VEVENT
DTSTART;TZID=America/Chicago:20250320T150000
DTEND;TZID=America/Chicago:20250320T173000
DTSTAMP:20260421T100956
CREATED:20240213T211645Z
LAST-MODIFIED:20260123T203755Z
UID:10006273-1742482800-1742491800@www.tcotc.com
SUMMARY:Agility for Fun classes
DESCRIPTION:3:00 to 4:00 p.m. and 4:15 p.m. to 5:15 p.m.
URL:https://www.tcotc.com/event/agility-for-fun-classes/2025-03-20/
LOCATION:Annex
CATEGORIES:Agility
END:VEVENT
BEGIN:VEVENT
DTSTART;TZID=America/Chicago:20250320T123000
DTEND;TZID=America/Chicago:20250320T143000
DTSTAMP:20260421T100956
CREATED:20240227T223016Z
LAST-MODIFIED:20260123T204054Z
UID:10008699-1742473800-1742481000@www.tcotc.com
SUMMARY:Open Ring Time
DESCRIPTION:Agility and Obedience Open Ring Time\nMost Thursdays\, 12:30 p.m. – 2:30 p.m. \nLooking for some extra training time? Want to practice before an upcoming trial? Sign up for Obedience and Agility Open Ring Time. Members and non-members welcome. Please follow posted rules. For agility practice\, dogs must have at least 18 weeks of agility training at the beginner level or higher and be able to safely handle contacts at full height. \nMembers $8/Non-members $12 for 10 minutes of ring time. Three dogs may sign up for each half-hour time slot. You may be sharing a ring with others who have signed up for the same time slot. \nRegister in advance here.
URL:https://www.tcotc.com/event/open-ring-time-6-2-2/2025-03-20/
LOCATION:Annex & Ring Room
CATEGORIES:Open Ring
END:VEVENT
BEGIN:VEVENT
DTSTART;TZID=America/Chicago:20250319T201500
DTEND;TZID=America/Chicago:20250319T211500
DTSTAMP:20260421T100956
CREATED:20241119T183836Z
LAST-MODIFIED:20251218T190510Z
UID:10007720-1742415300-1742418900@www.tcotc.com
SUMMARY:Competition Bedrock
DESCRIPTION:8:15 pm – 9:15 pm Ring Room
URL:https://www.tcotc.com/event/competition-bedrock-2/2025-03-19/
END:VEVENT
BEGIN:VEVENT
DTSTART;TZID=America/Chicago:20250319T173000
DTEND;TZID=America/Chicago:20250319T213000
DTSTAMP:20260421T100956
CREATED:20241119T194515Z
LAST-MODIFIED:20251218T214801Z
UID:10008410-1742405400-1742419800@www.tcotc.com
SUMMARY:Agility Classes
DESCRIPTION:
URL:https://www.tcotc.com/event/agility-classes-6/2025-03-19/
LOCATION:Annex
CATEGORIES:Agility
END:VEVENT
BEGIN:VEVENT
DTSTART;TZID=America/Chicago:20250319T173000
DTEND;TZID=America/Chicago:20250319T213000
DTSTAMP:20260421T100956
CREATED:20241119T164634Z
LAST-MODIFIED:20260205T192024Z
UID:10007538-1742405400-1742419800@www.tcotc.com
SUMMARY:Obedience Classes
DESCRIPTION:Ring Room and Star Room
URL:https://www.tcotc.com/event/obedience-classes-3/2025-03-19/
LOCATION:Ring Room and Star Room
CATEGORIES:Obedience
END:VEVENT
BEGIN:VEVENT
DTSTART;TZID=America/Chicago:20250319T113000
DTEND;TZID=America/Chicago:20250319T150000
DTSTAMP:20260421T100956
CREATED:20241119T194155Z
LAST-MODIFIED:20251218T214644Z
UID:10008165-1742383800-1742396400@www.tcotc.com
SUMMARY:Agility Classes
DESCRIPTION:
URL:https://www.tcotc.com/event/agility-classes-5/2025-03-19/
LOCATION:Annex
CATEGORIES:Agility
END:VEVENT
BEGIN:VEVENT
DTSTART;TZID=America/Chicago:20250318T180000
DTEND;TZID=America/Chicago:20250318T193000
DTSTAMP:20260421T100956
CREATED:20240326T132413Z
LAST-MODIFIED:20241119T175144Z
UID:10006854-1742320800-1742326200@www.tcotc.com
SUMMARY:Changing Attitudes
DESCRIPTION:6:00 p.m. – 7:30 p.m. in the Star Room
URL:https://www.tcotc.com/event/changing-attitues/2025-03-18/
LOCATION:Star Room
CATEGORIES:Behavior
END:VEVENT
BEGIN:VEVENT
DTSTART;TZID=America/Chicago:20250318T180000
DTEND;TZID=America/Chicago:20250318T190000
DTSTAMP:20260421T100956
CREATED:20250304T152658Z
LAST-MODIFIED:20260120T211953Z
UID:10009187-1742320800-1742324400@www.tcotc.com
SUMMARY:Conformation
DESCRIPTION:Wendy Olson – Ring 1 \nNo class on December 16\, 2025
URL:https://www.tcotc.com/event/conformation-2/2025-03-18/
LOCATION:Ring 1
CATEGORIES:Conformation
END:VEVENT
BEGIN:VEVENT
DTSTART;TZID=America/Chicago:20250318T133000
DTEND;TZID=America/Chicago:20250318T213000
DTSTAMP:20260421T100956
CREATED:20241119T193615Z
LAST-MODIFIED:20251218T211433Z
UID:10008118-1742304600-1742333400@www.tcotc.com
SUMMARY:Agility Classes
DESCRIPTION:
URL:https://www.tcotc.com/event/agility-classes-4/2025-03-18/
LOCATION:Annex
CATEGORIES:Agility
END:VEVENT
BEGIN:VEVENT
DTSTART;TZID=America/Chicago:20250318T131500
DTEND;TZID=America/Chicago:20250318T141500
DTSTAMP:20260421T100956
CREATED:20250121T153138Z
LAST-MODIFIED:20250121T153138Z
UID:10009122-1742303700-1742307300@www.tcotc.com
SUMMARY:Conformation
DESCRIPTION:1:15 p.m. – 2:15 p.m. – Ring 1\nInstructor: Wendy Olson \n$10 members/$12 non-members \nREGISTER HERE
URL:https://www.tcotc.com/event/conformation-4-2/2025-03-18/
LOCATION:Ring 1
CATEGORIES:Conformation
END:VEVENT
BEGIN:VEVENT
DTSTART;TZID=America/Chicago:20250318T121500
DTEND;TZID=America/Chicago:20250318T131500
DTSTAMP:20260421T100956
CREATED:20250527T185947Z
LAST-MODIFIED:20260106T142050Z
UID:10011311-1742300100-1742303700@www.tcotc.com
SUMMARY:Conformation
DESCRIPTION:12:15 p.m. – 1:15 p.m. – Ring 1\nInstructor: Wendy Olson \n$10 members/$12 non-members \nNo classes on December 16\, 2025 \nREGISTER HERE
URL:https://www.tcotc.com/event/conformation-4-2-2/2025-03-18/
LOCATION:Ring 1
CATEGORIES:Conformation
END:VEVENT
BEGIN:VEVENT
DTSTART;TZID=America/Chicago:20250318T120000
DTEND;TZID=America/Chicago:20250318T130000
DTSTAMP:20260421T100956
CREATED:20241119T183140Z
LAST-MODIFIED:20260106T141954Z
UID:10007676-1742299200-1742302800@www.tcotc.com
SUMMARY:Competition Bedrock
DESCRIPTION:
URL:https://www.tcotc.com/event/competition-bedrock/2025-03-18/
LOCATION:Ring Room
CATEGORIES:Obedience
END:VEVENT
BEGIN:VEVENT
DTSTART;TZID=America/Chicago:20250318T090000
DTEND;TZID=America/Chicago:20250318T123000
DTSTAMP:20260421T100956
CREATED:20241119T193218Z
LAST-MODIFIED:20260106T141843Z
UID:10007870-1742288400-1742301000@www.tcotc.com
SUMMARY:Agility Classes
DESCRIPTION:
URL:https://www.tcotc.com/event/agility-classes-3/2025-03-18/
LOCATION:Annex
CATEGORIES:Agility
END:VEVENT
BEGIN:VEVENT
DTSTART;TZID=America/Chicago:20250318T090000
DTEND;TZID=America/Chicago:20250318T120000
DTSTAMP:20260421T100956
CREATED:20241119T163521Z
LAST-MODIFIED:20260106T141756Z
UID:10007445-1742288400-1742299200@www.tcotc.com
SUMMARY:Obedience Classes
DESCRIPTION:Meeting Room and Star Room
URL:https://www.tcotc.com/event/obedience-classes-2/2025-03-18/
LOCATION:Ring Room and Star Room
CATEGORIES:Obedience
END:VEVENT
BEGIN:VEVENT
DTSTART;TZID=America/Chicago:20250317T190000
DTEND;TZID=America/Chicago:20250317T200000
DTSTAMP:20260421T100956
CREATED:20241119T162237Z
LAST-MODIFIED:20241119T175319Z
UID:10007354-1742238000-1742241600@www.tcotc.com
SUMMARY:Puppy/Tweener Class
DESCRIPTION:Meeting Room
URL:https://www.tcotc.com/event/puppy-tweener-class/2025-03-17/
LOCATION:Meeting Room
CATEGORIES:Puppy/Tweener
END:VEVENT
BEGIN:VEVENT
DTSTART;TZID=America/Chicago:20250317T173000
DTEND;TZID=America/Chicago:20250317T213000
DTSTAMP:20260421T100956
CREATED:20241119T192531Z
LAST-MODIFIED:20251218T211137Z
UID:10007822-1742232600-1742247000@www.tcotc.com
SUMMARY:Agility Classes
DESCRIPTION:5:30 p.m. – 9:30 p.m. – Annex
URL:https://www.tcotc.com/event/agility-classes-2/2025-03-17/
LOCATION:Annex
CATEGORIES:Agility
END:VEVENT
BEGIN:VEVENT
DTSTART;TZID=America/Chicago:20250317T173000
DTEND;TZID=America/Chicago:20250317T213000
DTSTAMP:20260421T100956
CREATED:20241119T162919Z
LAST-MODIFIED:20251218T183215Z
UID:10007401-1742232600-1742247000@www.tcotc.com
SUMMARY:Obedience Classes
DESCRIPTION:
URL:https://www.tcotc.com/event/obedience-classes/2025-03-17/
LOCATION:Ring Room and Star Room
CATEGORIES:Obedience
END:VEVENT
BEGIN:VEVENT
DTSTART;TZID=America/Chicago:20250314T080000
DTEND;TZID=America/Chicago:20250316T170000
DTSTAMP:20260421T100956
CREATED:20230916T181956Z
LAST-MODIFIED:20250901T032252Z
UID:10007073-1741939200-1742144400@www.tcotc.com
SUMMARY:Makin Trax Flyball Tournament
DESCRIPTION:Makin Trax Flyball Tournament – Entire Facility – \nContact: Debbie Huddleston
URL:https://www.tcotc.com/event/makin-trax-flyball-tournament/2025-03-14/
LOCATION:Entire Facility
CATEGORIES:Rental
END:VEVENT
BEGIN:VEVENT
DTSTART;TZID=America/Chicago:20250313T174500
DTEND;TZID=America/Chicago:20250313T184500
DTSTAMP:20260421T100956
CREATED:20241119T184400Z
LAST-MODIFIED:20260123T205319Z
UID:10007761-1741887900-1741891500@www.tcotc.com
SUMMARY:Competition Bedrock
DESCRIPTION:
URL:https://www.tcotc.com/event/competition-bedrock-3/2025-03-13/
LOCATION:Ring Room
CATEGORIES:Obedience
END:VEVENT
BEGIN:VEVENT
DTSTART;TZID=America/Chicago:20250313T173000
DTEND;TZID=America/Chicago:20250313T213000
DTSTAMP:20260421T100956
CREATED:20241119T194942Z
LAST-MODIFIED:20260123T203945Z
UID:10008455-1741887000-1741901400@www.tcotc.com
SUMMARY:Agility Classes
DESCRIPTION:
URL:https://www.tcotc.com/event/agility-classes-7/2025-03-13/
LOCATION:Annex
CATEGORIES:Agility
END:VEVENT
BEGIN:VEVENT
DTSTART;TZID=America/Chicago:20250313T173000
DTEND;TZID=America/Chicago:20250313T213000
DTSTAMP:20260421T100956
CREATED:20241119T180230Z
LAST-MODIFIED:20260123T205523Z
UID:10007626-1741887000-1741901400@www.tcotc.com
SUMMARY:Obedience Classes
DESCRIPTION:5:30 pm – 9:30 pm – Ring Room and Star Room
URL:https://www.tcotc.com/event/obedience-classes-4/2025-03-13/
LOCATION:Ring Room and Star Room
CATEGORIES:Obedience
END:VEVENT
BEGIN:VEVENT
DTSTART;TZID=America/Chicago:20250313T173000
DTEND;TZID=America/Chicago:20250313T200000
DTSTAMP:20260421T100956
CREATED:20241119T174858Z
LAST-MODIFIED:20260123T205416Z
UID:10007582-1741887000-1741896000@www.tcotc.com
SUMMARY:Puppy/Tweener Classes
DESCRIPTION:Meeting Room
URL:https://www.tcotc.com/event/puppy-tweener-classes-3/2025-03-13/
LOCATION:Meeting Room
CATEGORIES:Puppy/Tweener
END:VEVENT
BEGIN:VEVENT
DTSTART;TZID=America/Chicago:20250313T150000
DTEND;TZID=America/Chicago:20250313T173000
DTSTAMP:20260421T100956
CREATED:20240213T211645Z
LAST-MODIFIED:20260123T203755Z
UID:10006272-1741878000-1741887000@www.tcotc.com
SUMMARY:Agility for Fun classes
DESCRIPTION:3:00 to 4:00 p.m. and 4:15 p.m. to 5:15 p.m.
URL:https://www.tcotc.com/event/agility-for-fun-classes/2025-03-13/
LOCATION:Annex
CATEGORIES:Agility
END:VEVENT
BEGIN:VEVENT
DTSTART;TZID=America/Chicago:20250313T123000
DTEND;TZID=America/Chicago:20250313T143000
DTSTAMP:20260421T100956
CREATED:20240227T223016Z
LAST-MODIFIED:20260123T204054Z
UID:10008698-1741869000-1741876200@www.tcotc.com
SUMMARY:Open Ring Time
DESCRIPTION:Agility and Obedience Open Ring Time\nMost Thursdays\, 12:30 p.m. – 2:30 p.m. \nLooking for some extra training time? Want to practice before an upcoming trial? Sign up for Obedience and Agility Open Ring Time. Members and non-members welcome. Please follow posted rules. For agility practice\, dogs must have at least 18 weeks of agility training at the beginner level or higher and be able to safely handle contacts at full height. \nMembers $8/Non-members $12 for 10 minutes of ring time. Three dogs may sign up for each half-hour time slot. You may be sharing a ring with others who have signed up for the same time slot. \nRegister in advance here.
URL:https://www.tcotc.com/event/open-ring-time-6-2-2/2025-03-13/
LOCATION:Annex & Ring Room
CATEGORIES:Open Ring
END:VEVENT
BEGIN:VEVENT
DTSTART;TZID=America/Chicago:20250312T201500
DTEND;TZID=America/Chicago:20250312T211500
DTSTAMP:20260421T100956
CREATED:20241119T183836Z
LAST-MODIFIED:20251218T190510Z
UID:10007719-1741810500-1741814100@www.tcotc.com
SUMMARY:Competition Bedrock
DESCRIPTION:8:15 pm – 9:15 pm Ring Room
URL:https://www.tcotc.com/event/competition-bedrock-2/2025-03-12/
END:VEVENT
BEGIN:VEVENT
DTSTART;TZID=America/Chicago:20250312T173000
DTEND;TZID=America/Chicago:20250312T213000
DTSTAMP:20260421T100956
CREATED:20241119T194515Z
LAST-MODIFIED:20251218T214801Z
UID:10008409-1741800600-1741815000@www.tcotc.com
SUMMARY:Agility Classes
DESCRIPTION:
URL:https://www.tcotc.com/event/agility-classes-6/2025-03-12/
LOCATION:Annex
CATEGORIES:Agility
END:VEVENT
BEGIN:VEVENT
DTSTART;TZID=America/Chicago:20250312T173000
DTEND;TZID=America/Chicago:20250312T213000
DTSTAMP:20260421T100956
CREATED:20241119T164634Z
LAST-MODIFIED:20260205T192024Z
UID:10007537-1741800600-1741815000@www.tcotc.com
SUMMARY:Obedience Classes
DESCRIPTION:Ring Room and Star Room
URL:https://www.tcotc.com/event/obedience-classes-3/2025-03-12/
LOCATION:Ring Room and Star Room
CATEGORIES:Obedience
END:VEVENT
BEGIN:VEVENT
DTSTART;TZID=America/Chicago:20250312T113000
DTEND;TZID=America/Chicago:20250312T150000
DTSTAMP:20260421T100956
CREATED:20241119T194155Z
LAST-MODIFIED:20251218T214644Z
UID:10008164-1741779000-1741791600@www.tcotc.com
SUMMARY:Agility Classes
DESCRIPTION:
URL:https://www.tcotc.com/event/agility-classes-5/2025-03-12/
LOCATION:Annex
CATEGORIES:Agility
END:VEVENT
END:VCALENDAR