BEGIN:VCALENDAR
VERSION:2.0
PRODID:-//Twin Cities Obedience Training Club - ECPv6.15.13//NONSGML v1.0//EN
CALSCALE:GREGORIAN
METHOD:PUBLISH
X-ORIGINAL-URL:https://www.tcotc.com
X-WR-CALDESC:Events for Twin Cities Obedience Training Club
REFRESH-INTERVAL;VALUE=DURATION:PT1H
X-Robots-Tag:noindex
X-PUBLISHED-TTL:PT1H
BEGIN:VTIMEZONE
TZID:America/Chicago
BEGIN:DAYLIGHT
TZOFFSETFROM:-0600
TZOFFSETTO:-0500
TZNAME:CDT
DTSTART:20270314T080000
END:DAYLIGHT
BEGIN:STANDARD
TZOFFSETFROM:-0500
TZOFFSETTO:-0600
TZNAME:CST
DTSTART:20271107T070000
END:STANDARD
BEGIN:DAYLIGHT
TZOFFSETFROM:-0600
TZOFFSETTO:-0500
TZNAME:CDT
DTSTART:20280312T080000
END:DAYLIGHT
BEGIN:STANDARD
TZOFFSETFROM:-0500
TZOFFSETTO:-0600
TZNAME:CST
DTSTART:20281105T070000
END:STANDARD
BEGIN:DAYLIGHT
TZOFFSETFROM:-0600
TZOFFSETTO:-0500
TZNAME:CDT
DTSTART:20290311T080000
END:DAYLIGHT
BEGIN:STANDARD
TZOFFSETFROM:-0500
TZOFFSETTO:-0600
TZNAME:CST
DTSTART:20291104T070000
END:STANDARD
END:VTIMEZONE
BEGIN:VEVENT
DTSTART;TZID=America/Chicago:20280530T191500
DTEND;TZID=America/Chicago:20280530T201500
DTSTAMP:20260423T183413
CREATED:20260112T182400Z
LAST-MODIFIED:20260112T182400Z
UID:10011755-1843326900-1843330500@www.tcotc.com
SUMMARY:Treibball Class
DESCRIPTION:Rings 1 & 2
URL:https://www.tcotc.com/event/treibball-class/2028-05-30/
LOCATION:Rings 1&2
CATEGORIES:Obedience
END:VEVENT
BEGIN:VEVENT
DTSTART;TZID=America/Chicago:20280601T150000
DTEND;TZID=America/Chicago:20280601T173000
DTSTAMP:20260423T183413
CREATED:20240213T211645Z
LAST-MODIFIED:20260123T203755Z
UID:10006440-1843484400-1843493400@www.tcotc.com
SUMMARY:Agility for Fun classes
DESCRIPTION:3:00 to 4:00 p.m. and 4:15 p.m. to 5:15 p.m.
URL:https://www.tcotc.com/event/agility-for-fun-classes/2028-06-01/
LOCATION:Annex
CATEGORIES:Agility
END:VEVENT
BEGIN:VEVENT
DTSTART;TZID=America/Chicago:20280601T173000
DTEND;TZID=America/Chicago:20280601T213000
DTSTAMP:20260423T183413
CREATED:20241119T194942Z
LAST-MODIFIED:20260123T203945Z
UID:10008616-1843493400-1843507800@www.tcotc.com
SUMMARY:Agility Classes
DESCRIPTION:
URL:https://www.tcotc.com/event/agility-classes-7/2028-06-01/
LOCATION:Annex
CATEGORIES:Agility
END:VEVENT
BEGIN:VEVENT
DTSTART;TZID=America/Chicago:20280606T151500
DTEND;TZID=America/Chicago:20280606T173000
DTSTAMP:20260423T183413
CREATED:20260106T180136Z
LAST-MODIFIED:20260106T180213Z
UID:10011495-1843917300-1843925400@www.tcotc.com
SUMMARY:Scent Work
DESCRIPTION:3:15 pm class is in the Star Room \n 
URL:https://www.tcotc.com/event/scent-work/2028-06-06/
LOCATION:Meeting Room
CATEGORIES:Obedience
END:VEVENT
BEGIN:VEVENT
DTSTART;TZID=America/Chicago:20280606T180000
DTEND;TZID=America/Chicago:20280606T190000
DTSTAMP:20260423T183413
CREATED:20250304T152658Z
LAST-MODIFIED:20260120T211953Z
UID:10009355-1843927200-1843930800@www.tcotc.com
SUMMARY:Conformation
DESCRIPTION:Wendy Olson – Ring 1 \nNo class on December 16\, 2025
URL:https://www.tcotc.com/event/conformation-2/2028-06-06/
LOCATION:Ring 1
CATEGORIES:Conformation
END:VEVENT
BEGIN:VEVENT
DTSTART;TZID=America/Chicago:20280606T191500
DTEND;TZID=America/Chicago:20280606T201500
DTSTAMP:20260423T183413
CREATED:20260112T182400Z
LAST-MODIFIED:20260112T182400Z
UID:10011756-1843931700-1843935300@www.tcotc.com
SUMMARY:Treibball Class
DESCRIPTION:Rings 1 & 2
URL:https://www.tcotc.com/event/treibball-class/2028-06-06/
LOCATION:Rings 1&2
CATEGORIES:Obedience
END:VEVENT
BEGIN:VEVENT
DTSTART;TZID=America/Chicago:20280608T150000
DTEND;TZID=America/Chicago:20280608T173000
DTSTAMP:20260423T183413
CREATED:20240213T211645Z
LAST-MODIFIED:20260123T203755Z
UID:10006441-1844089200-1844098200@www.tcotc.com
SUMMARY:Agility for Fun classes
DESCRIPTION:3:00 to 4:00 p.m. and 4:15 p.m. to 5:15 p.m.
URL:https://www.tcotc.com/event/agility-for-fun-classes/2028-06-08/
LOCATION:Annex
CATEGORIES:Agility
END:VEVENT
BEGIN:VEVENT
DTSTART;TZID=America/Chicago:20280608T173000
DTEND;TZID=America/Chicago:20280608T213000
DTSTAMP:20260423T183413
CREATED:20241119T194942Z
LAST-MODIFIED:20260123T203945Z
UID:10008617-1844098200-1844112600@www.tcotc.com
SUMMARY:Agility Classes
DESCRIPTION:
URL:https://www.tcotc.com/event/agility-classes-7/2028-06-08/
LOCATION:Annex
CATEGORIES:Agility
END:VEVENT
BEGIN:VEVENT
DTSTART;TZID=America/Chicago:20280613T151500
DTEND;TZID=America/Chicago:20280613T173000
DTSTAMP:20260423T183413
CREATED:20260106T180136Z
LAST-MODIFIED:20260106T180213Z
UID:10011496-1844522100-1844530200@www.tcotc.com
SUMMARY:Scent Work
DESCRIPTION:3:15 pm class is in the Star Room \n 
URL:https://www.tcotc.com/event/scent-work/2028-06-13/
LOCATION:Meeting Room
CATEGORIES:Obedience
END:VEVENT
BEGIN:VEVENT
DTSTART;TZID=America/Chicago:20280613T180000
DTEND;TZID=America/Chicago:20280613T190000
DTSTAMP:20260423T183413
CREATED:20250304T152658Z
LAST-MODIFIED:20260120T211953Z
UID:10009356-1844532000-1844535600@www.tcotc.com
SUMMARY:Conformation
DESCRIPTION:Wendy Olson – Ring 1 \nNo class on December 16\, 2025
URL:https://www.tcotc.com/event/conformation-2/2028-06-13/
LOCATION:Ring 1
CATEGORIES:Conformation
END:VEVENT
BEGIN:VEVENT
DTSTART;TZID=America/Chicago:20280613T191500
DTEND;TZID=America/Chicago:20280613T201500
DTSTAMP:20260423T183413
CREATED:20260112T182400Z
LAST-MODIFIED:20260112T182400Z
UID:10011757-1844536500-1844540100@www.tcotc.com
SUMMARY:Treibball Class
DESCRIPTION:Rings 1 & 2
URL:https://www.tcotc.com/event/treibball-class/2028-06-13/
LOCATION:Rings 1&2
CATEGORIES:Obedience
END:VEVENT
BEGIN:VEVENT
DTSTART;TZID=America/Chicago:20280615T150000
DTEND;TZID=America/Chicago:20280615T173000
DTSTAMP:20260423T183413
CREATED:20240213T211645Z
LAST-MODIFIED:20260123T203755Z
UID:10006442-1844694000-1844703000@www.tcotc.com
SUMMARY:Agility for Fun classes
DESCRIPTION:3:00 to 4:00 p.m. and 4:15 p.m. to 5:15 p.m.
URL:https://www.tcotc.com/event/agility-for-fun-classes/2028-06-15/
LOCATION:Annex
CATEGORIES:Agility
END:VEVENT
BEGIN:VEVENT
DTSTART;TZID=America/Chicago:20280615T173000
DTEND;TZID=America/Chicago:20280615T213000
DTSTAMP:20260423T183413
CREATED:20241119T194942Z
LAST-MODIFIED:20260123T203945Z
UID:10008618-1844703000-1844717400@www.tcotc.com
SUMMARY:Agility Classes
DESCRIPTION:
URL:https://www.tcotc.com/event/agility-classes-7/2028-06-15/
LOCATION:Annex
CATEGORIES:Agility
END:VEVENT
BEGIN:VEVENT
DTSTART;TZID=America/Chicago:20280620T151500
DTEND;TZID=America/Chicago:20280620T173000
DTSTAMP:20260423T183413
CREATED:20260106T180136Z
LAST-MODIFIED:20260106T180213Z
UID:10011497-1845126900-1845135000@www.tcotc.com
SUMMARY:Scent Work
DESCRIPTION:3:15 pm class is in the Star Room \n 
URL:https://www.tcotc.com/event/scent-work/2028-06-20/
LOCATION:Meeting Room
CATEGORIES:Obedience
END:VEVENT
BEGIN:VEVENT
DTSTART;TZID=America/Chicago:20280620T180000
DTEND;TZID=America/Chicago:20280620T190000
DTSTAMP:20260423T183413
CREATED:20250304T152658Z
LAST-MODIFIED:20260120T211953Z
UID:10009357-1845136800-1845140400@www.tcotc.com
SUMMARY:Conformation
DESCRIPTION:Wendy Olson – Ring 1 \nNo class on December 16\, 2025
URL:https://www.tcotc.com/event/conformation-2/2028-06-20/
LOCATION:Ring 1
CATEGORIES:Conformation
END:VEVENT
BEGIN:VEVENT
DTSTART;TZID=America/Chicago:20280620T191500
DTEND;TZID=America/Chicago:20280620T201500
DTSTAMP:20260423T183413
CREATED:20260112T182400Z
LAST-MODIFIED:20260112T182400Z
UID:10011758-1845141300-1845144900@www.tcotc.com
SUMMARY:Treibball Class
DESCRIPTION:Rings 1 & 2
URL:https://www.tcotc.com/event/treibball-class/2028-06-20/
LOCATION:Rings 1&2
CATEGORIES:Obedience
END:VEVENT
BEGIN:VEVENT
DTSTART;TZID=America/Chicago:20280622T150000
DTEND;TZID=America/Chicago:20280622T173000
DTSTAMP:20260423T183413
CREATED:20240213T211645Z
LAST-MODIFIED:20260123T203755Z
UID:10006443-1845298800-1845307800@www.tcotc.com
SUMMARY:Agility for Fun classes
DESCRIPTION:3:00 to 4:00 p.m. and 4:15 p.m. to 5:15 p.m.
URL:https://www.tcotc.com/event/agility-for-fun-classes/2028-06-22/
LOCATION:Annex
CATEGORIES:Agility
END:VEVENT
BEGIN:VEVENT
DTSTART;TZID=America/Chicago:20280622T173000
DTEND;TZID=America/Chicago:20280622T213000
DTSTAMP:20260423T183413
CREATED:20241119T194942Z
LAST-MODIFIED:20260123T203945Z
UID:10008619-1845307800-1845322200@www.tcotc.com
SUMMARY:Agility Classes
DESCRIPTION:
URL:https://www.tcotc.com/event/agility-classes-7/2028-06-22/
LOCATION:Annex
CATEGORIES:Agility
END:VEVENT
BEGIN:VEVENT
DTSTART;TZID=America/Chicago:20280627T151500
DTEND;TZID=America/Chicago:20280627T173000
DTSTAMP:20260423T183413
CREATED:20260106T180136Z
LAST-MODIFIED:20260106T180213Z
UID:10011498-1845731700-1845739800@www.tcotc.com
SUMMARY:Scent Work
DESCRIPTION:3:15 pm class is in the Star Room \n 
URL:https://www.tcotc.com/event/scent-work/2028-06-27/
LOCATION:Meeting Room
CATEGORIES:Obedience
END:VEVENT
BEGIN:VEVENT
DTSTART;TZID=America/Chicago:20280627T180000
DTEND;TZID=America/Chicago:20280627T190000
DTSTAMP:20260423T183413
CREATED:20250304T152658Z
LAST-MODIFIED:20260120T211953Z
UID:10009358-1845741600-1845745200@www.tcotc.com
SUMMARY:Conformation
DESCRIPTION:Wendy Olson – Ring 1 \nNo class on December 16\, 2025
URL:https://www.tcotc.com/event/conformation-2/2028-06-27/
LOCATION:Ring 1
CATEGORIES:Conformation
END:VEVENT
BEGIN:VEVENT
DTSTART;TZID=America/Chicago:20280627T191500
DTEND;TZID=America/Chicago:20280627T201500
DTSTAMP:20260423T183413
CREATED:20260112T182400Z
LAST-MODIFIED:20260112T182400Z
UID:10011759-1845746100-1845749700@www.tcotc.com
SUMMARY:Treibball Class
DESCRIPTION:Rings 1 & 2
URL:https://www.tcotc.com/event/treibball-class/2028-06-27/
LOCATION:Rings 1&2
CATEGORIES:Obedience
END:VEVENT
BEGIN:VEVENT
DTSTART;TZID=America/Chicago:20280629T150000
DTEND;TZID=America/Chicago:20280629T173000
DTSTAMP:20260423T183413
CREATED:20240213T211645Z
LAST-MODIFIED:20260123T203755Z
UID:10006444-1845903600-1845912600@www.tcotc.com
SUMMARY:Agility for Fun classes
DESCRIPTION:3:00 to 4:00 p.m. and 4:15 p.m. to 5:15 p.m.
URL:https://www.tcotc.com/event/agility-for-fun-classes/2028-06-29/
LOCATION:Annex
CATEGORIES:Agility
END:VEVENT
BEGIN:VEVENT
DTSTART;TZID=America/Chicago:20280629T173000
DTEND;TZID=America/Chicago:20280629T213000
DTSTAMP:20260423T183413
CREATED:20241119T194942Z
LAST-MODIFIED:20260123T203945Z
UID:10008620-1845912600-1845927000@www.tcotc.com
SUMMARY:Agility Classes
DESCRIPTION:
URL:https://www.tcotc.com/event/agility-classes-7/2028-06-29/
LOCATION:Annex
CATEGORIES:Agility
END:VEVENT
BEGIN:VEVENT
DTSTART;TZID=America/Chicago:20280704T151500
DTEND;TZID=America/Chicago:20280704T173000
DTSTAMP:20260423T183413
CREATED:20260106T180136Z
LAST-MODIFIED:20260106T180213Z
UID:10011499-1846336500-1846344600@www.tcotc.com
SUMMARY:Scent Work
DESCRIPTION:3:15 pm class is in the Star Room \n 
URL:https://www.tcotc.com/event/scent-work/2028-07-04/
LOCATION:Meeting Room
CATEGORIES:Obedience
END:VEVENT
BEGIN:VEVENT
DTSTART;TZID=America/Chicago:20280704T180000
DTEND;TZID=America/Chicago:20280704T190000
DTSTAMP:20260423T183413
CREATED:20250304T152658Z
LAST-MODIFIED:20260120T211953Z
UID:10009359-1846346400-1846350000@www.tcotc.com
SUMMARY:Conformation
DESCRIPTION:Wendy Olson – Ring 1 \nNo class on December 16\, 2025
URL:https://www.tcotc.com/event/conformation-2/2028-07-04/
LOCATION:Ring 1
CATEGORIES:Conformation
END:VEVENT
BEGIN:VEVENT
DTSTART;TZID=America/Chicago:20280704T191500
DTEND;TZID=America/Chicago:20280704T201500
DTSTAMP:20260423T183413
CREATED:20260112T182400Z
LAST-MODIFIED:20260112T182400Z
UID:10011760-1846350900-1846354500@www.tcotc.com
SUMMARY:Treibball Class
DESCRIPTION:Rings 1 & 2
URL:https://www.tcotc.com/event/treibball-class/2028-07-04/
LOCATION:Rings 1&2
CATEGORIES:Obedience
END:VEVENT
BEGIN:VEVENT
DTSTART;TZID=America/Chicago:20280706T150000
DTEND;TZID=America/Chicago:20280706T173000
DTSTAMP:20260423T183413
CREATED:20240213T211645Z
LAST-MODIFIED:20260123T203755Z
UID:10006445-1846508400-1846517400@www.tcotc.com
SUMMARY:Agility for Fun classes
DESCRIPTION:3:00 to 4:00 p.m. and 4:15 p.m. to 5:15 p.m.
URL:https://www.tcotc.com/event/agility-for-fun-classes/2028-07-06/
LOCATION:Annex
CATEGORIES:Agility
END:VEVENT
BEGIN:VEVENT
DTSTART;TZID=America/Chicago:20280706T173000
DTEND;TZID=America/Chicago:20280706T213000
DTSTAMP:20260423T183413
CREATED:20241119T194942Z
LAST-MODIFIED:20260123T203945Z
UID:10008621-1846517400-1846531800@www.tcotc.com
SUMMARY:Agility Classes
DESCRIPTION:
URL:https://www.tcotc.com/event/agility-classes-7/2028-07-06/
LOCATION:Annex
CATEGORIES:Agility
END:VEVENT
BEGIN:VEVENT
DTSTART;TZID=America/Chicago:20280711T151500
DTEND;TZID=America/Chicago:20280711T173000
DTSTAMP:20260423T183413
CREATED:20260106T180136Z
LAST-MODIFIED:20260106T180213Z
UID:10011500-1846941300-1846949400@www.tcotc.com
SUMMARY:Scent Work
DESCRIPTION:3:15 pm class is in the Star Room \n 
URL:https://www.tcotc.com/event/scent-work/2028-07-11/
LOCATION:Meeting Room
CATEGORIES:Obedience
END:VEVENT
BEGIN:VEVENT
DTSTART;TZID=America/Chicago:20280711T180000
DTEND;TZID=America/Chicago:20280711T190000
DTSTAMP:20260423T183413
CREATED:20250304T152658Z
LAST-MODIFIED:20260120T211953Z
UID:10009360-1846951200-1846954800@www.tcotc.com
SUMMARY:Conformation
DESCRIPTION:Wendy Olson – Ring 1 \nNo class on December 16\, 2025
URL:https://www.tcotc.com/event/conformation-2/2028-07-11/
LOCATION:Ring 1
CATEGORIES:Conformation
END:VEVENT
END:VCALENDAR