BEGIN:VCALENDAR
VERSION:2.0
PRODID:-//Twin Cities Obedience Training Club - ECPv6.15.13//NONSGML v1.0//EN
CALSCALE:GREGORIAN
METHOD:PUBLISH
X-ORIGINAL-URL:https://www.tcotc.com
X-WR-CALDESC:Events for Twin Cities Obedience Training Club
REFRESH-INTERVAL;VALUE=DURATION:PT1H
X-Robots-Tag:noindex
X-PUBLISHED-TTL:PT1H
BEGIN:VTIMEZONE
TZID:America/Chicago
BEGIN:DAYLIGHT
TZOFFSETFROM:-0600
TZOFFSETTO:-0500
TZNAME:CDT
DTSTART:20260308T080000
END:DAYLIGHT
BEGIN:STANDARD
TZOFFSETFROM:-0500
TZOFFSETTO:-0600
TZNAME:CST
DTSTART:20261101T070000
END:STANDARD
BEGIN:DAYLIGHT
TZOFFSETFROM:-0600
TZOFFSETTO:-0500
TZNAME:CDT
DTSTART:20270314T080000
END:DAYLIGHT
BEGIN:STANDARD
TZOFFSETFROM:-0500
TZOFFSETTO:-0600
TZNAME:CST
DTSTART:20271107T070000
END:STANDARD
BEGIN:DAYLIGHT
TZOFFSETFROM:-0600
TZOFFSETTO:-0500
TZNAME:CDT
DTSTART:20280312T080000
END:DAYLIGHT
BEGIN:STANDARD
TZOFFSETFROM:-0500
TZOFFSETTO:-0600
TZNAME:CST
DTSTART:20281105T070000
END:STANDARD
END:VTIMEZONE
BEGIN:VEVENT
DTSTART;TZID=America/Chicago:20270223T151500
DTEND;TZID=America/Chicago:20270223T173000
DTSTAMP:20260421T040501
CREATED:20260106T180136Z
LAST-MODIFIED:20260106T180213Z
UID:10011428-1803395700-1803403800@www.tcotc.com
SUMMARY:Scent Work
DESCRIPTION:3:15 pm class is in the Star Room \n 
URL:https://www.tcotc.com/event/scent-work/2027-02-23/
LOCATION:Meeting Room
CATEGORIES:Obedience
END:VEVENT
BEGIN:VEVENT
DTSTART;TZID=America/Chicago:20270223T180000
DTEND;TZID=America/Chicago:20270223T190000
DTSTAMP:20260421T040501
CREATED:20250304T152658Z
LAST-MODIFIED:20260120T211953Z
UID:10009288-1803405600-1803409200@www.tcotc.com
SUMMARY:Conformation
DESCRIPTION:Wendy Olson – Ring 1 \nNo class on December 16\, 2025
URL:https://www.tcotc.com/event/conformation-2/2027-02-23/
LOCATION:Ring 1
CATEGORIES:Conformation
END:VEVENT
BEGIN:VEVENT
DTSTART;TZID=America/Chicago:20270223T191500
DTEND;TZID=America/Chicago:20270223T201500
DTSTAMP:20260421T040501
CREATED:20260112T182400Z
LAST-MODIFIED:20260112T182400Z
UID:10011689-1803410100-1803413700@www.tcotc.com
SUMMARY:Treibball Class
DESCRIPTION:Rings 1 & 2
URL:https://www.tcotc.com/event/treibball-class/2027-02-23/
LOCATION:Rings 1&2
CATEGORIES:Obedience
END:VEVENT
BEGIN:VEVENT
DTSTART;TZID=America/Chicago:20270225T150000
DTEND;TZID=America/Chicago:20270225T173000
DTSTAMP:20260421T040501
CREATED:20240213T211645Z
LAST-MODIFIED:20260123T203755Z
UID:10006374-1803567600-1803576600@www.tcotc.com
SUMMARY:Agility for Fun classes
DESCRIPTION:3:00 to 4:00 p.m. and 4:15 p.m. to 5:15 p.m.
URL:https://www.tcotc.com/event/agility-for-fun-classes/2027-02-25/
LOCATION:Annex
CATEGORIES:Agility
END:VEVENT
BEGIN:VEVENT
DTSTART;TZID=America/Chicago:20270225T173000
DTEND;TZID=America/Chicago:20270225T213000
DTSTAMP:20260421T040501
CREATED:20241119T194942Z
LAST-MODIFIED:20260123T203945Z
UID:10008550-1803576600-1803591000@www.tcotc.com
SUMMARY:Agility Classes
DESCRIPTION:
URL:https://www.tcotc.com/event/agility-classes-7/2027-02-25/
LOCATION:Annex
CATEGORIES:Agility
END:VEVENT
BEGIN:VEVENT
DTSTART;TZID=America/Chicago:20270302T151500
DTEND;TZID=America/Chicago:20270302T173000
DTSTAMP:20260421T040501
CREATED:20260106T180136Z
LAST-MODIFIED:20260106T180213Z
UID:10011429-1804000500-1804008600@www.tcotc.com
SUMMARY:Scent Work
DESCRIPTION:3:15 pm class is in the Star Room \n 
URL:https://www.tcotc.com/event/scent-work/2027-03-02/
LOCATION:Meeting Room
CATEGORIES:Obedience
END:VEVENT
BEGIN:VEVENT
DTSTART;TZID=America/Chicago:20270302T180000
DTEND;TZID=America/Chicago:20270302T190000
DTSTAMP:20260421T040501
CREATED:20250304T152658Z
LAST-MODIFIED:20260120T211953Z
UID:10009289-1804010400-1804014000@www.tcotc.com
SUMMARY:Conformation
DESCRIPTION:Wendy Olson – Ring 1 \nNo class on December 16\, 2025
URL:https://www.tcotc.com/event/conformation-2/2027-03-02/
LOCATION:Ring 1
CATEGORIES:Conformation
END:VEVENT
BEGIN:VEVENT
DTSTART;TZID=America/Chicago:20270302T191500
DTEND;TZID=America/Chicago:20270302T201500
DTSTAMP:20260421T040501
CREATED:20260112T182400Z
LAST-MODIFIED:20260112T182400Z
UID:10011690-1804014900-1804018500@www.tcotc.com
SUMMARY:Treibball Class
DESCRIPTION:Rings 1 & 2
URL:https://www.tcotc.com/event/treibball-class/2027-03-02/
LOCATION:Rings 1&2
CATEGORIES:Obedience
END:VEVENT
BEGIN:VEVENT
DTSTART;TZID=America/Chicago:20270304T150000
DTEND;TZID=America/Chicago:20270304T173000
DTSTAMP:20260421T040501
CREATED:20240213T211645Z
LAST-MODIFIED:20260123T203755Z
UID:10006375-1804172400-1804181400@www.tcotc.com
SUMMARY:Agility for Fun classes
DESCRIPTION:3:00 to 4:00 p.m. and 4:15 p.m. to 5:15 p.m.
URL:https://www.tcotc.com/event/agility-for-fun-classes/2027-03-04/
LOCATION:Annex
CATEGORIES:Agility
END:VEVENT
BEGIN:VEVENT
DTSTART;TZID=America/Chicago:20270304T173000
DTEND;TZID=America/Chicago:20270304T213000
DTSTAMP:20260421T040501
CREATED:20241119T194942Z
LAST-MODIFIED:20260123T203945Z
UID:10008551-1804181400-1804195800@www.tcotc.com
SUMMARY:Agility Classes
DESCRIPTION:
URL:https://www.tcotc.com/event/agility-classes-7/2027-03-04/
LOCATION:Annex
CATEGORIES:Agility
END:VEVENT
BEGIN:VEVENT
DTSTART;TZID=America/Chicago:20270309T151500
DTEND;TZID=America/Chicago:20270309T173000
DTSTAMP:20260421T040501
CREATED:20260106T180136Z
LAST-MODIFIED:20260106T180213Z
UID:10011430-1804605300-1804613400@www.tcotc.com
SUMMARY:Scent Work
DESCRIPTION:3:15 pm class is in the Star Room \n 
URL:https://www.tcotc.com/event/scent-work/2027-03-09/
LOCATION:Meeting Room
CATEGORIES:Obedience
END:VEVENT
BEGIN:VEVENT
DTSTART;TZID=America/Chicago:20270309T180000
DTEND;TZID=America/Chicago:20270309T190000
DTSTAMP:20260421T040501
CREATED:20250304T152658Z
LAST-MODIFIED:20260120T211953Z
UID:10009290-1804615200-1804618800@www.tcotc.com
SUMMARY:Conformation
DESCRIPTION:Wendy Olson – Ring 1 \nNo class on December 16\, 2025
URL:https://www.tcotc.com/event/conformation-2/2027-03-09/
LOCATION:Ring 1
CATEGORIES:Conformation
END:VEVENT
BEGIN:VEVENT
DTSTART;TZID=America/Chicago:20270309T191500
DTEND;TZID=America/Chicago:20270309T201500
DTSTAMP:20260421T040501
CREATED:20260112T182400Z
LAST-MODIFIED:20260112T182400Z
UID:10011691-1804619700-1804623300@www.tcotc.com
SUMMARY:Treibball Class
DESCRIPTION:Rings 1 & 2
URL:https://www.tcotc.com/event/treibball-class/2027-03-09/
LOCATION:Rings 1&2
CATEGORIES:Obedience
END:VEVENT
BEGIN:VEVENT
DTSTART;TZID=America/Chicago:20270311T150000
DTEND;TZID=America/Chicago:20270311T173000
DTSTAMP:20260421T040501
CREATED:20240213T211645Z
LAST-MODIFIED:20260123T203755Z
UID:10006376-1804777200-1804786200@www.tcotc.com
SUMMARY:Agility for Fun classes
DESCRIPTION:3:00 to 4:00 p.m. and 4:15 p.m. to 5:15 p.m.
URL:https://www.tcotc.com/event/agility-for-fun-classes/2027-03-11/
LOCATION:Annex
CATEGORIES:Agility
END:VEVENT
BEGIN:VEVENT
DTSTART;TZID=America/Chicago:20270311T173000
DTEND;TZID=America/Chicago:20270311T213000
DTSTAMP:20260421T040501
CREATED:20241119T194942Z
LAST-MODIFIED:20260123T203945Z
UID:10008552-1804786200-1804800600@www.tcotc.com
SUMMARY:Agility Classes
DESCRIPTION:
URL:https://www.tcotc.com/event/agility-classes-7/2027-03-11/
LOCATION:Annex
CATEGORIES:Agility
END:VEVENT
BEGIN:VEVENT
DTSTART;TZID=America/Chicago:20270316T151500
DTEND;TZID=America/Chicago:20270316T173000
DTSTAMP:20260421T040501
CREATED:20260106T180136Z
LAST-MODIFIED:20260106T180213Z
UID:10011431-1805210100-1805218200@www.tcotc.com
SUMMARY:Scent Work
DESCRIPTION:3:15 pm class is in the Star Room \n 
URL:https://www.tcotc.com/event/scent-work/2027-03-16/
LOCATION:Meeting Room
CATEGORIES:Obedience
END:VEVENT
BEGIN:VEVENT
DTSTART;TZID=America/Chicago:20270316T180000
DTEND;TZID=America/Chicago:20270316T190000
DTSTAMP:20260421T040501
CREATED:20250304T152658Z
LAST-MODIFIED:20260120T211953Z
UID:10009291-1805220000-1805223600@www.tcotc.com
SUMMARY:Conformation
DESCRIPTION:Wendy Olson – Ring 1 \nNo class on December 16\, 2025
URL:https://www.tcotc.com/event/conformation-2/2027-03-16/
LOCATION:Ring 1
CATEGORIES:Conformation
END:VEVENT
BEGIN:VEVENT
DTSTART;TZID=America/Chicago:20270316T191500
DTEND;TZID=America/Chicago:20270316T201500
DTSTAMP:20260421T040501
CREATED:20260112T182400Z
LAST-MODIFIED:20260112T182400Z
UID:10011692-1805224500-1805228100@www.tcotc.com
SUMMARY:Treibball Class
DESCRIPTION:Rings 1 & 2
URL:https://www.tcotc.com/event/treibball-class/2027-03-16/
LOCATION:Rings 1&2
CATEGORIES:Obedience
END:VEVENT
BEGIN:VEVENT
DTSTART;TZID=America/Chicago:20270318T150000
DTEND;TZID=America/Chicago:20270318T173000
DTSTAMP:20260421T040501
CREATED:20240213T211645Z
LAST-MODIFIED:20260123T203755Z
UID:10006377-1805382000-1805391000@www.tcotc.com
SUMMARY:Agility for Fun classes
DESCRIPTION:3:00 to 4:00 p.m. and 4:15 p.m. to 5:15 p.m.
URL:https://www.tcotc.com/event/agility-for-fun-classes/2027-03-18/
LOCATION:Annex
CATEGORIES:Agility
END:VEVENT
BEGIN:VEVENT
DTSTART;TZID=America/Chicago:20270318T173000
DTEND;TZID=America/Chicago:20270318T213000
DTSTAMP:20260421T040501
CREATED:20241119T194942Z
LAST-MODIFIED:20260123T203945Z
UID:10008553-1805391000-1805405400@www.tcotc.com
SUMMARY:Agility Classes
DESCRIPTION:
URL:https://www.tcotc.com/event/agility-classes-7/2027-03-18/
LOCATION:Annex
CATEGORIES:Agility
END:VEVENT
BEGIN:VEVENT
DTSTART;TZID=America/Chicago:20270323T151500
DTEND;TZID=America/Chicago:20270323T173000
DTSTAMP:20260421T040501
CREATED:20260106T180136Z
LAST-MODIFIED:20260106T180213Z
UID:10011432-1805814900-1805823000@www.tcotc.com
SUMMARY:Scent Work
DESCRIPTION:3:15 pm class is in the Star Room \n 
URL:https://www.tcotc.com/event/scent-work/2027-03-23/
LOCATION:Meeting Room
CATEGORIES:Obedience
END:VEVENT
BEGIN:VEVENT
DTSTART;TZID=America/Chicago:20270323T180000
DTEND;TZID=America/Chicago:20270323T190000
DTSTAMP:20260421T040501
CREATED:20250304T152658Z
LAST-MODIFIED:20260120T211953Z
UID:10009292-1805824800-1805828400@www.tcotc.com
SUMMARY:Conformation
DESCRIPTION:Wendy Olson – Ring 1 \nNo class on December 16\, 2025
URL:https://www.tcotc.com/event/conformation-2/2027-03-23/
LOCATION:Ring 1
CATEGORIES:Conformation
END:VEVENT
BEGIN:VEVENT
DTSTART;TZID=America/Chicago:20270323T191500
DTEND;TZID=America/Chicago:20270323T201500
DTSTAMP:20260421T040501
CREATED:20260112T182400Z
LAST-MODIFIED:20260112T182400Z
UID:10011693-1805829300-1805832900@www.tcotc.com
SUMMARY:Treibball Class
DESCRIPTION:Rings 1 & 2
URL:https://www.tcotc.com/event/treibball-class/2027-03-23/
LOCATION:Rings 1&2
CATEGORIES:Obedience
END:VEVENT
BEGIN:VEVENT
DTSTART;TZID=America/Chicago:20270325T150000
DTEND;TZID=America/Chicago:20270325T173000
DTSTAMP:20260421T040501
CREATED:20240213T211645Z
LAST-MODIFIED:20260123T203755Z
UID:10006378-1805986800-1805995800@www.tcotc.com
SUMMARY:Agility for Fun classes
DESCRIPTION:3:00 to 4:00 p.m. and 4:15 p.m. to 5:15 p.m.
URL:https://www.tcotc.com/event/agility-for-fun-classes/2027-03-25/
LOCATION:Annex
CATEGORIES:Agility
END:VEVENT
BEGIN:VEVENT
DTSTART;TZID=America/Chicago:20270325T173000
DTEND;TZID=America/Chicago:20270325T213000
DTSTAMP:20260421T040501
CREATED:20241119T194942Z
LAST-MODIFIED:20260123T203945Z
UID:10008554-1805995800-1806010200@www.tcotc.com
SUMMARY:Agility Classes
DESCRIPTION:
URL:https://www.tcotc.com/event/agility-classes-7/2027-03-25/
LOCATION:Annex
CATEGORIES:Agility
END:VEVENT
BEGIN:VEVENT
DTSTART;TZID=America/Chicago:20270330T151500
DTEND;TZID=America/Chicago:20270330T173000
DTSTAMP:20260421T040501
CREATED:20260106T180136Z
LAST-MODIFIED:20260106T180213Z
UID:10011433-1806419700-1806427800@www.tcotc.com
SUMMARY:Scent Work
DESCRIPTION:3:15 pm class is in the Star Room \n 
URL:https://www.tcotc.com/event/scent-work/2027-03-30/
LOCATION:Meeting Room
CATEGORIES:Obedience
END:VEVENT
BEGIN:VEVENT
DTSTART;TZID=America/Chicago:20270330T180000
DTEND;TZID=America/Chicago:20270330T190000
DTSTAMP:20260421T040501
CREATED:20250304T152658Z
LAST-MODIFIED:20260120T211953Z
UID:10009293-1806429600-1806433200@www.tcotc.com
SUMMARY:Conformation
DESCRIPTION:Wendy Olson – Ring 1 \nNo class on December 16\, 2025
URL:https://www.tcotc.com/event/conformation-2/2027-03-30/
LOCATION:Ring 1
CATEGORIES:Conformation
END:VEVENT
BEGIN:VEVENT
DTSTART;TZID=America/Chicago:20270330T191500
DTEND;TZID=America/Chicago:20270330T201500
DTSTAMP:20260421T040501
CREATED:20260112T182400Z
LAST-MODIFIED:20260112T182400Z
UID:10011694-1806434100-1806437700@www.tcotc.com
SUMMARY:Treibball Class
DESCRIPTION:Rings 1 & 2
URL:https://www.tcotc.com/event/treibball-class/2027-03-30/
LOCATION:Rings 1&2
CATEGORIES:Obedience
END:VEVENT
BEGIN:VEVENT
DTSTART;TZID=America/Chicago:20270401T150000
DTEND;TZID=America/Chicago:20270401T173000
DTSTAMP:20260421T040501
CREATED:20240213T211645Z
LAST-MODIFIED:20260123T203755Z
UID:10006379-1806591600-1806600600@www.tcotc.com
SUMMARY:Agility for Fun classes
DESCRIPTION:3:00 to 4:00 p.m. and 4:15 p.m. to 5:15 p.m.
URL:https://www.tcotc.com/event/agility-for-fun-classes/2027-04-01/
LOCATION:Annex
CATEGORIES:Agility
END:VEVENT
BEGIN:VEVENT
DTSTART;TZID=America/Chicago:20270401T173000
DTEND;TZID=America/Chicago:20270401T213000
DTSTAMP:20260421T040501
CREATED:20241119T194942Z
LAST-MODIFIED:20260123T203945Z
UID:10008555-1806600600-1806615000@www.tcotc.com
SUMMARY:Agility Classes
DESCRIPTION:
URL:https://www.tcotc.com/event/agility-classes-7/2027-04-01/
LOCATION:Annex
CATEGORIES:Agility
END:VEVENT
END:VCALENDAR