BEGIN:VCALENDAR
VERSION:2.0
PRODID:-//Twin Cities Obedience Training Club - ECPv6.15.13//NONSGML v1.0//EN
CALSCALE:GREGORIAN
METHOD:PUBLISH
X-WR-CALNAME:Twin Cities Obedience Training Club
X-ORIGINAL-URL:https://www.tcotc.com
X-WR-CALDESC:Events for Twin Cities Obedience Training Club
REFRESH-INTERVAL;VALUE=DURATION:PT1H
X-Robots-Tag:noindex
X-PUBLISHED-TTL:PT1H
BEGIN:VTIMEZONE
TZID:America/Chicago
BEGIN:DAYLIGHT
TZOFFSETFROM:-0600
TZOFFSETTO:-0500
TZNAME:CDT
DTSTART:20240310T080000
END:DAYLIGHT
BEGIN:STANDARD
TZOFFSETFROM:-0500
TZOFFSETTO:-0600
TZNAME:CST
DTSTART:20241103T070000
END:STANDARD
BEGIN:DAYLIGHT
TZOFFSETFROM:-0600
TZOFFSETTO:-0500
TZNAME:CDT
DTSTART:20250309T080000
END:DAYLIGHT
BEGIN:STANDARD
TZOFFSETFROM:-0500
TZOFFSETTO:-0600
TZNAME:CST
DTSTART:20251102T070000
END:STANDARD
BEGIN:DAYLIGHT
TZOFFSETFROM:-0600
TZOFFSETTO:-0500
TZNAME:CDT
DTSTART:20260308T080000
END:DAYLIGHT
BEGIN:STANDARD
TZOFFSETFROM:-0500
TZOFFSETTO:-0600
TZNAME:CST
DTSTART:20261101T070000
END:STANDARD
END:VTIMEZONE
BEGIN:VEVENT
DTSTART;TZID=America/Chicago:20250422T180000
DTEND;TZID=America/Chicago:20250422T190000
DTSTAMP:20260423T080916
CREATED:20250304T152658Z
LAST-MODIFIED:20260120T211953Z
UID:10009192-1745344800-1745348400@www.tcotc.com
SUMMARY:Conformation
DESCRIPTION:Wendy Olson – Ring 1 \nNo class on December 16\, 2025
URL:https://www.tcotc.com/event/conformation-2/2025-04-22/
LOCATION:Ring 1
CATEGORIES:Conformation
END:VEVENT
BEGIN:VEVENT
DTSTART;TZID=America/Chicago:20250422T133000
DTEND;TZID=America/Chicago:20250422T213000
DTSTAMP:20260423T080916
CREATED:20241119T193615Z
LAST-MODIFIED:20251218T211433Z
UID:10008123-1745328600-1745357400@www.tcotc.com
SUMMARY:Agility Classes
DESCRIPTION:
URL:https://www.tcotc.com/event/agility-classes-4/2025-04-22/
LOCATION:Annex
CATEGORIES:Agility
END:VEVENT
BEGIN:VEVENT
DTSTART;TZID=America/Chicago:20250422T131500
DTEND;TZID=America/Chicago:20250422T141500
DTSTAMP:20260423T080916
CREATED:20250121T153138Z
LAST-MODIFIED:20250121T153138Z
UID:10009127-1745327700-1745331300@www.tcotc.com
SUMMARY:Conformation
DESCRIPTION:1:15 p.m. – 2:15 p.m. – Ring 1\nInstructor: Wendy Olson \n$10 members/$12 non-members \nREGISTER HERE
URL:https://www.tcotc.com/event/conformation-4-2/2025-04-22/
LOCATION:Ring 1
CATEGORIES:Conformation
END:VEVENT
BEGIN:VEVENT
DTSTART;TZID=America/Chicago:20250422T121500
DTEND;TZID=America/Chicago:20250422T131500
DTSTAMP:20260423T080916
CREATED:20250527T185947Z
LAST-MODIFIED:20260106T142050Z
UID:10011316-1745324100-1745327700@www.tcotc.com
SUMMARY:Conformation
DESCRIPTION:12:15 p.m. – 1:15 p.m. – Ring 1\nInstructor: Wendy Olson \n$10 members/$12 non-members \nNo classes on December 16\, 2025 \nREGISTER HERE
URL:https://www.tcotc.com/event/conformation-4-2-2/2025-04-22/
LOCATION:Ring 1
CATEGORIES:Conformation
END:VEVENT
BEGIN:VEVENT
DTSTART;TZID=America/Chicago:20250422T090000
DTEND;TZID=America/Chicago:20250422T123000
DTSTAMP:20260423T080916
CREATED:20241119T193218Z
LAST-MODIFIED:20260106T141843Z
UID:10007875-1745312400-1745325000@www.tcotc.com
SUMMARY:Agility Classes
DESCRIPTION:
URL:https://www.tcotc.com/event/agility-classes-3/2025-04-22/
LOCATION:Annex
CATEGORIES:Agility
END:VEVENT
BEGIN:VEVENT
DTSTART;TZID=America/Chicago:20250422T090000
DTEND;TZID=America/Chicago:20250422T120000
DTSTAMP:20260423T080916
CREATED:20241119T163521Z
LAST-MODIFIED:20260106T141756Z
UID:10007450-1745312400-1745323200@www.tcotc.com
SUMMARY:Obedience Classes
DESCRIPTION:Meeting Room and Star Room
URL:https://www.tcotc.com/event/obedience-classes-2/2025-04-22/
LOCATION:Ring Room and Star Room
CATEGORIES:Obedience
END:VEVENT
BEGIN:VEVENT
DTSTART;TZID=America/Chicago:20250421T190000
DTEND;TZID=America/Chicago:20250421T200000
DTSTAMP:20260423T080916
CREATED:20241119T162237Z
LAST-MODIFIED:20241119T175319Z
UID:10007359-1745262000-1745265600@www.tcotc.com
SUMMARY:Puppy/Tweener Class
DESCRIPTION:Meeting Room
URL:https://www.tcotc.com/event/puppy-tweener-class/2025-04-21/
LOCATION:Meeting Room
CATEGORIES:Puppy/Tweener
END:VEVENT
BEGIN:VEVENT
DTSTART;TZID=America/Chicago:20250421T173000
DTEND;TZID=America/Chicago:20250421T213000
DTSTAMP:20260423T080916
CREATED:20241119T192531Z
LAST-MODIFIED:20251218T211137Z
UID:10007827-1745256600-1745271000@www.tcotc.com
SUMMARY:Agility Classes
DESCRIPTION:5:30 p.m. – 9:30 p.m. – Annex
URL:https://www.tcotc.com/event/agility-classes-2/2025-04-21/
LOCATION:Annex
CATEGORIES:Agility
END:VEVENT
BEGIN:VEVENT
DTSTART;TZID=America/Chicago:20250421T173000
DTEND;TZID=America/Chicago:20250421T213000
DTSTAMP:20260423T080916
CREATED:20241119T162919Z
LAST-MODIFIED:20251218T183215Z
UID:10007406-1745256600-1745271000@www.tcotc.com
SUMMARY:Obedience Classes
DESCRIPTION:
URL:https://www.tcotc.com/event/obedience-classes/2025-04-21/
LOCATION:Ring Room and Star Room
CATEGORIES:Obedience
END:VEVENT
BEGIN:VEVENT
DTSTART;TZID=America/Chicago:20250420T170000
DTEND;TZID=America/Chicago:20250420T190000
DTSTAMP:20260423T080916
CREATED:20230815T024306Z
LAST-MODIFIED:20251224T051912Z
UID:10009036-1745168400-1745175600@www.tcotc.com
SUMMARY:High Sprits Flyball
DESCRIPTION:High Spirits Flyball Practice – Ring Room – \nContact: Karen Radford
URL:https://www.tcotc.com/event/high-sprits-flyball/2025-04-20/
LOCATION:Ring Room
CATEGORIES:Rental
END:VEVENT
BEGIN:VEVENT
DTSTART;TZID=America/Chicago:20250420T140000
DTEND;TZID=America/Chicago:20250420T160000
DTSTAMP:20260423T080916
CREATED:20230815T023542Z
LAST-MODIFIED:20251224T051157Z
UID:10008999-1745157600-1745164800@www.tcotc.com
SUMMARY:Balls Out Flyball
DESCRIPTION:Balls Out Flyball Practice – Ring Room – \nContact: John Rohling
URL:https://www.tcotc.com/event/balls-out-flyball/2025-04-20/
LOCATION:Ring Room
CATEGORIES:Rental
END:VEVENT
BEGIN:VEVENT
DTSTART;TZID=America/Chicago:20250420T113000
DTEND;TZID=America/Chicago:20250420T133000
DTSTAMP:20260423T080916
CREATED:20230815T023058Z
LAST-MODIFIED:20251224T051257Z
UID:10008962-1745148600-1745155800@www.tcotc.com
SUMMARY:Brat Pack Flyball
DESCRIPTION:Brat Pack Flyball Practice – Ring Room – \nContact: Corrie Barrows
URL:https://www.tcotc.com/event/brat-pack-flyball/2025-04-20/
LOCATION:Ring Room
CATEGORIES:Rental
END:VEVENT
BEGIN:VEVENT
DTSTART;TZID=America/Chicago:20250420T090000
DTEND;TZID=America/Chicago:20250420T110000
DTSTAMP:20260423T080916
CREATED:20230815T022526Z
LAST-MODIFIED:20251224T051356Z
UID:10008925-1745139600-1745146800@www.tcotc.com
SUMMARY:Makin Trax Flyball
DESCRIPTION:Makin Trax Flyball Practice – Ring Room – \nContact: Debbie Huddleston
URL:https://www.tcotc.com/event/makin-trax-flyball/2025-04-20/
LOCATION:Ring Room
CATEGORIES:Rental
END:VEVENT
BEGIN:VEVENT
DTSTART;TZID=America/Chicago:20250419T083000
DTEND;TZID=America/Chicago:20250419T123000
DTSTAMP:20260423T080916
CREATED:20250107T020124Z
LAST-MODIFIED:20250414T205408Z
UID:10009179-1745051400-1745065800@www.tcotc.com
SUMMARY:Rental
DESCRIPTION:Annex – Tails We Win classes with Bonnie Boudreau
URL:https://www.tcotc.com/event/rental-5/2025-04-19/
LOCATION:Annex
CATEGORIES:Agility,Rental
END:VEVENT
BEGIN:VEVENT
DTSTART;TZID=America/Chicago:20250419T080000
DTEND;TZID=America/Chicago:20250419T170000
DTSTAMP:20260423T080916
CREATED:20230815T012653Z
LAST-MODIFIED:20250918T011700Z
UID:10007239-1745049600-1745082000@www.tcotc.com
SUMMARY:Minnesota Sheltie Rescue
DESCRIPTION:Minnesota Sheltie Rescue Event – Meeting\, Ring & Star Rooms – \nContact: Karen Marquardt
URL:https://www.tcotc.com/event/minnesota-sheltie-rescue/2025-04-19/
LOCATION:Ring Rm\, Mtg Rm & Star Rm
CATEGORIES:Rental
END:VEVENT
BEGIN:VEVENT
DTSTART;TZID=America/Chicago:20250418T190000
DTEND;TZID=America/Chicago:20250418T210000
DTSTAMP:20260423T080916
CREATED:20230814T200135Z
LAST-MODIFIED:20251224T045104Z
UID:10008812-1745002800-1745010000@www.tcotc.com
SUMMARY:High Velocity Flyball
DESCRIPTION:High Velocity Flyball Practice – Ring Room – \nContact: Dawn Todd
URL:https://www.tcotc.com/event/high-velocity-flyball-2/2025-04-18/
LOCATION:Ring Room
CATEGORIES:Rental
END:VEVENT
BEGIN:VEVENT
DTSTART;TZID=America/Chicago:20250418T183000
DTEND;TZID=America/Chicago:20250418T203000
DTSTAMP:20260423T080916
CREATED:20230810T163003Z
LAST-MODIFIED:20260331T215208Z
UID:10009076-1745001000-1745008200@www.tcotc.com
SUMMARY:Agility Open Ring Time
DESCRIPTION:Weekend Agility Open Ring Sessions hosted by Jan Poole and Jo Schwietz. $8 Members/$12 Non-members for 10 minutes of training time. Please follow posted rules. Dogs must have at least 18 weeks of agility training at the beginner level or higher and be able to safely handle contacts at full height. \nNOTE: Registration must be completed by 3:30 p.m. the day of the event.  \nRegister in advance here.
URL:https://www.tcotc.com/event/agility-open-ring-time-5/2025-04-18/
LOCATION:Annex
CATEGORIES:Agility,Open Ring
END:VEVENT
BEGIN:VEVENT
DTSTART;TZID=America/Chicago:20250418T093000
DTEND;TZID=America/Chicago:20250418T133000
DTSTAMP:20260423T080916
CREATED:20250314T204208Z
LAST-MODIFIED:20250414T205512Z
UID:10009176-1744968600-1744983000@www.tcotc.com
SUMMARY:Rental
DESCRIPTION:Annex \nContact – Bonnie Boudreau
URL:https://www.tcotc.com/event/rental-2-2/2025-04-18/
LOCATION:Annex
CATEGORIES:Agility,Rental
END:VEVENT
BEGIN:VEVENT
DTSTART;TZID=America/Chicago:20250417T190000
DTEND;TZID=America/Chicago:20250417T210000
DTSTAMP:20260423T080916
CREATED:20241119T180658Z
LAST-MODIFIED:20241119T180658Z
UID:10007666-1744916400-1744923600@www.tcotc.com
SUMMARY:Obedience Staff Meeting
DESCRIPTION:Ring Room
URL:https://www.tcotc.com/event/obedience-staff-meeting-3/2025-04-17/
CATEGORIES:Obedience
END:VEVENT
BEGIN:VEVENT
DTSTART;TZID=America/Chicago:20250417T173000
DTEND;TZID=America/Chicago:20250417T213000
DTSTAMP:20260423T080916
CREATED:20241119T194942Z
LAST-MODIFIED:20260123T203945Z
UID:10008460-1744911000-1744925400@www.tcotc.com
SUMMARY:Agility Classes
DESCRIPTION:
URL:https://www.tcotc.com/event/agility-classes-7/2025-04-17/
LOCATION:Annex
CATEGORIES:Agility
END:VEVENT
BEGIN:VEVENT
DTSTART;TZID=America/Chicago:20250417T150000
DTEND;TZID=America/Chicago:20250417T173000
DTSTAMP:20260423T080916
CREATED:20240213T211645Z
LAST-MODIFIED:20260123T203755Z
UID:10006277-1744902000-1744911000@www.tcotc.com
SUMMARY:Agility for Fun classes
DESCRIPTION:3:00 to 4:00 p.m. and 4:15 p.m. to 5:15 p.m.
URL:https://www.tcotc.com/event/agility-for-fun-classes/2025-04-17/
LOCATION:Annex
CATEGORIES:Agility
END:VEVENT
BEGIN:VEVENT
DTSTART;TZID=America/Chicago:20250417T123000
DTEND;TZID=America/Chicago:20250417T143000
DTSTAMP:20260423T080916
CREATED:20240227T223016Z
LAST-MODIFIED:20260123T204054Z
UID:10008703-1744893000-1744900200@www.tcotc.com
SUMMARY:Open Ring Time
DESCRIPTION:Agility and Obedience Open Ring Time\nMost Thursdays\, 12:30 p.m. – 2:30 p.m. \nLooking for some extra training time? Want to practice before an upcoming trial? Sign up for Obedience and Agility Open Ring Time. Members and non-members welcome. Please follow posted rules. For agility practice\, dogs must have at least 18 weeks of agility training at the beginner level or higher and be able to safely handle contacts at full height. \nMembers $8/Non-members $12 for 10 minutes of ring time. Three dogs may sign up for each half-hour time slot. You may be sharing a ring with others who have signed up for the same time slot. \nRegister in advance here.
URL:https://www.tcotc.com/event/open-ring-time-6-2-2/2025-04-17/
LOCATION:Annex & Ring Room
CATEGORIES:Open Ring
END:VEVENT
BEGIN:VEVENT
DTSTART;TZID=America/Chicago:20250416T201500
DTEND;TZID=America/Chicago:20250416T211500
DTSTAMP:20260423T080916
CREATED:20241119T183836Z
LAST-MODIFIED:20251218T190510Z
UID:10007723-1744834500-1744838100@www.tcotc.com
SUMMARY:Competition Bedrock
DESCRIPTION:8:15 pm – 9:15 pm Ring Room
URL:https://www.tcotc.com/event/competition-bedrock-2/2025-04-16/
END:VEVENT
BEGIN:VEVENT
DTSTART;TZID=America/Chicago:20250416T173000
DTEND;TZID=America/Chicago:20250416T213000
DTSTAMP:20260423T080916
CREATED:20241119T194515Z
LAST-MODIFIED:20251218T214801Z
UID:10008413-1744824600-1744839000@www.tcotc.com
SUMMARY:Agility Classes
DESCRIPTION:
URL:https://www.tcotc.com/event/agility-classes-6/2025-04-16/
LOCATION:Annex
CATEGORIES:Agility
END:VEVENT
BEGIN:VEVENT
DTSTART;TZID=America/Chicago:20250416T173000
DTEND;TZID=America/Chicago:20250416T213000
DTSTAMP:20260423T080916
CREATED:20241119T164634Z
LAST-MODIFIED:20260205T192024Z
UID:10007541-1744824600-1744839000@www.tcotc.com
SUMMARY:Obedience Classes
DESCRIPTION:Ring Room and Star Room
URL:https://www.tcotc.com/event/obedience-classes-3/2025-04-16/
LOCATION:Ring Room and Star Room
CATEGORIES:Obedience
END:VEVENT
BEGIN:VEVENT
DTSTART;TZID=America/Chicago:20250416T113000
DTEND;TZID=America/Chicago:20250416T150000
DTSTAMP:20260423T080916
CREATED:20241119T194155Z
LAST-MODIFIED:20251218T214644Z
UID:10008168-1744803000-1744815600@www.tcotc.com
SUMMARY:Agility Classes
DESCRIPTION:
URL:https://www.tcotc.com/event/agility-classes-5/2025-04-16/
LOCATION:Annex
CATEGORIES:Agility
END:VEVENT
BEGIN:VEVENT
DTSTART;TZID=America/Chicago:20250415T190000
DTEND;TZID=America/Chicago:20250415T200000
DTSTAMP:20260423T080916
CREATED:20250318T194834Z
LAST-MODIFIED:20250813T180722Z
UID:10009456-1744743600-1744747200@www.tcotc.com
SUMMARY:Join us on Facebook Live!
DESCRIPTION:Unleash Your Dog’s Potential!\nAre you ready to get candid about the secrets to a well-behaved and obedient furry friend? Whether you’re a seasoned dog owner or a newbie in the world of pet parenting\, these new quarterly live sessions are an opportunity to get experienced trainer insights on a wide variety of canine topics. \nIn this interactive session\, our panel of expert dog trainers\, including Meg Beisner and Scott McKenzie\, will guide you through a handful of revolving\, and evolving\, essential dog-related subject matters\, covering everything from basic obedience commands to addressing common behavioral issues and pet insurance to dog park etiquette and all the things in between! Get ready to learn about topics such as: \n\nThe fundamentals of positive reinforcement training\nProven methods for teaching essential skills\nStrategies for effective leash training and walking etiquette\nTips for overcoming challenges such as barking\, jumping\, and chewing\nInsights into understanding your dog’s body language and communication cues\n\nOur panel will come ready with a few topics to cover\, but we really want to hear from you too! Send your burning questions to tcotcmeg@gmail.com and we’d love to discuss it live! Whether you’re struggling with potty training or curious about advanced tricks\, our trainers are here to provide advice and support. \nDon’t miss out on this opportunity to enhance your understanding of your canine companion and learn ways to foster a harmonious relationship based on trust\, respect & fun. \nSign up on our Facebook page here! \nMark your calendars and set a reminder – it’s going to be a paw-some event! Spread the word and invite your fellow dog lovers to join us for an educational and fun-filled Facebook Live session. See you and your furry friend there! 🐾 \nDisclaimer: Live sessions are exactly that…live and uncensored. There may be adult language. Please plan your viewing audience accordingly.
URL:https://www.tcotc.com/event/join-us-on-facebook-live-2/
LOCATION:Virtual
CATEGORIES:Special Events
ATTACH;FMTTYPE=image/png:https://www.tcotc.com/wp-content/uploads/2025/03/FBLive.png
END:VEVENT
BEGIN:VEVENT
DTSTART;TZID=America/Chicago:20250415T180000
DTEND;TZID=America/Chicago:20250415T193000
DTSTAMP:20260423T080916
CREATED:20240326T132413Z
LAST-MODIFIED:20241119T175144Z
UID:10006858-1744740000-1744745400@www.tcotc.com
SUMMARY:Changing Attitudes
DESCRIPTION:6:00 p.m. – 7:30 p.m. in the Star Room
URL:https://www.tcotc.com/event/changing-attitues/2025-04-15/
LOCATION:Star Room
CATEGORIES:Behavior
END:VEVENT
BEGIN:VEVENT
DTSTART;TZID=America/Chicago:20250415T180000
DTEND;TZID=America/Chicago:20250415T190000
DTSTAMP:20260423T080916
CREATED:20250304T152658Z
LAST-MODIFIED:20260120T211953Z
UID:10009191-1744740000-1744743600@www.tcotc.com
SUMMARY:Conformation
DESCRIPTION:Wendy Olson – Ring 1 \nNo class on December 16\, 2025
URL:https://www.tcotc.com/event/conformation-2/2025-04-15/
LOCATION:Ring 1
CATEGORIES:Conformation
END:VEVENT
BEGIN:VEVENT
DTSTART;TZID=America/Chicago:20250415T133000
DTEND;TZID=America/Chicago:20250415T213000
DTSTAMP:20260423T080916
CREATED:20241119T193615Z
LAST-MODIFIED:20251218T211433Z
UID:10008122-1744723800-1744752600@www.tcotc.com
SUMMARY:Agility Classes
DESCRIPTION:
URL:https://www.tcotc.com/event/agility-classes-4/2025-04-15/
LOCATION:Annex
CATEGORIES:Agility
END:VEVENT
END:VCALENDAR