BEGIN:VCALENDAR
VERSION:2.0
PRODID:-//Twin Cities Obedience Training Club - ECPv6.15.13//NONSGML v1.0//EN
CALSCALE:GREGORIAN
METHOD:PUBLISH
X-WR-CALNAME:Twin Cities Obedience Training Club
X-ORIGINAL-URL:https://www.tcotc.com
X-WR-CALDESC:Events for Twin Cities Obedience Training Club
REFRESH-INTERVAL;VALUE=DURATION:PT1H
X-Robots-Tag:noindex
X-PUBLISHED-TTL:PT1H
BEGIN:VTIMEZONE
TZID:America/Chicago
BEGIN:DAYLIGHT
TZOFFSETFROM:-0600
TZOFFSETTO:-0500
TZNAME:CDT
DTSTART:20260308T080000
END:DAYLIGHT
BEGIN:STANDARD
TZOFFSETFROM:-0500
TZOFFSETTO:-0600
TZNAME:CST
DTSTART:20261101T070000
END:STANDARD
BEGIN:DAYLIGHT
TZOFFSETFROM:-0600
TZOFFSETTO:-0500
TZNAME:CDT
DTSTART:20270314T080000
END:DAYLIGHT
BEGIN:STANDARD
TZOFFSETFROM:-0500
TZOFFSETTO:-0600
TZNAME:CST
DTSTART:20271107T070000
END:STANDARD
BEGIN:DAYLIGHT
TZOFFSETFROM:-0600
TZOFFSETTO:-0500
TZNAME:CDT
DTSTART:20280312T080000
END:DAYLIGHT
BEGIN:STANDARD
TZOFFSETFROM:-0500
TZOFFSETTO:-0600
TZNAME:CST
DTSTART:20281105T070000
END:STANDARD
END:VTIMEZONE
BEGIN:VEVENT
DTSTART;TZID=America/Chicago:20270615T191500
DTEND;TZID=America/Chicago:20270615T201500
DTSTAMP:20260423T123908
CREATED:20260112T182400Z
LAST-MODIFIED:20260112T182400Z
UID:10011705-1813086900-1813090500@www.tcotc.com
SUMMARY:Treibball Class
DESCRIPTION:Rings 1 & 2
URL:https://www.tcotc.com/event/treibball-class/2027-06-15/
LOCATION:Rings 1&2
CATEGORIES:Obedience
END:VEVENT
BEGIN:VEVENT
DTSTART;TZID=America/Chicago:20270617T150000
DTEND;TZID=America/Chicago:20270617T173000
DTSTAMP:20260423T123908
CREATED:20240213T211645Z
LAST-MODIFIED:20260123T203755Z
UID:10006390-1813244400-1813253400@www.tcotc.com
SUMMARY:Agility for Fun classes
DESCRIPTION:3:00 to 4:00 p.m. and 4:15 p.m. to 5:15 p.m.
URL:https://www.tcotc.com/event/agility-for-fun-classes/2027-06-17/
LOCATION:Annex
CATEGORIES:Agility
END:VEVENT
BEGIN:VEVENT
DTSTART;TZID=America/Chicago:20270617T173000
DTEND;TZID=America/Chicago:20270617T213000
DTSTAMP:20260423T123908
CREATED:20241119T194942Z
LAST-MODIFIED:20260123T203945Z
UID:10008566-1813253400-1813267800@www.tcotc.com
SUMMARY:Agility Classes
DESCRIPTION:
URL:https://www.tcotc.com/event/agility-classes-7/2027-06-17/
LOCATION:Annex
CATEGORIES:Agility
END:VEVENT
BEGIN:VEVENT
DTSTART;TZID=America/Chicago:20270622T151500
DTEND;TZID=America/Chicago:20270622T173000
DTSTAMP:20260423T123908
CREATED:20260106T180136Z
LAST-MODIFIED:20260106T180213Z
UID:10011445-1813677300-1813685400@www.tcotc.com
SUMMARY:Scent Work
DESCRIPTION:3:15 pm class is in the Star Room \n 
URL:https://www.tcotc.com/event/scent-work/2027-06-22/
LOCATION:Meeting Room
CATEGORIES:Obedience
END:VEVENT
BEGIN:VEVENT
DTSTART;TZID=America/Chicago:20270622T180000
DTEND;TZID=America/Chicago:20270622T190000
DTSTAMP:20260423T123908
CREATED:20250304T152658Z
LAST-MODIFIED:20260120T211953Z
UID:10009305-1813687200-1813690800@www.tcotc.com
SUMMARY:Conformation
DESCRIPTION:Wendy Olson – Ring 1 \nNo class on December 16\, 2025
URL:https://www.tcotc.com/event/conformation-2/2027-06-22/
LOCATION:Ring 1
CATEGORIES:Conformation
END:VEVENT
BEGIN:VEVENT
DTSTART;TZID=America/Chicago:20270622T191500
DTEND;TZID=America/Chicago:20270622T201500
DTSTAMP:20260423T123908
CREATED:20260112T182400Z
LAST-MODIFIED:20260112T182400Z
UID:10011706-1813691700-1813695300@www.tcotc.com
SUMMARY:Treibball Class
DESCRIPTION:Rings 1 & 2
URL:https://www.tcotc.com/event/treibball-class/2027-06-22/
LOCATION:Rings 1&2
CATEGORIES:Obedience
END:VEVENT
BEGIN:VEVENT
DTSTART;TZID=America/Chicago:20270624T150000
DTEND;TZID=America/Chicago:20270624T173000
DTSTAMP:20260423T123908
CREATED:20240213T211645Z
LAST-MODIFIED:20260123T203755Z
UID:10006391-1813849200-1813858200@www.tcotc.com
SUMMARY:Agility for Fun classes
DESCRIPTION:3:00 to 4:00 p.m. and 4:15 p.m. to 5:15 p.m.
URL:https://www.tcotc.com/event/agility-for-fun-classes/2027-06-24/
LOCATION:Annex
CATEGORIES:Agility
END:VEVENT
BEGIN:VEVENT
DTSTART;TZID=America/Chicago:20270624T173000
DTEND;TZID=America/Chicago:20270624T213000
DTSTAMP:20260423T123908
CREATED:20241119T194942Z
LAST-MODIFIED:20260123T203945Z
UID:10008567-1813858200-1813872600@www.tcotc.com
SUMMARY:Agility Classes
DESCRIPTION:
URL:https://www.tcotc.com/event/agility-classes-7/2027-06-24/
LOCATION:Annex
CATEGORIES:Agility
END:VEVENT
BEGIN:VEVENT
DTSTART;TZID=America/Chicago:20270629T151500
DTEND;TZID=America/Chicago:20270629T173000
DTSTAMP:20260423T123908
CREATED:20260106T180136Z
LAST-MODIFIED:20260106T180213Z
UID:10011446-1814282100-1814290200@www.tcotc.com
SUMMARY:Scent Work
DESCRIPTION:3:15 pm class is in the Star Room \n 
URL:https://www.tcotc.com/event/scent-work/2027-06-29/
LOCATION:Meeting Room
CATEGORIES:Obedience
END:VEVENT
BEGIN:VEVENT
DTSTART;TZID=America/Chicago:20270629T180000
DTEND;TZID=America/Chicago:20270629T190000
DTSTAMP:20260423T123908
CREATED:20250304T152658Z
LAST-MODIFIED:20260120T211953Z
UID:10009306-1814292000-1814295600@www.tcotc.com
SUMMARY:Conformation
DESCRIPTION:Wendy Olson – Ring 1 \nNo class on December 16\, 2025
URL:https://www.tcotc.com/event/conformation-2/2027-06-29/
LOCATION:Ring 1
CATEGORIES:Conformation
END:VEVENT
BEGIN:VEVENT
DTSTART;TZID=America/Chicago:20270629T191500
DTEND;TZID=America/Chicago:20270629T201500
DTSTAMP:20260423T123908
CREATED:20260112T182400Z
LAST-MODIFIED:20260112T182400Z
UID:10011707-1814296500-1814300100@www.tcotc.com
SUMMARY:Treibball Class
DESCRIPTION:Rings 1 & 2
URL:https://www.tcotc.com/event/treibball-class/2027-06-29/
LOCATION:Rings 1&2
CATEGORIES:Obedience
END:VEVENT
BEGIN:VEVENT
DTSTART;TZID=America/Chicago:20270701T150000
DTEND;TZID=America/Chicago:20270701T173000
DTSTAMP:20260423T123908
CREATED:20240213T211645Z
LAST-MODIFIED:20260123T203755Z
UID:10006392-1814454000-1814463000@www.tcotc.com
SUMMARY:Agility for Fun classes
DESCRIPTION:3:00 to 4:00 p.m. and 4:15 p.m. to 5:15 p.m.
URL:https://www.tcotc.com/event/agility-for-fun-classes/2027-07-01/
LOCATION:Annex
CATEGORIES:Agility
END:VEVENT
BEGIN:VEVENT
DTSTART;TZID=America/Chicago:20270701T173000
DTEND;TZID=America/Chicago:20270701T213000
DTSTAMP:20260423T123908
CREATED:20241119T194942Z
LAST-MODIFIED:20260123T203945Z
UID:10008568-1814463000-1814477400@www.tcotc.com
SUMMARY:Agility Classes
DESCRIPTION:
URL:https://www.tcotc.com/event/agility-classes-7/2027-07-01/
LOCATION:Annex
CATEGORIES:Agility
END:VEVENT
BEGIN:VEVENT
DTSTART;TZID=America/Chicago:20270706T151500
DTEND;TZID=America/Chicago:20270706T173000
DTSTAMP:20260423T123908
CREATED:20260106T180136Z
LAST-MODIFIED:20260106T180213Z
UID:10011447-1814886900-1814895000@www.tcotc.com
SUMMARY:Scent Work
DESCRIPTION:3:15 pm class is in the Star Room \n 
URL:https://www.tcotc.com/event/scent-work/2027-07-06/
LOCATION:Meeting Room
CATEGORIES:Obedience
END:VEVENT
BEGIN:VEVENT
DTSTART;TZID=America/Chicago:20270706T180000
DTEND;TZID=America/Chicago:20270706T190000
DTSTAMP:20260423T123908
CREATED:20250304T152658Z
LAST-MODIFIED:20260120T211953Z
UID:10009307-1814896800-1814900400@www.tcotc.com
SUMMARY:Conformation
DESCRIPTION:Wendy Olson – Ring 1 \nNo class on December 16\, 2025
URL:https://www.tcotc.com/event/conformation-2/2027-07-06/
LOCATION:Ring 1
CATEGORIES:Conformation
END:VEVENT
BEGIN:VEVENT
DTSTART;TZID=America/Chicago:20270706T191500
DTEND;TZID=America/Chicago:20270706T201500
DTSTAMP:20260423T123908
CREATED:20260112T182400Z
LAST-MODIFIED:20260112T182400Z
UID:10011708-1814901300-1814904900@www.tcotc.com
SUMMARY:Treibball Class
DESCRIPTION:Rings 1 & 2
URL:https://www.tcotc.com/event/treibball-class/2027-07-06/
LOCATION:Rings 1&2
CATEGORIES:Obedience
END:VEVENT
BEGIN:VEVENT
DTSTART;TZID=America/Chicago:20270708T150000
DTEND;TZID=America/Chicago:20270708T173000
DTSTAMP:20260423T123908
CREATED:20240213T211645Z
LAST-MODIFIED:20260123T203755Z
UID:10006393-1815058800-1815067800@www.tcotc.com
SUMMARY:Agility for Fun classes
DESCRIPTION:3:00 to 4:00 p.m. and 4:15 p.m. to 5:15 p.m.
URL:https://www.tcotc.com/event/agility-for-fun-classes/2027-07-08/
LOCATION:Annex
CATEGORIES:Agility
END:VEVENT
BEGIN:VEVENT
DTSTART;TZID=America/Chicago:20270708T173000
DTEND;TZID=America/Chicago:20270708T213000
DTSTAMP:20260423T123908
CREATED:20241119T194942Z
LAST-MODIFIED:20260123T203945Z
UID:10008569-1815067800-1815082200@www.tcotc.com
SUMMARY:Agility Classes
DESCRIPTION:
URL:https://www.tcotc.com/event/agility-classes-7/2027-07-08/
LOCATION:Annex
CATEGORIES:Agility
END:VEVENT
BEGIN:VEVENT
DTSTART;TZID=America/Chicago:20270713T151500
DTEND;TZID=America/Chicago:20270713T173000
DTSTAMP:20260423T123908
CREATED:20260106T180136Z
LAST-MODIFIED:20260106T180213Z
UID:10011448-1815491700-1815499800@www.tcotc.com
SUMMARY:Scent Work
DESCRIPTION:3:15 pm class is in the Star Room \n 
URL:https://www.tcotc.com/event/scent-work/2027-07-13/
LOCATION:Meeting Room
CATEGORIES:Obedience
END:VEVENT
BEGIN:VEVENT
DTSTART;TZID=America/Chicago:20270713T180000
DTEND;TZID=America/Chicago:20270713T190000
DTSTAMP:20260423T123908
CREATED:20250304T152658Z
LAST-MODIFIED:20260120T211953Z
UID:10009308-1815501600-1815505200@www.tcotc.com
SUMMARY:Conformation
DESCRIPTION:Wendy Olson – Ring 1 \nNo class on December 16\, 2025
URL:https://www.tcotc.com/event/conformation-2/2027-07-13/
LOCATION:Ring 1
CATEGORIES:Conformation
END:VEVENT
BEGIN:VEVENT
DTSTART;TZID=America/Chicago:20270713T191500
DTEND;TZID=America/Chicago:20270713T201500
DTSTAMP:20260423T123908
CREATED:20260112T182400Z
LAST-MODIFIED:20260112T182400Z
UID:10011709-1815506100-1815509700@www.tcotc.com
SUMMARY:Treibball Class
DESCRIPTION:Rings 1 & 2
URL:https://www.tcotc.com/event/treibball-class/2027-07-13/
LOCATION:Rings 1&2
CATEGORIES:Obedience
END:VEVENT
BEGIN:VEVENT
DTSTART;TZID=America/Chicago:20270715T150000
DTEND;TZID=America/Chicago:20270715T173000
DTSTAMP:20260423T123908
CREATED:20240213T211645Z
LAST-MODIFIED:20260123T203755Z
UID:10006394-1815663600-1815672600@www.tcotc.com
SUMMARY:Agility for Fun classes
DESCRIPTION:3:00 to 4:00 p.m. and 4:15 p.m. to 5:15 p.m.
URL:https://www.tcotc.com/event/agility-for-fun-classes/2027-07-15/
LOCATION:Annex
CATEGORIES:Agility
END:VEVENT
BEGIN:VEVENT
DTSTART;TZID=America/Chicago:20270715T173000
DTEND;TZID=America/Chicago:20270715T213000
DTSTAMP:20260423T123908
CREATED:20241119T194942Z
LAST-MODIFIED:20260123T203945Z
UID:10008570-1815672600-1815687000@www.tcotc.com
SUMMARY:Agility Classes
DESCRIPTION:
URL:https://www.tcotc.com/event/agility-classes-7/2027-07-15/
LOCATION:Annex
CATEGORIES:Agility
END:VEVENT
BEGIN:VEVENT
DTSTART;TZID=America/Chicago:20270720T151500
DTEND;TZID=America/Chicago:20270720T173000
DTSTAMP:20260423T123908
CREATED:20260106T180136Z
LAST-MODIFIED:20260106T180213Z
UID:10011449-1816096500-1816104600@www.tcotc.com
SUMMARY:Scent Work
DESCRIPTION:3:15 pm class is in the Star Room \n 
URL:https://www.tcotc.com/event/scent-work/2027-07-20/
LOCATION:Meeting Room
CATEGORIES:Obedience
END:VEVENT
BEGIN:VEVENT
DTSTART;TZID=America/Chicago:20270720T180000
DTEND;TZID=America/Chicago:20270720T190000
DTSTAMP:20260423T123908
CREATED:20250304T152658Z
LAST-MODIFIED:20260120T211953Z
UID:10009309-1816106400-1816110000@www.tcotc.com
SUMMARY:Conformation
DESCRIPTION:Wendy Olson – Ring 1 \nNo class on December 16\, 2025
URL:https://www.tcotc.com/event/conformation-2/2027-07-20/
LOCATION:Ring 1
CATEGORIES:Conformation
END:VEVENT
BEGIN:VEVENT
DTSTART;TZID=America/Chicago:20270720T191500
DTEND;TZID=America/Chicago:20270720T201500
DTSTAMP:20260423T123908
CREATED:20260112T182400Z
LAST-MODIFIED:20260112T182400Z
UID:10011710-1816110900-1816114500@www.tcotc.com
SUMMARY:Treibball Class
DESCRIPTION:Rings 1 & 2
URL:https://www.tcotc.com/event/treibball-class/2027-07-20/
LOCATION:Rings 1&2
CATEGORIES:Obedience
END:VEVENT
BEGIN:VEVENT
DTSTART;TZID=America/Chicago:20270722T150000
DTEND;TZID=America/Chicago:20270722T173000
DTSTAMP:20260423T123908
CREATED:20240213T211645Z
LAST-MODIFIED:20260123T203755Z
UID:10006395-1816268400-1816277400@www.tcotc.com
SUMMARY:Agility for Fun classes
DESCRIPTION:3:00 to 4:00 p.m. and 4:15 p.m. to 5:15 p.m.
URL:https://www.tcotc.com/event/agility-for-fun-classes/2027-07-22/
LOCATION:Annex
CATEGORIES:Agility
END:VEVENT
BEGIN:VEVENT
DTSTART;TZID=America/Chicago:20270722T173000
DTEND;TZID=America/Chicago:20270722T213000
DTSTAMP:20260423T123908
CREATED:20241119T194942Z
LAST-MODIFIED:20260123T203945Z
UID:10008571-1816277400-1816291800@www.tcotc.com
SUMMARY:Agility Classes
DESCRIPTION:
URL:https://www.tcotc.com/event/agility-classes-7/2027-07-22/
LOCATION:Annex
CATEGORIES:Agility
END:VEVENT
BEGIN:VEVENT
DTSTART;TZID=America/Chicago:20270727T151500
DTEND;TZID=America/Chicago:20270727T173000
DTSTAMP:20260423T123908
CREATED:20260106T180136Z
LAST-MODIFIED:20260106T180213Z
UID:10011450-1816701300-1816709400@www.tcotc.com
SUMMARY:Scent Work
DESCRIPTION:3:15 pm class is in the Star Room \n 
URL:https://www.tcotc.com/event/scent-work/2027-07-27/
LOCATION:Meeting Room
CATEGORIES:Obedience
END:VEVENT
BEGIN:VEVENT
DTSTART;TZID=America/Chicago:20270727T180000
DTEND;TZID=America/Chicago:20270727T190000
DTSTAMP:20260423T123908
CREATED:20250304T152658Z
LAST-MODIFIED:20260120T211953Z
UID:10009310-1816711200-1816714800@www.tcotc.com
SUMMARY:Conformation
DESCRIPTION:Wendy Olson – Ring 1 \nNo class on December 16\, 2025
URL:https://www.tcotc.com/event/conformation-2/2027-07-27/
LOCATION:Ring 1
CATEGORIES:Conformation
END:VEVENT
END:VCALENDAR