BEGIN:VCALENDAR
VERSION:2.0
PRODID:-//Twin Cities Obedience Training Club - ECPv6.15.13//NONSGML v1.0//EN
CALSCALE:GREGORIAN
METHOD:PUBLISH
X-ORIGINAL-URL:https://www.tcotc.com
X-WR-CALDESC:Events for Twin Cities Obedience Training Club
REFRESH-INTERVAL;VALUE=DURATION:PT1H
X-Robots-Tag:noindex
X-PUBLISHED-TTL:PT1H
BEGIN:VTIMEZONE
TZID:America/Chicago
BEGIN:DAYLIGHT
TZOFFSETFROM:-0600
TZOFFSETTO:-0500
TZNAME:CDT
DTSTART:20260308T080000
END:DAYLIGHT
BEGIN:STANDARD
TZOFFSETFROM:-0500
TZOFFSETTO:-0600
TZNAME:CST
DTSTART:20261101T070000
END:STANDARD
BEGIN:DAYLIGHT
TZOFFSETFROM:-0600
TZOFFSETTO:-0500
TZNAME:CDT
DTSTART:20270314T080000
END:DAYLIGHT
BEGIN:STANDARD
TZOFFSETFROM:-0500
TZOFFSETTO:-0600
TZNAME:CST
DTSTART:20271107T070000
END:STANDARD
BEGIN:DAYLIGHT
TZOFFSETFROM:-0600
TZOFFSETTO:-0500
TZNAME:CDT
DTSTART:20280312T080000
END:DAYLIGHT
BEGIN:STANDARD
TZOFFSETFROM:-0500
TZOFFSETTO:-0600
TZNAME:CST
DTSTART:20281105T070000
END:STANDARD
END:VTIMEZONE
BEGIN:VEVENT
DTSTART;TZID=America/Chicago:20270413T151500
DTEND;TZID=America/Chicago:20270413T173000
DTSTAMP:20260422T003242
CREATED:20260106T180136Z
LAST-MODIFIED:20260106T180213Z
UID:10011435-1807629300-1807637400@www.tcotc.com
SUMMARY:Scent Work
DESCRIPTION:3:15 pm class is in the Star Room \n 
URL:https://www.tcotc.com/event/scent-work/2027-04-13/
LOCATION:Meeting Room
CATEGORIES:Obedience
END:VEVENT
BEGIN:VEVENT
DTSTART;TZID=America/Chicago:20270413T180000
DTEND;TZID=America/Chicago:20270413T190000
DTSTAMP:20260422T003242
CREATED:20250304T152658Z
LAST-MODIFIED:20260120T211953Z
UID:10009295-1807639200-1807642800@www.tcotc.com
SUMMARY:Conformation
DESCRIPTION:Wendy Olson – Ring 1 \nNo class on December 16\, 2025
URL:https://www.tcotc.com/event/conformation-2/2027-04-13/
LOCATION:Ring 1
CATEGORIES:Conformation
END:VEVENT
BEGIN:VEVENT
DTSTART;TZID=America/Chicago:20270413T191500
DTEND;TZID=America/Chicago:20270413T201500
DTSTAMP:20260422T003242
CREATED:20260112T182400Z
LAST-MODIFIED:20260112T182400Z
UID:10011696-1807643700-1807647300@www.tcotc.com
SUMMARY:Treibball Class
DESCRIPTION:Rings 1 & 2
URL:https://www.tcotc.com/event/treibball-class/2027-04-13/
LOCATION:Rings 1&2
CATEGORIES:Obedience
END:VEVENT
BEGIN:VEVENT
DTSTART;TZID=America/Chicago:20270415T150000
DTEND;TZID=America/Chicago:20270415T173000
DTSTAMP:20260422T003242
CREATED:20240213T211645Z
LAST-MODIFIED:20260123T203755Z
UID:10006381-1807801200-1807810200@www.tcotc.com
SUMMARY:Agility for Fun classes
DESCRIPTION:3:00 to 4:00 p.m. and 4:15 p.m. to 5:15 p.m.
URL:https://www.tcotc.com/event/agility-for-fun-classes/2027-04-15/
LOCATION:Annex
CATEGORIES:Agility
END:VEVENT
BEGIN:VEVENT
DTSTART;TZID=America/Chicago:20270415T173000
DTEND;TZID=America/Chicago:20270415T213000
DTSTAMP:20260422T003242
CREATED:20241119T194942Z
LAST-MODIFIED:20260123T203945Z
UID:10008557-1807810200-1807824600@www.tcotc.com
SUMMARY:Agility Classes
DESCRIPTION:
URL:https://www.tcotc.com/event/agility-classes-7/2027-04-15/
LOCATION:Annex
CATEGORIES:Agility
END:VEVENT
BEGIN:VEVENT
DTSTART;TZID=America/Chicago:20270420T151500
DTEND;TZID=America/Chicago:20270420T173000
DTSTAMP:20260422T003242
CREATED:20260106T180136Z
LAST-MODIFIED:20260106T180213Z
UID:10011436-1808234100-1808242200@www.tcotc.com
SUMMARY:Scent Work
DESCRIPTION:3:15 pm class is in the Star Room \n 
URL:https://www.tcotc.com/event/scent-work/2027-04-20/
LOCATION:Meeting Room
CATEGORIES:Obedience
END:VEVENT
BEGIN:VEVENT
DTSTART;TZID=America/Chicago:20270420T180000
DTEND;TZID=America/Chicago:20270420T190000
DTSTAMP:20260422T003242
CREATED:20250304T152658Z
LAST-MODIFIED:20260120T211953Z
UID:10009296-1808244000-1808247600@www.tcotc.com
SUMMARY:Conformation
DESCRIPTION:Wendy Olson – Ring 1 \nNo class on December 16\, 2025
URL:https://www.tcotc.com/event/conformation-2/2027-04-20/
LOCATION:Ring 1
CATEGORIES:Conformation
END:VEVENT
BEGIN:VEVENT
DTSTART;TZID=America/Chicago:20270420T191500
DTEND;TZID=America/Chicago:20270420T201500
DTSTAMP:20260422T003242
CREATED:20260112T182400Z
LAST-MODIFIED:20260112T182400Z
UID:10011697-1808248500-1808252100@www.tcotc.com
SUMMARY:Treibball Class
DESCRIPTION:Rings 1 & 2
URL:https://www.tcotc.com/event/treibball-class/2027-04-20/
LOCATION:Rings 1&2
CATEGORIES:Obedience
END:VEVENT
BEGIN:VEVENT
DTSTART;TZID=America/Chicago:20270422T150000
DTEND;TZID=America/Chicago:20270422T173000
DTSTAMP:20260422T003242
CREATED:20240213T211645Z
LAST-MODIFIED:20260123T203755Z
UID:10006382-1808406000-1808415000@www.tcotc.com
SUMMARY:Agility for Fun classes
DESCRIPTION:3:00 to 4:00 p.m. and 4:15 p.m. to 5:15 p.m.
URL:https://www.tcotc.com/event/agility-for-fun-classes/2027-04-22/
LOCATION:Annex
CATEGORIES:Agility
END:VEVENT
BEGIN:VEVENT
DTSTART;TZID=America/Chicago:20270422T173000
DTEND;TZID=America/Chicago:20270422T213000
DTSTAMP:20260422T003242
CREATED:20241119T194942Z
LAST-MODIFIED:20260123T203945Z
UID:10008558-1808415000-1808429400@www.tcotc.com
SUMMARY:Agility Classes
DESCRIPTION:
URL:https://www.tcotc.com/event/agility-classes-7/2027-04-22/
LOCATION:Annex
CATEGORIES:Agility
END:VEVENT
BEGIN:VEVENT
DTSTART;TZID=America/Chicago:20270427T151500
DTEND;TZID=America/Chicago:20270427T173000
DTSTAMP:20260422T003242
CREATED:20260106T180136Z
LAST-MODIFIED:20260106T180213Z
UID:10011437-1808838900-1808847000@www.tcotc.com
SUMMARY:Scent Work
DESCRIPTION:3:15 pm class is in the Star Room \n 
URL:https://www.tcotc.com/event/scent-work/2027-04-27/
LOCATION:Meeting Room
CATEGORIES:Obedience
END:VEVENT
BEGIN:VEVENT
DTSTART;TZID=America/Chicago:20270427T180000
DTEND;TZID=America/Chicago:20270427T190000
DTSTAMP:20260422T003242
CREATED:20250304T152658Z
LAST-MODIFIED:20260120T211953Z
UID:10009297-1808848800-1808852400@www.tcotc.com
SUMMARY:Conformation
DESCRIPTION:Wendy Olson – Ring 1 \nNo class on December 16\, 2025
URL:https://www.tcotc.com/event/conformation-2/2027-04-27/
LOCATION:Ring 1
CATEGORIES:Conformation
END:VEVENT
BEGIN:VEVENT
DTSTART;TZID=America/Chicago:20270427T191500
DTEND;TZID=America/Chicago:20270427T201500
DTSTAMP:20260422T003242
CREATED:20260112T182400Z
LAST-MODIFIED:20260112T182400Z
UID:10011698-1808853300-1808856900@www.tcotc.com
SUMMARY:Treibball Class
DESCRIPTION:Rings 1 & 2
URL:https://www.tcotc.com/event/treibball-class/2027-04-27/
LOCATION:Rings 1&2
CATEGORIES:Obedience
END:VEVENT
BEGIN:VEVENT
DTSTART;TZID=America/Chicago:20270429T150000
DTEND;TZID=America/Chicago:20270429T173000
DTSTAMP:20260422T003242
CREATED:20240213T211645Z
LAST-MODIFIED:20260123T203755Z
UID:10006383-1809010800-1809019800@www.tcotc.com
SUMMARY:Agility for Fun classes
DESCRIPTION:3:00 to 4:00 p.m. and 4:15 p.m. to 5:15 p.m.
URL:https://www.tcotc.com/event/agility-for-fun-classes/2027-04-29/
LOCATION:Annex
CATEGORIES:Agility
END:VEVENT
BEGIN:VEVENT
DTSTART;TZID=America/Chicago:20270429T173000
DTEND;TZID=America/Chicago:20270429T213000
DTSTAMP:20260422T003242
CREATED:20241119T194942Z
LAST-MODIFIED:20260123T203945Z
UID:10008559-1809019800-1809034200@www.tcotc.com
SUMMARY:Agility Classes
DESCRIPTION:
URL:https://www.tcotc.com/event/agility-classes-7/2027-04-29/
LOCATION:Annex
CATEGORIES:Agility
END:VEVENT
BEGIN:VEVENT
DTSTART;TZID=America/Chicago:20270503T113000
DTEND;TZID=America/Chicago:20270503T143000
DTSTAMP:20260422T003242
CREATED:20241023T005121Z
LAST-MODIFIED:20260203T024918Z
UID:10014748-1809343800-1809354600@www.tcotc.com
SUMMARY:Pint Size Pooches SR
DESCRIPTION:Pint Size Pooches meeting. – Star Room – \nContact: Michele Picard
URL:https://www.tcotc.com/event/pint-size-pooches-sr/2027-05-03/
LOCATION:Star Room
CATEGORIES:Rental
END:VEVENT
BEGIN:VEVENT
DTSTART;TZID=America/Chicago:20270504T151500
DTEND;TZID=America/Chicago:20270504T173000
DTSTAMP:20260422T003242
CREATED:20260106T180136Z
LAST-MODIFIED:20260106T180213Z
UID:10011438-1809443700-1809451800@www.tcotc.com
SUMMARY:Scent Work
DESCRIPTION:3:15 pm class is in the Star Room \n 
URL:https://www.tcotc.com/event/scent-work/2027-05-04/
LOCATION:Meeting Room
CATEGORIES:Obedience
END:VEVENT
BEGIN:VEVENT
DTSTART;TZID=America/Chicago:20270504T180000
DTEND;TZID=America/Chicago:20270504T190000
DTSTAMP:20260422T003242
CREATED:20250304T152658Z
LAST-MODIFIED:20260120T211953Z
UID:10009298-1809453600-1809457200@www.tcotc.com
SUMMARY:Conformation
DESCRIPTION:Wendy Olson – Ring 1 \nNo class on December 16\, 2025
URL:https://www.tcotc.com/event/conformation-2/2027-05-04/
LOCATION:Ring 1
CATEGORIES:Conformation
END:VEVENT
BEGIN:VEVENT
DTSTART;TZID=America/Chicago:20270504T191500
DTEND;TZID=America/Chicago:20270504T201500
DTSTAMP:20260422T003242
CREATED:20260112T182400Z
LAST-MODIFIED:20260112T182400Z
UID:10011699-1809458100-1809461700@www.tcotc.com
SUMMARY:Treibball Class
DESCRIPTION:Rings 1 & 2
URL:https://www.tcotc.com/event/treibball-class/2027-05-04/
LOCATION:Rings 1&2
CATEGORIES:Obedience
END:VEVENT
BEGIN:VEVENT
DTSTART;TZID=America/Chicago:20270506T150000
DTEND;TZID=America/Chicago:20270506T173000
DTSTAMP:20260422T003242
CREATED:20240213T211645Z
LAST-MODIFIED:20260123T203755Z
UID:10006384-1809615600-1809624600@www.tcotc.com
SUMMARY:Agility for Fun classes
DESCRIPTION:3:00 to 4:00 p.m. and 4:15 p.m. to 5:15 p.m.
URL:https://www.tcotc.com/event/agility-for-fun-classes/2027-05-06/
LOCATION:Annex
CATEGORIES:Agility
END:VEVENT
BEGIN:VEVENT
DTSTART;TZID=America/Chicago:20270506T173000
DTEND;TZID=America/Chicago:20270506T213000
DTSTAMP:20260422T003242
CREATED:20241119T194942Z
LAST-MODIFIED:20260123T203945Z
UID:10008560-1809624600-1809639000@www.tcotc.com
SUMMARY:Agility Classes
DESCRIPTION:
URL:https://www.tcotc.com/event/agility-classes-7/2027-05-06/
LOCATION:Annex
CATEGORIES:Agility
END:VEVENT
BEGIN:VEVENT
DTSTART;TZID=America/Chicago:20270511T151500
DTEND;TZID=America/Chicago:20270511T173000
DTSTAMP:20260422T003242
CREATED:20260106T180136Z
LAST-MODIFIED:20260106T180213Z
UID:10011439-1810048500-1810056600@www.tcotc.com
SUMMARY:Scent Work
DESCRIPTION:3:15 pm class is in the Star Room \n 
URL:https://www.tcotc.com/event/scent-work/2027-05-11/
LOCATION:Meeting Room
CATEGORIES:Obedience
END:VEVENT
BEGIN:VEVENT
DTSTART;TZID=America/Chicago:20270511T180000
DTEND;TZID=America/Chicago:20270511T190000
DTSTAMP:20260422T003242
CREATED:20250304T152658Z
LAST-MODIFIED:20260120T211953Z
UID:10009299-1810058400-1810062000@www.tcotc.com
SUMMARY:Conformation
DESCRIPTION:Wendy Olson – Ring 1 \nNo class on December 16\, 2025
URL:https://www.tcotc.com/event/conformation-2/2027-05-11/
LOCATION:Ring 1
CATEGORIES:Conformation
END:VEVENT
BEGIN:VEVENT
DTSTART;TZID=America/Chicago:20270511T191500
DTEND;TZID=America/Chicago:20270511T201500
DTSTAMP:20260422T003242
CREATED:20260112T182400Z
LAST-MODIFIED:20260112T182400Z
UID:10011700-1810062900-1810066500@www.tcotc.com
SUMMARY:Treibball Class
DESCRIPTION:Rings 1 & 2
URL:https://www.tcotc.com/event/treibball-class/2027-05-11/
LOCATION:Rings 1&2
CATEGORIES:Obedience
END:VEVENT
BEGIN:VEVENT
DTSTART;TZID=America/Chicago:20270513T150000
DTEND;TZID=America/Chicago:20270513T173000
DTSTAMP:20260422T003242
CREATED:20240213T211645Z
LAST-MODIFIED:20260123T203755Z
UID:10006385-1810220400-1810229400@www.tcotc.com
SUMMARY:Agility for Fun classes
DESCRIPTION:3:00 to 4:00 p.m. and 4:15 p.m. to 5:15 p.m.
URL:https://www.tcotc.com/event/agility-for-fun-classes/2027-05-13/
LOCATION:Annex
CATEGORIES:Agility
END:VEVENT
BEGIN:VEVENT
DTSTART;TZID=America/Chicago:20270513T173000
DTEND;TZID=America/Chicago:20270513T213000
DTSTAMP:20260422T003242
CREATED:20241119T194942Z
LAST-MODIFIED:20260123T203945Z
UID:10008561-1810229400-1810243800@www.tcotc.com
SUMMARY:Agility Classes
DESCRIPTION:
URL:https://www.tcotc.com/event/agility-classes-7/2027-05-13/
LOCATION:Annex
CATEGORIES:Agility
END:VEVENT
BEGIN:VEVENT
DTSTART;TZID=America/Chicago:20270518T151500
DTEND;TZID=America/Chicago:20270518T173000
DTSTAMP:20260422T003242
CREATED:20260106T180136Z
LAST-MODIFIED:20260106T180213Z
UID:10011440-1810653300-1810661400@www.tcotc.com
SUMMARY:Scent Work
DESCRIPTION:3:15 pm class is in the Star Room \n 
URL:https://www.tcotc.com/event/scent-work/2027-05-18/
LOCATION:Meeting Room
CATEGORIES:Obedience
END:VEVENT
BEGIN:VEVENT
DTSTART;TZID=America/Chicago:20270518T180000
DTEND;TZID=America/Chicago:20270518T190000
DTSTAMP:20260422T003242
CREATED:20250304T152658Z
LAST-MODIFIED:20260120T211953Z
UID:10009300-1810663200-1810666800@www.tcotc.com
SUMMARY:Conformation
DESCRIPTION:Wendy Olson – Ring 1 \nNo class on December 16\, 2025
URL:https://www.tcotc.com/event/conformation-2/2027-05-18/
LOCATION:Ring 1
CATEGORIES:Conformation
END:VEVENT
BEGIN:VEVENT
DTSTART;TZID=America/Chicago:20270518T191500
DTEND;TZID=America/Chicago:20270518T201500
DTSTAMP:20260422T003242
CREATED:20260112T182400Z
LAST-MODIFIED:20260112T182400Z
UID:10011701-1810667700-1810671300@www.tcotc.com
SUMMARY:Treibball Class
DESCRIPTION:Rings 1 & 2
URL:https://www.tcotc.com/event/treibball-class/2027-05-18/
LOCATION:Rings 1&2
CATEGORIES:Obedience
END:VEVENT
BEGIN:VEVENT
DTSTART;TZID=America/Chicago:20270520T150000
DTEND;TZID=America/Chicago:20270520T173000
DTSTAMP:20260422T003242
CREATED:20240213T211645Z
LAST-MODIFIED:20260123T203755Z
UID:10006386-1810825200-1810834200@www.tcotc.com
SUMMARY:Agility for Fun classes
DESCRIPTION:3:00 to 4:00 p.m. and 4:15 p.m. to 5:15 p.m.
URL:https://www.tcotc.com/event/agility-for-fun-classes/2027-05-20/
LOCATION:Annex
CATEGORIES:Agility
END:VEVENT
END:VCALENDAR