BEGIN:VCALENDAR
VERSION:2.0
PRODID:-//Twin Cities Obedience Training Club - ECPv6.15.13//NONSGML v1.0//EN
CALSCALE:GREGORIAN
METHOD:PUBLISH
X-ORIGINAL-URL:https://www.tcotc.com
X-WR-CALDESC:Events for Twin Cities Obedience Training Club
REFRESH-INTERVAL;VALUE=DURATION:PT1H
X-Robots-Tag:noindex
X-PUBLISHED-TTL:PT1H
BEGIN:VTIMEZONE
TZID:America/Chicago
BEGIN:DAYLIGHT
TZOFFSETFROM:-0600
TZOFFSETTO:-0500
TZNAME:CDT
DTSTART:20250309T080000
END:DAYLIGHT
BEGIN:STANDARD
TZOFFSETFROM:-0500
TZOFFSETTO:-0600
TZNAME:CST
DTSTART:20251102T070000
END:STANDARD
BEGIN:DAYLIGHT
TZOFFSETFROM:-0600
TZOFFSETTO:-0500
TZNAME:CDT
DTSTART:20260308T080000
END:DAYLIGHT
BEGIN:STANDARD
TZOFFSETFROM:-0500
TZOFFSETTO:-0600
TZNAME:CST
DTSTART:20261101T070000
END:STANDARD
BEGIN:DAYLIGHT
TZOFFSETFROM:-0600
TZOFFSETTO:-0500
TZNAME:CDT
DTSTART:20270314T080000
END:DAYLIGHT
BEGIN:STANDARD
TZOFFSETFROM:-0500
TZOFFSETTO:-0600
TZNAME:CST
DTSTART:20271107T070000
END:STANDARD
BEGIN:DAYLIGHT
TZOFFSETFROM:-0600
TZOFFSETTO:-0500
TZNAME:CDT
DTSTART:20280312T080000
END:DAYLIGHT
BEGIN:STANDARD
TZOFFSETFROM:-0500
TZOFFSETTO:-0600
TZNAME:CST
DTSTART:20281105T070000
END:STANDARD
END:VTIMEZONE
BEGIN:VEVENT
DTSTART;TZID=America/Chicago:20261227T090000
DTEND;TZID=America/Chicago:20261227T110000
DTSTAMP:20260421T193537
CREATED:20230815T022526Z
LAST-MODIFIED:20251224T051356Z
UID:10010831-1798362000-1798369200@www.tcotc.com
SUMMARY:Makin Trax Flyball
DESCRIPTION:Makin Trax Flyball Practice – Ring Room – \nContact: Debbie Huddleston
URL:https://www.tcotc.com/event/makin-trax-flyball/2026-12-27/
LOCATION:Ring Room
CATEGORIES:Rental
END:VEVENT
BEGIN:VEVENT
DTSTART;TZID=America/Chicago:20261227T113000
DTEND;TZID=America/Chicago:20261227T133000
DTSTAMP:20260421T193537
CREATED:20230815T023058Z
LAST-MODIFIED:20251224T051257Z
UID:10010878-1798371000-1798378200@www.tcotc.com
SUMMARY:Brat Pack Flyball
DESCRIPTION:Brat Pack Flyball Practice – Ring Room – \nContact: Corrie Barrows
URL:https://www.tcotc.com/event/brat-pack-flyball/2026-12-27/
LOCATION:Ring Room
CATEGORIES:Rental
END:VEVENT
BEGIN:VEVENT
DTSTART;TZID=America/Chicago:20261227T140000
DTEND;TZID=America/Chicago:20261227T160000
DTSTAMP:20260421T193537
CREATED:20230815T023542Z
LAST-MODIFIED:20251224T051157Z
UID:10010924-1798380000-1798387200@www.tcotc.com
SUMMARY:Balls Out Flyball
DESCRIPTION:Balls Out Flyball Practice – Ring Room – \nContact: John Rohling
URL:https://www.tcotc.com/event/balls-out-flyball/2026-12-27/
LOCATION:Ring Room
CATEGORIES:Rental
END:VEVENT
BEGIN:VEVENT
DTSTART;TZID=America/Chicago:20261227T170000
DTEND;TZID=America/Chicago:20261227T190000
DTSTAMP:20260421T193537
CREATED:20230815T024306Z
LAST-MODIFIED:20251224T051912Z
UID:10010970-1798390800-1798398000@www.tcotc.com
SUMMARY:High Sprits Flyball
DESCRIPTION:High Spirits Flyball Practice – Ring Room – \nContact: Karen Radford
URL:https://www.tcotc.com/event/high-sprits-flyball/2026-12-27/
LOCATION:Ring Room
CATEGORIES:Rental
END:VEVENT
BEGIN:VEVENT
DTSTART;VALUE=DATE:20261228
DTEND;VALUE=DATE:20261229
DTSTAMP:20260421T193537
CREATED:20251218T183659Z
LAST-MODIFIED:20251218T183659Z
UID:10010199-1798444800-1798477200@www.tcotc.com
SUMMARY:**Closed**
DESCRIPTION:
URL:https://www.tcotc.com/event/closed-3/2026-12-28/
END:VEVENT
BEGIN:VEVENT
DTSTART;TZID=America/Chicago:20261228T173000
DTEND;TZID=America/Chicago:20261228T213000
DTSTAMP:20260421T193537
CREATED:20241119T192531Z
LAST-MODIFIED:20251218T211137Z
UID:10010571-1798479000-1798493400@www.tcotc.com
SUMMARY:Agility Classes
DESCRIPTION:5:30 p.m. – 9:30 p.m. – Annex
URL:https://www.tcotc.com/event/agility-classes-2/2026-12-28/
LOCATION:Annex
CATEGORIES:Agility
END:VEVENT
BEGIN:VEVENT
DTSTART;VALUE=DATE:20261229
DTEND;VALUE=DATE:20261230
DTSTAMP:20260421T193537
CREATED:20251218T183659Z
LAST-MODIFIED:20251218T183659Z
UID:10010200-1798531200-1798563600@www.tcotc.com
SUMMARY:**Closed**
DESCRIPTION:
URL:https://www.tcotc.com/event/closed-3/2026-12-29/
END:VEVENT
BEGIN:VEVENT
DTSTART;TZID=America/Chicago:20261229T121500
DTEND;TZID=America/Chicago:20261229T131500
DTSTAMP:20260421T193537
CREATED:20260310T164211Z
LAST-MODIFIED:20260310T164211Z
UID:10015127-1798546500-1798550100@www.tcotc.com
SUMMARY:Conformation
DESCRIPTION:Wendy Olson\, Ring 1
URL:https://www.tcotc.com/event/conformation-3/2026-12-29/
LOCATION:Ring 1
CATEGORIES:Conformation
END:VEVENT
BEGIN:VEVENT
DTSTART;TZID=America/Chicago:20261229T151500
DTEND;TZID=America/Chicago:20261229T173000
DTSTAMP:20260421T193537
CREATED:20260106T180136Z
LAST-MODIFIED:20260106T180213Z
UID:10011420-1798557300-1798565400@www.tcotc.com
SUMMARY:Scent Work
DESCRIPTION:3:15 pm class is in the Star Room \n 
URL:https://www.tcotc.com/event/scent-work/2026-12-29/
LOCATION:Meeting Room
CATEGORIES:Obedience
END:VEVENT
BEGIN:VEVENT
DTSTART;TZID=America/Chicago:20261229T180000
DTEND;TZID=America/Chicago:20261229T190000
DTSTAMP:20260421T193537
CREATED:20250304T152658Z
LAST-MODIFIED:20260120T211953Z
UID:10009280-1798567200-1798570800@www.tcotc.com
SUMMARY:Conformation
DESCRIPTION:Wendy Olson – Ring 1 \nNo class on December 16\, 2025
URL:https://www.tcotc.com/event/conformation-2/2026-12-29/
LOCATION:Ring 1
CATEGORIES:Conformation
END:VEVENT
BEGIN:VEVENT
DTSTART;TZID=America/Chicago:20261229T191500
DTEND;TZID=America/Chicago:20261229T201500
DTSTAMP:20260421T193537
CREATED:20260112T182400Z
LAST-MODIFIED:20260112T182400Z
UID:10011681-1798571700-1798575300@www.tcotc.com
SUMMARY:Treibball Class
DESCRIPTION:Rings 1 & 2
URL:https://www.tcotc.com/event/treibball-class/2026-12-29/
LOCATION:Rings 1&2
CATEGORIES:Obedience
END:VEVENT
BEGIN:VEVENT
DTSTART;VALUE=DATE:20261230
DTEND;VALUE=DATE:20261231
DTSTAMP:20260421T193537
CREATED:20251218T183659Z
LAST-MODIFIED:20251218T183659Z
UID:10010201-1798617600-1798650000@www.tcotc.com
SUMMARY:**Closed**
DESCRIPTION:
URL:https://www.tcotc.com/event/closed-3/2026-12-30/
END:VEVENT
BEGIN:VEVENT
DTSTART;TZID=America/Chicago:20261230T173000
DTEND;TZID=America/Chicago:20261230T213000
DTSTAMP:20260421T193537
CREATED:20241119T164634Z
LAST-MODIFIED:20260205T192024Z
UID:10010293-1798651800-1798666200@www.tcotc.com
SUMMARY:Obedience Classes
DESCRIPTION:Ring Room and Star Room
URL:https://www.tcotc.com/event/obedience-classes-3/2026-12-30/
LOCATION:Ring Room and Star Room
CATEGORIES:Obedience
END:VEVENT
BEGIN:VEVENT
DTSTART;VALUE=DATE:20261231
DTEND;VALUE=DATE:20270101
DTSTAMP:20260421T193537
CREATED:20251218T183659Z
LAST-MODIFIED:20251218T183659Z
UID:10010202-1798704000-1798736400@www.tcotc.com
SUMMARY:**Closed**
DESCRIPTION:
URL:https://www.tcotc.com/event/closed-3/2026-12-31/
END:VEVENT
BEGIN:VEVENT
DTSTART;TZID=America/Chicago:20261231T150000
DTEND;TZID=America/Chicago:20261231T173000
DTSTAMP:20260421T193537
CREATED:20240213T211645Z
LAST-MODIFIED:20260123T203755Z
UID:10006366-1798729200-1798738200@www.tcotc.com
SUMMARY:Agility for Fun classes
DESCRIPTION:3:00 to 4:00 p.m. and 4:15 p.m. to 5:15 p.m.
URL:https://www.tcotc.com/event/agility-for-fun-classes/2026-12-31/
LOCATION:Annex
CATEGORIES:Agility
END:VEVENT
BEGIN:VEVENT
DTSTART;TZID=America/Chicago:20261231T173000
DTEND;TZID=America/Chicago:20261231T213000
DTSTAMP:20260421T193537
CREATED:20241119T194942Z
LAST-MODIFIED:20260123T203945Z
UID:10008542-1798738200-1798752600@www.tcotc.com
SUMMARY:Agility Classes
DESCRIPTION:
URL:https://www.tcotc.com/event/agility-classes-7/2026-12-31/
LOCATION:Annex
CATEGORIES:Agility
END:VEVENT
BEGIN:VEVENT
DTSTART;TZID=America/Chicago:20270104T173000
DTEND;TZID=America/Chicago:20270104T213000
DTSTAMP:20260421T193537
CREATED:20241119T162919Z
LAST-MODIFIED:20251218T183215Z
UID:10010188-1799083800-1799098200@www.tcotc.com
SUMMARY:Obedience Classes
DESCRIPTION:
URL:https://www.tcotc.com/event/obedience-classes/2027-01-04/
LOCATION:Ring Room and Star Room
CATEGORIES:Obedience
END:VEVENT
BEGIN:VEVENT
DTSTART;TZID=America/Chicago:20270104T173000
DTEND;TZID=America/Chicago:20270104T213000
DTSTAMP:20260421T193537
CREATED:20241119T192531Z
LAST-MODIFIED:20251218T211137Z
UID:10010572-1799083800-1799098200@www.tcotc.com
SUMMARY:Agility Classes
DESCRIPTION:5:30 p.m. – 9:30 p.m. – Annex
URL:https://www.tcotc.com/event/agility-classes-2/2027-01-04/
LOCATION:Annex
CATEGORIES:Agility
END:VEVENT
BEGIN:VEVENT
DTSTART;TZID=America/Chicago:20270105T090000
DTEND;TZID=America/Chicago:20270105T120000
DTSTAMP:20260421T193537
CREATED:20241119T163521Z
LAST-MODIFIED:20260106T141756Z
UID:10010247-1799139600-1799150400@www.tcotc.com
SUMMARY:Obedience Classes
DESCRIPTION:Meeting Room and Star Room
URL:https://www.tcotc.com/event/obedience-classes-2/2027-01-05/
LOCATION:Ring Room and Star Room
CATEGORIES:Obedience
END:VEVENT
BEGIN:VEVENT
DTSTART;TZID=America/Chicago:20270105T090000
DTEND;TZID=America/Chicago:20270105T123000
DTSTAMP:20260421T193537
CREATED:20241119T193218Z
LAST-MODIFIED:20260106T141843Z
UID:10007962-1799139600-1799152200@www.tcotc.com
SUMMARY:Agility Classes
DESCRIPTION:
URL:https://www.tcotc.com/event/agility-classes-3/2027-01-05/
LOCATION:Annex
CATEGORIES:Agility
END:VEVENT
BEGIN:VEVENT
DTSTART;TZID=America/Chicago:20270105T120000
DTEND;TZID=America/Chicago:20270105T130000
DTSTAMP:20260421T193537
CREATED:20241119T183140Z
LAST-MODIFIED:20260106T141954Z
UID:10010429-1799150400-1799154000@www.tcotc.com
SUMMARY:Competition Bedrock
DESCRIPTION:
URL:https://www.tcotc.com/event/competition-bedrock/2027-01-05/
LOCATION:Ring Room
CATEGORIES:Obedience
END:VEVENT
BEGIN:VEVENT
DTSTART;TZID=America/Chicago:20270105T121500
DTEND;TZID=America/Chicago:20270105T131500
DTSTAMP:20260421T193537
CREATED:20260310T164211Z
LAST-MODIFIED:20260310T164211Z
UID:10015128-1799151300-1799154900@www.tcotc.com
SUMMARY:Conformation
DESCRIPTION:Wendy Olson\, Ring 1
URL:https://www.tcotc.com/event/conformation-3/2027-01-05/
LOCATION:Ring 1
CATEGORIES:Conformation
END:VEVENT
BEGIN:VEVENT
DTSTART;TZID=America/Chicago:20270105T133000
DTEND;TZID=America/Chicago:20270105T213000
DTSTAMP:20260421T193537
CREATED:20241119T193615Z
LAST-MODIFIED:20251218T211433Z
UID:10010622-1799155800-1799184600@www.tcotc.com
SUMMARY:Agility Classes
DESCRIPTION:
URL:https://www.tcotc.com/event/agility-classes-4/2027-01-05/
LOCATION:Annex
CATEGORIES:Agility
END:VEVENT
BEGIN:VEVENT
DTSTART;TZID=America/Chicago:20270105T151500
DTEND;TZID=America/Chicago:20270105T173000
DTSTAMP:20260421T193537
CREATED:20260106T180136Z
LAST-MODIFIED:20260106T180213Z
UID:10011421-1799162100-1799170200@www.tcotc.com
SUMMARY:Scent Work
DESCRIPTION:3:15 pm class is in the Star Room \n 
URL:https://www.tcotc.com/event/scent-work/2027-01-05/
LOCATION:Meeting Room
CATEGORIES:Obedience
END:VEVENT
BEGIN:VEVENT
DTSTART;TZID=America/Chicago:20270105T180000
DTEND;TZID=America/Chicago:20270105T190000
DTSTAMP:20260421T193537
CREATED:20250304T152658Z
LAST-MODIFIED:20260120T211953Z
UID:10009281-1799172000-1799175600@www.tcotc.com
SUMMARY:Conformation
DESCRIPTION:Wendy Olson – Ring 1 \nNo class on December 16\, 2025
URL:https://www.tcotc.com/event/conformation-2/2027-01-05/
LOCATION:Ring 1
CATEGORIES:Conformation
END:VEVENT
BEGIN:VEVENT
DTSTART;TZID=America/Chicago:20270105T191500
DTEND;TZID=America/Chicago:20270105T201500
DTSTAMP:20260421T193537
CREATED:20260112T182400Z
LAST-MODIFIED:20260112T182400Z
UID:10011682-1799176500-1799180100@www.tcotc.com
SUMMARY:Treibball Class
DESCRIPTION:Rings 1 & 2
URL:https://www.tcotc.com/event/treibball-class/2027-01-05/
LOCATION:Rings 1&2
CATEGORIES:Obedience
END:VEVENT
BEGIN:VEVENT
DTSTART;TZID=America/Chicago:20270106T113000
DTEND;TZID=America/Chicago:20270106T150000
DTSTAMP:20260421T193537
CREATED:20241119T194155Z
LAST-MODIFIED:20251218T214644Z
UID:10008254-1799235000-1799247600@www.tcotc.com
SUMMARY:Agility Classes
DESCRIPTION:
URL:https://www.tcotc.com/event/agility-classes-5/2027-01-06/
LOCATION:Annex
CATEGORIES:Agility
END:VEVENT
BEGIN:VEVENT
DTSTART;TZID=America/Chicago:20270106T173000
DTEND;TZID=America/Chicago:20270106T213000
DTSTAMP:20260421T193537
CREATED:20241119T194515Z
LAST-MODIFIED:20251218T214801Z
UID:10010671-1799256600-1799271000@www.tcotc.com
SUMMARY:Agility Classes
DESCRIPTION:
URL:https://www.tcotc.com/event/agility-classes-6/2027-01-06/
LOCATION:Annex
CATEGORIES:Agility
END:VEVENT
BEGIN:VEVENT
DTSTART;TZID=America/Chicago:20270106T201500
DTEND;TZID=America/Chicago:20270106T211500
DTSTAMP:20260421T193537
CREATED:20241119T183836Z
LAST-MODIFIED:20251218T190510Z
UID:10010470-1799266500-1799270100@www.tcotc.com
SUMMARY:Competition Bedrock
DESCRIPTION:8:15 pm – 9:15 pm Ring Room
URL:https://www.tcotc.com/event/competition-bedrock-2/2027-01-06/
END:VEVENT
BEGIN:VEVENT
DTSTART;TZID=America/Chicago:20270107T123000
DTEND;TZID=America/Chicago:20270107T143000
DTSTAMP:20260421T193537
CREATED:20240227T223016Z
LAST-MODIFIED:20260123T204054Z
UID:10012027-1799325000-1799332200@www.tcotc.com
SUMMARY:Open Ring Time
DESCRIPTION:Agility and Obedience Open Ring Time\nMost Thursdays\, 12:30 p.m. – 2:30 p.m. \nLooking for some extra training time? Want to practice before an upcoming trial? Sign up for Obedience and Agility Open Ring Time. Members and non-members welcome. Please follow posted rules. For agility practice\, dogs must have at least 18 weeks of agility training at the beginner level or higher and be able to safely handle contacts at full height. \nMembers $8/Non-members $12 for 10 minutes of ring time. Three dogs may sign up for each half-hour time slot. You may be sharing a ring with others who have signed up for the same time slot. \nRegister in advance here.
URL:https://www.tcotc.com/event/open-ring-time-6-2-2/2027-01-07/
LOCATION:Annex & Ring Room
CATEGORIES:Open Ring
END:VEVENT
END:VCALENDAR