BEGIN:VCALENDAR
VERSION:2.0
PRODID:-//Twin Cities Obedience Training Club - ECPv6.15.13//NONSGML v1.0//EN
CALSCALE:GREGORIAN
METHOD:PUBLISH
X-WR-CALNAME:Twin Cities Obedience Training Club
X-ORIGINAL-URL:https://www.tcotc.com
X-WR-CALDESC:Events for Twin Cities Obedience Training Club
REFRESH-INTERVAL;VALUE=DURATION:PT1H
X-Robots-Tag:noindex
X-PUBLISHED-TTL:PT1H
BEGIN:VTIMEZONE
TZID:America/Chicago
BEGIN:DAYLIGHT
TZOFFSETFROM:-0600
TZOFFSETTO:-0500
TZNAME:CDT
DTSTART:20240310T080000
END:DAYLIGHT
BEGIN:STANDARD
TZOFFSETFROM:-0500
TZOFFSETTO:-0600
TZNAME:CST
DTSTART:20241103T070000
END:STANDARD
BEGIN:DAYLIGHT
TZOFFSETFROM:-0600
TZOFFSETTO:-0500
TZNAME:CDT
DTSTART:20250309T080000
END:DAYLIGHT
BEGIN:STANDARD
TZOFFSETFROM:-0500
TZOFFSETTO:-0600
TZNAME:CST
DTSTART:20251102T070000
END:STANDARD
BEGIN:DAYLIGHT
TZOFFSETFROM:-0600
TZOFFSETTO:-0500
TZNAME:CDT
DTSTART:20260308T080000
END:DAYLIGHT
BEGIN:STANDARD
TZOFFSETFROM:-0500
TZOFFSETTO:-0600
TZNAME:CST
DTSTART:20261101T070000
END:STANDARD
END:VTIMEZONE
BEGIN:VEVENT
DTSTART;TZID=America/Chicago:20250925T173000
DTEND;TZID=America/Chicago:20250925T213000
DTSTAMP:20260419T142926
CREATED:20241119T180230Z
LAST-MODIFIED:20260123T205523Z
UID:10007650-1758821400-1758835800@www.tcotc.com
SUMMARY:Obedience Classes
DESCRIPTION:5:30 pm – 9:30 pm – Ring Room and Star Room
URL:https://www.tcotc.com/event/obedience-classes-4/2025-09-25/
LOCATION:Ring Room and Star Room
CATEGORIES:Obedience
END:VEVENT
BEGIN:VEVENT
DTSTART;TZID=America/Chicago:20250925T173000
DTEND;TZID=America/Chicago:20250925T200000
DTSTAMP:20260419T142926
CREATED:20241119T174858Z
LAST-MODIFIED:20260123T205416Z
UID:10007606-1758821400-1758830400@www.tcotc.com
SUMMARY:Puppy/Tweener Classes
DESCRIPTION:Meeting Room
URL:https://www.tcotc.com/event/puppy-tweener-classes-3/2025-09-25/
LOCATION:Meeting Room
CATEGORIES:Puppy/Tweener
END:VEVENT
BEGIN:VEVENT
DTSTART;TZID=America/Chicago:20250925T150000
DTEND;TZID=America/Chicago:20250925T173000
DTSTAMP:20260419T142926
CREATED:20240213T211645Z
LAST-MODIFIED:20260123T203755Z
UID:10006300-1758812400-1758821400@www.tcotc.com
SUMMARY:Agility for Fun classes
DESCRIPTION:3:00 to 4:00 p.m. and 4:15 p.m. to 5:15 p.m.
URL:https://www.tcotc.com/event/agility-for-fun-classes/2025-09-25/
LOCATION:Annex
CATEGORIES:Agility
END:VEVENT
BEGIN:VEVENT
DTSTART;TZID=America/Chicago:20250925T123000
DTEND;TZID=America/Chicago:20250925T143000
DTSTAMP:20260419T142926
CREATED:20240227T223016Z
LAST-MODIFIED:20260123T204054Z
UID:10008724-1758803400-1758810600@www.tcotc.com
SUMMARY:Open Ring Time
DESCRIPTION:Agility and Obedience Open Ring Time\nMost Thursdays\, 12:30 p.m. – 2:30 p.m. \nLooking for some extra training time? Want to practice before an upcoming trial? Sign up for Obedience and Agility Open Ring Time. Members and non-members welcome. Please follow posted rules. For agility practice\, dogs must have at least 18 weeks of agility training at the beginner level or higher and be able to safely handle contacts at full height. \nMembers $8/Non-members $12 for 10 minutes of ring time. Three dogs may sign up for each half-hour time slot. You may be sharing a ring with others who have signed up for the same time slot. \nRegister in advance here.
URL:https://www.tcotc.com/event/open-ring-time-6-2-2/2025-09-25/
LOCATION:Annex & Ring Room
CATEGORIES:Open Ring
END:VEVENT
BEGIN:VEVENT
DTSTART;TZID=America/Chicago:20250924T201500
DTEND;TZID=America/Chicago:20250924T211500
DTSTAMP:20260419T142926
CREATED:20241119T183836Z
LAST-MODIFIED:20251218T190510Z
UID:10007741-1758744900-1758748500@www.tcotc.com
SUMMARY:Competition Bedrock
DESCRIPTION:8:15 pm – 9:15 pm Ring Room
URL:https://www.tcotc.com/event/competition-bedrock-2/2025-09-24/
END:VEVENT
BEGIN:VEVENT
DTSTART;TZID=America/Chicago:20250924T173000
DTEND;TZID=America/Chicago:20250924T213000
DTSTAMP:20260419T142926
CREATED:20241119T194515Z
LAST-MODIFIED:20251218T214801Z
UID:10008435-1758735000-1758749400@www.tcotc.com
SUMMARY:Agility Classes
DESCRIPTION:
URL:https://www.tcotc.com/event/agility-classes-6/2025-09-24/
LOCATION:Annex
CATEGORIES:Agility
END:VEVENT
BEGIN:VEVENT
DTSTART;TZID=America/Chicago:20250924T173000
DTEND;TZID=America/Chicago:20250924T213000
DTSTAMP:20260419T142926
CREATED:20241119T164634Z
LAST-MODIFIED:20260205T192024Z
UID:10007561-1758735000-1758749400@www.tcotc.com
SUMMARY:Obedience Classes
DESCRIPTION:Ring Room and Star Room
URL:https://www.tcotc.com/event/obedience-classes-3/2025-09-24/
LOCATION:Ring Room and Star Room
CATEGORIES:Obedience
END:VEVENT
BEGIN:VEVENT
DTSTART;TZID=America/Chicago:20250924T113000
DTEND;TZID=America/Chicago:20250924T150000
DTSTAMP:20260419T142926
CREATED:20241119T194155Z
LAST-MODIFIED:20251218T214644Z
UID:10008190-1758713400-1758726000@www.tcotc.com
SUMMARY:Agility Classes
DESCRIPTION:
URL:https://www.tcotc.com/event/agility-classes-5/2025-09-24/
LOCATION:Annex
CATEGORIES:Agility
END:VEVENT
BEGIN:VEVENT
DTSTART;TZID=America/Chicago:20250923T180000
DTEND;TZID=America/Chicago:20250923T190000
DTSTAMP:20260419T142926
CREATED:20250304T152658Z
LAST-MODIFIED:20260120T211953Z
UID:10009214-1758650400-1758654000@www.tcotc.com
SUMMARY:Conformation
DESCRIPTION:Wendy Olson – Ring 1 \nNo class on December 16\, 2025
URL:https://www.tcotc.com/event/conformation-2/2025-09-23/
LOCATION:Ring 1
CATEGORIES:Conformation
END:VEVENT
BEGIN:VEVENT
DTSTART;TZID=America/Chicago:20250923T133000
DTEND;TZID=America/Chicago:20250923T213000
DTSTAMP:20260419T142926
CREATED:20241119T193615Z
LAST-MODIFIED:20251218T211433Z
UID:10008144-1758634200-1758663000@www.tcotc.com
SUMMARY:Agility Classes
DESCRIPTION:
URL:https://www.tcotc.com/event/agility-classes-4/2025-09-23/
LOCATION:Annex
CATEGORIES:Agility
END:VEVENT
BEGIN:VEVENT
DTSTART;TZID=America/Chicago:20250923T121500
DTEND;TZID=America/Chicago:20250923T131500
DTSTAMP:20260419T142926
CREATED:20250527T185947Z
LAST-MODIFIED:20260106T142050Z
UID:10009562-1758629700-1758633300@www.tcotc.com
SUMMARY:Conformation
DESCRIPTION:12:15 p.m. – 1:15 p.m. – Ring 1\nInstructor: Wendy Olson \n$10 members/$12 non-members \nNo classes on December 16\, 2025 \nREGISTER HERE
URL:https://www.tcotc.com/event/conformation-4-2-2/2025-09-23/
LOCATION:Ring 1
CATEGORIES:Conformation
END:VEVENT
BEGIN:VEVENT
DTSTART;TZID=America/Chicago:20250923T120000
DTEND;TZID=America/Chicago:20250923T130000
DTSTAMP:20260419T142926
CREATED:20241119T183140Z
LAST-MODIFIED:20260106T141954Z
UID:10007699-1758628800-1758632400@www.tcotc.com
SUMMARY:Competition Bedrock
DESCRIPTION:
URL:https://www.tcotc.com/event/competition-bedrock/2025-09-23/
LOCATION:Ring Room
CATEGORIES:Obedience
END:VEVENT
BEGIN:VEVENT
DTSTART;TZID=America/Chicago:20250923T090000
DTEND;TZID=America/Chicago:20250923T123000
DTSTAMP:20260419T142926
CREATED:20241119T193218Z
LAST-MODIFIED:20260106T141843Z
UID:10007896-1758618000-1758630600@www.tcotc.com
SUMMARY:Agility Classes
DESCRIPTION:
URL:https://www.tcotc.com/event/agility-classes-3/2025-09-23/
LOCATION:Annex
CATEGORIES:Agility
END:VEVENT
BEGIN:VEVENT
DTSTART;TZID=America/Chicago:20250923T090000
DTEND;TZID=America/Chicago:20250923T120000
DTSTAMP:20260419T142926
CREATED:20241119T163521Z
LAST-MODIFIED:20260106T141756Z
UID:10007470-1758618000-1758628800@www.tcotc.com
SUMMARY:Obedience Classes
DESCRIPTION:Meeting Room and Star Room
URL:https://www.tcotc.com/event/obedience-classes-2/2025-09-23/
LOCATION:Ring Room and Star Room
CATEGORIES:Obedience
END:VEVENT
BEGIN:VEVENT
DTSTART;TZID=America/Chicago:20250922T173000
DTEND;TZID=America/Chicago:20250922T213000
DTSTAMP:20260419T142926
CREATED:20241119T192531Z
LAST-MODIFIED:20251218T211137Z
UID:10007847-1758562200-1758576600@www.tcotc.com
SUMMARY:Agility Classes
DESCRIPTION:5:30 p.m. – 9:30 p.m. – Annex
URL:https://www.tcotc.com/event/agility-classes-2/2025-09-22/
LOCATION:Annex
CATEGORIES:Agility
END:VEVENT
BEGIN:VEVENT
DTSTART;TZID=America/Chicago:20250922T173000
DTEND;TZID=America/Chicago:20250922T213000
DTSTAMP:20260419T142926
CREATED:20241119T162919Z
LAST-MODIFIED:20251218T183215Z
UID:10007424-1758562200-1758576600@www.tcotc.com
SUMMARY:Obedience Classes
DESCRIPTION:
URL:https://www.tcotc.com/event/obedience-classes/2025-09-22/
LOCATION:Ring Room and Star Room
CATEGORIES:Obedience
END:VEVENT
BEGIN:VEVENT
DTSTART;TZID=America/Chicago:20250919T080000
DTEND;TZID=America/Chicago:20250921T170000
DTSTAMP:20260419T142926
CREATED:20230815T012233Z
LAST-MODIFIED:20240912T034947Z
UID:10007077-1758268800-1758474000@www.tcotc.com
SUMMARY:TCOTC Flyball Tournament
DESCRIPTION:TCOTC Flyball Tournament – Entire Facility – \nContact: Karen Radford
URL:https://www.tcotc.com/event/tcotc-flyball-tournament/2025-09-19/
LOCATION:Entire Facility
CATEGORIES:Special Events
END:VEVENT
BEGIN:VEVENT
DTSTART;TZID=America/Chicago:20250918T174500
DTEND;TZID=America/Chicago:20250918T184500
DTSTAMP:20260419T142926
CREATED:20241119T184400Z
LAST-MODIFIED:20260123T205319Z
UID:10007782-1758217500-1758221100@www.tcotc.com
SUMMARY:Competition Bedrock
DESCRIPTION:
URL:https://www.tcotc.com/event/competition-bedrock-3/2025-09-18/
LOCATION:Ring Room
CATEGORIES:Obedience
END:VEVENT
BEGIN:VEVENT
DTSTART;TZID=America/Chicago:20250918T173000
DTEND;TZID=America/Chicago:20250918T213000
DTSTAMP:20260419T142926
CREATED:20241119T194942Z
LAST-MODIFIED:20260123T203945Z
UID:10008479-1758216600-1758231000@www.tcotc.com
SUMMARY:Agility Classes
DESCRIPTION:
URL:https://www.tcotc.com/event/agility-classes-7/2025-09-18/
LOCATION:Annex
CATEGORIES:Agility
END:VEVENT
BEGIN:VEVENT
DTSTART;TZID=America/Chicago:20250918T173000
DTEND;TZID=America/Chicago:20250918T213000
DTSTAMP:20260419T142926
CREATED:20241119T180230Z
LAST-MODIFIED:20260123T205523Z
UID:10007649-1758216600-1758231000@www.tcotc.com
SUMMARY:Obedience Classes
DESCRIPTION:5:30 pm – 9:30 pm – Ring Room and Star Room
URL:https://www.tcotc.com/event/obedience-classes-4/2025-09-18/
LOCATION:Ring Room and Star Room
CATEGORIES:Obedience
END:VEVENT
BEGIN:VEVENT
DTSTART;TZID=America/Chicago:20250918T173000
DTEND;TZID=America/Chicago:20250918T200000
DTSTAMP:20260419T142926
CREATED:20241119T174858Z
LAST-MODIFIED:20260123T205416Z
UID:10007605-1758216600-1758225600@www.tcotc.com
SUMMARY:Puppy/Tweener Classes
DESCRIPTION:Meeting Room
URL:https://www.tcotc.com/event/puppy-tweener-classes-3/2025-09-18/
LOCATION:Meeting Room
CATEGORIES:Puppy/Tweener
END:VEVENT
BEGIN:VEVENT
DTSTART;TZID=America/Chicago:20250918T150000
DTEND;TZID=America/Chicago:20250918T173000
DTSTAMP:20260419T142926
CREATED:20240213T211645Z
LAST-MODIFIED:20260123T203755Z
UID:10006299-1758207600-1758216600@www.tcotc.com
SUMMARY:Agility for Fun classes
DESCRIPTION:3:00 to 4:00 p.m. and 4:15 p.m. to 5:15 p.m.
URL:https://www.tcotc.com/event/agility-for-fun-classes/2025-09-18/
LOCATION:Annex
CATEGORIES:Agility
END:VEVENT
BEGIN:VEVENT
DTSTART;TZID=America/Chicago:20250918T123000
DTEND;TZID=America/Chicago:20250918T143000
DTSTAMP:20260419T142926
CREATED:20240227T223016Z
LAST-MODIFIED:20260123T204054Z
UID:10008723-1758198600-1758205800@www.tcotc.com
SUMMARY:Open Ring Time
DESCRIPTION:Agility and Obedience Open Ring Time\nMost Thursdays\, 12:30 p.m. – 2:30 p.m. \nLooking for some extra training time? Want to practice before an upcoming trial? Sign up for Obedience and Agility Open Ring Time. Members and non-members welcome. Please follow posted rules. For agility practice\, dogs must have at least 18 weeks of agility training at the beginner level or higher and be able to safely handle contacts at full height. \nMembers $8/Non-members $12 for 10 minutes of ring time. Three dogs may sign up for each half-hour time slot. You may be sharing a ring with others who have signed up for the same time slot. \nRegister in advance here.
URL:https://www.tcotc.com/event/open-ring-time-6-2-2/2025-09-18/
LOCATION:Annex & Ring Room
CATEGORIES:Open Ring
END:VEVENT
BEGIN:VEVENT
DTSTART;TZID=America/Chicago:20250917T173000
DTEND;TZID=America/Chicago:20250917T213000
DTSTAMP:20260419T142926
CREATED:20241119T194515Z
LAST-MODIFIED:20251218T214801Z
UID:10008434-1758130200-1758144600@www.tcotc.com
SUMMARY:Agility Classes
DESCRIPTION:
URL:https://www.tcotc.com/event/agility-classes-6/2025-09-17/
LOCATION:Annex
CATEGORIES:Agility
END:VEVENT
BEGIN:VEVENT
DTSTART;TZID=America/Chicago:20250917T173000
DTEND;TZID=America/Chicago:20250917T213000
DTSTAMP:20260419T142926
CREATED:20241119T164634Z
LAST-MODIFIED:20260205T192024Z
UID:10007560-1758130200-1758144600@www.tcotc.com
SUMMARY:Obedience Classes
DESCRIPTION:Ring Room and Star Room
URL:https://www.tcotc.com/event/obedience-classes-3/2025-09-17/
LOCATION:Ring Room and Star Room
CATEGORIES:Obedience
END:VEVENT
BEGIN:VEVENT
DTSTART;TZID=America/Chicago:20250917T113000
DTEND;TZID=America/Chicago:20250917T150000
DTSTAMP:20260419T142926
CREATED:20241119T194155Z
LAST-MODIFIED:20251218T214644Z
UID:10008189-1758108600-1758121200@www.tcotc.com
SUMMARY:Agility Classes
DESCRIPTION:
URL:https://www.tcotc.com/event/agility-classes-5/2025-09-17/
LOCATION:Annex
CATEGORIES:Agility
END:VEVENT
BEGIN:VEVENT
DTSTART;TZID=America/Chicago:20250916T190000
DTEND;TZID=America/Chicago:20250916T200000
DTSTAMP:20260419T142926
CREATED:20250813T180555Z
LAST-MODIFIED:20250813T180555Z
UID:10009661-1758049200-1758052800@www.tcotc.com
SUMMARY:Join us on Facebook Live!
DESCRIPTION:Unleash Your Dog’s Potential!\nAre you ready to get candid about the secrets to a well-behaved and obedient furry friend? Whether you’re a seasoned dog owner or a newbie in the world of pet parenting\, these new quarterly live sessions are an opportunity to get experienced trainer insights on a wide variety of canine topics. \nIn this interactive session\, our panel of expert dog trainers\, including Meg Beisner and Scott McKenzie\, will guide you through a handful of revolving\, and evolving\, essential dog-related subject matters\, covering everything from basic obedience commands to addressing common behavioral issues and pet insurance to dog park etiquette and all the things in between! Get ready to learn about topics such as: \n\nThe fundamentals of positive reinforcement training\nProven methods for teaching essential skills\nStrategies for effective leash training and walking etiquette\nTips for overcoming challenges such as barking\, jumping\, and chewing\nInsights into understanding your dog’s body language and communication cues\n\nOur panel will come ready with a few topics to cover\, but we really want to hear from you too! Send your burning questions to tcotcmeg@gmail.com and we’d love to discuss it live! Whether you’re struggling with potty training or curious about advanced tricks\, our trainers are here to provide advice and support. \nDon’t miss out on this opportunity to enhance your understanding of your canine companion and learn ways to foster a harmonious relationship based on trust\, respect & fun. \nSign up on our Facebook page here! \nMark your calendars and set a reminder – it’s going to be a paw-some event! Spread the word and invite your fellow dog lovers to join us for an educational and fun-filled Facebook Live session. See you and your furry friend there! 🐾 \nDisclaimer: Live sessions are exactly that…live and uncensored. There may be adult language. Please plan your viewing audience accordingly.
URL:https://www.tcotc.com/event/join-us-on-facebook-live-3/
LOCATION:Virtual
CATEGORIES:Special Events
ATTACH;FMTTYPE=image/png:https://www.tcotc.com/wp-content/uploads/2025/03/FBLive.png
END:VEVENT
BEGIN:VEVENT
DTSTART;TZID=America/Chicago:20250916T180000
DTEND;TZID=America/Chicago:20250916T190000
DTSTAMP:20260419T142926
CREATED:20250304T152658Z
LAST-MODIFIED:20260120T211953Z
UID:10009213-1758045600-1758049200@www.tcotc.com
SUMMARY:Conformation
DESCRIPTION:Wendy Olson – Ring 1 \nNo class on December 16\, 2025
URL:https://www.tcotc.com/event/conformation-2/2025-09-16/
LOCATION:Ring 1
CATEGORIES:Conformation
END:VEVENT
BEGIN:VEVENT
DTSTART;TZID=America/Chicago:20250916T133000
DTEND;TZID=America/Chicago:20250916T213000
DTSTAMP:20260419T142926
CREATED:20241119T193615Z
LAST-MODIFIED:20251218T211433Z
UID:10008143-1758029400-1758058200@www.tcotc.com
SUMMARY:Agility Classes
DESCRIPTION:
URL:https://www.tcotc.com/event/agility-classes-4/2025-09-16/
LOCATION:Annex
CATEGORIES:Agility
END:VEVENT
BEGIN:VEVENT
DTSTART;TZID=America/Chicago:20250916T121500
DTEND;TZID=America/Chicago:20250916T131500
DTSTAMP:20260419T142926
CREATED:20250527T185947Z
LAST-MODIFIED:20260106T142050Z
UID:10009561-1758024900-1758028500@www.tcotc.com
SUMMARY:Conformation
DESCRIPTION:12:15 p.m. – 1:15 p.m. – Ring 1\nInstructor: Wendy Olson \n$10 members/$12 non-members \nNo classes on December 16\, 2025 \nREGISTER HERE
URL:https://www.tcotc.com/event/conformation-4-2-2/2025-09-16/
LOCATION:Ring 1
CATEGORIES:Conformation
END:VEVENT
END:VCALENDAR