BEGIN:VCALENDAR
VERSION:2.0
PRODID:-//Twin Cities Obedience Training Club - ECPv6.15.13//NONSGML v1.0//EN
CALSCALE:GREGORIAN
METHOD:PUBLISH
X-ORIGINAL-URL:https://www.tcotc.com
X-WR-CALDESC:Events for Twin Cities Obedience Training Club
REFRESH-INTERVAL;VALUE=DURATION:PT1H
X-Robots-Tag:noindex
X-PUBLISHED-TTL:PT1H
BEGIN:VTIMEZONE
TZID:America/Chicago
BEGIN:DAYLIGHT
TZOFFSETFROM:-0600
TZOFFSETTO:-0500
TZNAME:CDT
DTSTART:20240310T080000
END:DAYLIGHT
BEGIN:STANDARD
TZOFFSETFROM:-0500
TZOFFSETTO:-0600
TZNAME:CST
DTSTART:20241103T070000
END:STANDARD
BEGIN:DAYLIGHT
TZOFFSETFROM:-0600
TZOFFSETTO:-0500
TZNAME:CDT
DTSTART:20250309T080000
END:DAYLIGHT
BEGIN:STANDARD
TZOFFSETFROM:-0500
TZOFFSETTO:-0600
TZNAME:CST
DTSTART:20251102T070000
END:STANDARD
BEGIN:DAYLIGHT
TZOFFSETFROM:-0600
TZOFFSETTO:-0500
TZNAME:CDT
DTSTART:20260308T080000
END:DAYLIGHT
BEGIN:STANDARD
TZOFFSETFROM:-0500
TZOFFSETTO:-0600
TZNAME:CST
DTSTART:20261101T070000
END:STANDARD
END:VTIMEZONE
BEGIN:VEVENT
DTSTART;TZID=America/Chicago:20251227T110000
DTEND;TZID=America/Chicago:20251227T130000
DTSTAMP:20260421T125822
CREATED:20251212T163345Z
LAST-MODIFIED:20251216T185546Z
UID:10010129-1766833200-1766840400@www.tcotc.com
SUMMARY:Agility Instructed Open Ring
DESCRIPTION:Need some practice time in the ring with the benefit of some coaching? Attend our Agility Instructed Open Ring Time! You can choose to work on anything except weaves. All levels welcome! $40 members/$50 non-members\, limited to 5 dog/handler teams per instructor. NO REFUNDS unless we can fill your spot from a wait list. [Photo credit: HarlowTakesPhotos] \nREGISTER HERE
URL:https://www.tcotc.com/event/agility-instructed-open-ring-4/2025-12-27/
LOCATION:Annex
CATEGORIES:Agility,Open Ring
ATTACH;FMTTYPE=image/jpeg:https://www.tcotc.com/wp-content/uploads/2025/08/HarlowMcPherson-36-scaled.jpg
END:VEVENT
BEGIN:VEVENT
DTSTART;TZID=America/Chicago:20251227T183000
DTEND;TZID=America/Chicago:20251227T203000
DTSTAMP:20260421T125822
CREATED:20230810T163003Z
LAST-MODIFIED:20260331T215208Z
UID:10009593-1766860200-1766867400@www.tcotc.com
SUMMARY:Agility Open Ring Time
DESCRIPTION:Weekend Agility Open Ring Sessions hosted by Jan Poole and Jo Schwietz. $8 Members/$12 Non-members for 10 minutes of training time. Please follow posted rules. Dogs must have at least 18 weeks of agility training at the beginner level or higher and be able to safely handle contacts at full height. \nNOTE: Registration must be completed by 3:30 p.m. the day of the event.  \nRegister in advance here.
URL:https://www.tcotc.com/event/agility-open-ring-time-5/2025-12-27/
LOCATION:Annex
CATEGORIES:Agility,Open Ring
END:VEVENT
END:VCALENDAR