BEGIN:VCALENDAR
VERSION:2.0
PRODID:-//Twin Cities Obedience Training Club - ECPv6.15.13//NONSGML v1.0//EN
CALSCALE:GREGORIAN
METHOD:PUBLISH
X-ORIGINAL-URL:https://www.tcotc.com
X-WR-CALDESC:Events for Twin Cities Obedience Training Club
REFRESH-INTERVAL;VALUE=DURATION:PT1H
X-Robots-Tag:noindex
X-PUBLISHED-TTL:PT1H
BEGIN:VTIMEZONE
TZID:America/Chicago
BEGIN:DAYLIGHT
TZOFFSETFROM:-0600
TZOFFSETTO:-0500
TZNAME:CDT
DTSTART:20240310T080000
END:DAYLIGHT
BEGIN:STANDARD
TZOFFSETFROM:-0500
TZOFFSETTO:-0600
TZNAME:CST
DTSTART:20241103T070000
END:STANDARD
BEGIN:DAYLIGHT
TZOFFSETFROM:-0600
TZOFFSETTO:-0500
TZNAME:CDT
DTSTART:20250309T080000
END:DAYLIGHT
BEGIN:STANDARD
TZOFFSETFROM:-0500
TZOFFSETTO:-0600
TZNAME:CST
DTSTART:20251102T070000
END:STANDARD
BEGIN:DAYLIGHT
TZOFFSETFROM:-0600
TZOFFSETTO:-0500
TZNAME:CDT
DTSTART:20260308T080000
END:DAYLIGHT
BEGIN:STANDARD
TZOFFSETFROM:-0500
TZOFFSETTO:-0600
TZNAME:CST
DTSTART:20261101T070000
END:STANDARD
END:VTIMEZONE
BEGIN:VEVENT
DTSTART;TZID=America/Chicago:20250219T173000
DTEND;TZID=America/Chicago:20250219T213000
DTSTAMP:20260423T073155
CREATED:20241119T164634Z
LAST-MODIFIED:20260205T192024Z
UID:10007534-1739986200-1740000600@www.tcotc.com
SUMMARY:Obedience Classes
DESCRIPTION:Ring Room and Star Room
URL:https://www.tcotc.com/event/obedience-classes-3/2025-02-19/
LOCATION:Ring Room and Star Room
CATEGORIES:Obedience
END:VEVENT
BEGIN:VEVENT
DTSTART;TZID=America/Chicago:20250218T120000
DTEND;TZID=America/Chicago:20250218T130000
DTSTAMP:20260423T073155
CREATED:20241119T183140Z
LAST-MODIFIED:20260106T141954Z
UID:10007673-1739880000-1739883600@www.tcotc.com
SUMMARY:Competition Bedrock
DESCRIPTION:
URL:https://www.tcotc.com/event/competition-bedrock/2025-02-18/
LOCATION:Ring Room
CATEGORIES:Obedience
END:VEVENT
BEGIN:VEVENT
DTSTART;TZID=America/Chicago:20250218T090000
DTEND;TZID=America/Chicago:20250218T120000
DTSTAMP:20260423T073155
CREATED:20241119T163521Z
LAST-MODIFIED:20260106T141756Z
UID:10007442-1739869200-1739880000@www.tcotc.com
SUMMARY:Obedience Classes
DESCRIPTION:Meeting Room and Star Room
URL:https://www.tcotc.com/event/obedience-classes-2/2025-02-18/
LOCATION:Ring Room and Star Room
CATEGORIES:Obedience
END:VEVENT
BEGIN:VEVENT
DTSTART;TZID=America/Chicago:20250217T173000
DTEND;TZID=America/Chicago:20250217T213000
DTSTAMP:20260423T073155
CREATED:20241119T162919Z
LAST-MODIFIED:20251218T183215Z
UID:10007397-1739813400-1739827800@www.tcotc.com
SUMMARY:Obedience Classes
DESCRIPTION:
URL:https://www.tcotc.com/event/obedience-classes/2025-02-17/
LOCATION:Ring Room and Star Room
CATEGORIES:Obedience
END:VEVENT
BEGIN:VEVENT
DTSTART;TZID=America/Chicago:20250213T174500
DTEND;TZID=America/Chicago:20250213T184500
DTSTAMP:20260423T073155
CREATED:20241119T184400Z
LAST-MODIFIED:20260123T205319Z
UID:10007757-1739468700-1739472300@www.tcotc.com
SUMMARY:Competition Bedrock
DESCRIPTION:
URL:https://www.tcotc.com/event/competition-bedrock-3/2025-02-13/
LOCATION:Ring Room
CATEGORIES:Obedience
END:VEVENT
BEGIN:VEVENT
DTSTART;TZID=America/Chicago:20250213T173000
DTEND;TZID=America/Chicago:20250213T213000
DTSTAMP:20260423T073155
CREATED:20241119T180230Z
LAST-MODIFIED:20260123T205523Z
UID:10007622-1739467800-1739482200@www.tcotc.com
SUMMARY:Obedience Classes
DESCRIPTION:5:30 pm – 9:30 pm – Ring Room and Star Room
URL:https://www.tcotc.com/event/obedience-classes-4/2025-02-13/
LOCATION:Ring Room and Star Room
CATEGORIES:Obedience
END:VEVENT
BEGIN:VEVENT
DTSTART;TZID=America/Chicago:20250212T173000
DTEND;TZID=America/Chicago:20250212T213000
DTSTAMP:20260423T073155
CREATED:20241119T164634Z
LAST-MODIFIED:20260205T192024Z
UID:10007533-1739381400-1739395800@www.tcotc.com
SUMMARY:Obedience Classes
DESCRIPTION:Ring Room and Star Room
URL:https://www.tcotc.com/event/obedience-classes-3/2025-02-12/
LOCATION:Ring Room and Star Room
CATEGORIES:Obedience
END:VEVENT
BEGIN:VEVENT
DTSTART;TZID=America/Chicago:20250211T120000
DTEND;TZID=America/Chicago:20250211T130000
DTSTAMP:20260423T073155
CREATED:20241119T183140Z
LAST-MODIFIED:20260106T141954Z
UID:10007672-1739275200-1739278800@www.tcotc.com
SUMMARY:Competition Bedrock
DESCRIPTION:
URL:https://www.tcotc.com/event/competition-bedrock/2025-02-11/
LOCATION:Ring Room
CATEGORIES:Obedience
END:VEVENT
BEGIN:VEVENT
DTSTART;TZID=America/Chicago:20250211T090000
DTEND;TZID=America/Chicago:20250211T120000
DTSTAMP:20260423T073155
CREATED:20241119T163521Z
LAST-MODIFIED:20260106T141756Z
UID:10007441-1739264400-1739275200@www.tcotc.com
SUMMARY:Obedience Classes
DESCRIPTION:Meeting Room and Star Room
URL:https://www.tcotc.com/event/obedience-classes-2/2025-02-11/
LOCATION:Ring Room and Star Room
CATEGORIES:Obedience
END:VEVENT
BEGIN:VEVENT
DTSTART;TZID=America/Chicago:20250210T173000
DTEND;TZID=America/Chicago:20250210T213000
DTSTAMP:20260423T073155
CREATED:20241119T162919Z
LAST-MODIFIED:20251218T183215Z
UID:10007396-1739208600-1739223000@www.tcotc.com
SUMMARY:Obedience Classes
DESCRIPTION:
URL:https://www.tcotc.com/event/obedience-classes/2025-02-10/
LOCATION:Ring Room and Star Room
CATEGORIES:Obedience
END:VEVENT
BEGIN:VEVENT
DTSTART;TZID=America/Chicago:20250206T174500
DTEND;TZID=America/Chicago:20250206T184500
DTSTAMP:20260423T073155
CREATED:20241119T184400Z
LAST-MODIFIED:20260123T205319Z
UID:10007756-1738863900-1738867500@www.tcotc.com
SUMMARY:Competition Bedrock
DESCRIPTION:
URL:https://www.tcotc.com/event/competition-bedrock-3/2025-02-06/
LOCATION:Ring Room
CATEGORIES:Obedience
END:VEVENT
BEGIN:VEVENT
DTSTART;TZID=America/Chicago:20250206T173000
DTEND;TZID=America/Chicago:20250206T213000
DTSTAMP:20260423T073155
CREATED:20241119T180230Z
LAST-MODIFIED:20260123T205523Z
UID:10007621-1738863000-1738877400@www.tcotc.com
SUMMARY:Obedience Classes
DESCRIPTION:5:30 pm – 9:30 pm – Ring Room and Star Room
URL:https://www.tcotc.com/event/obedience-classes-4/2025-02-06/
LOCATION:Ring Room and Star Room
CATEGORIES:Obedience
END:VEVENT
BEGIN:VEVENT
DTSTART;TZID=America/Chicago:20250205T173000
DTEND;TZID=America/Chicago:20250205T213000
DTSTAMP:20260423T073155
CREATED:20241119T164634Z
LAST-MODIFIED:20260205T192024Z
UID:10007532-1738776600-1738791000@www.tcotc.com
SUMMARY:Obedience Classes
DESCRIPTION:Ring Room and Star Room
URL:https://www.tcotc.com/event/obedience-classes-3/2025-02-05/
LOCATION:Ring Room and Star Room
CATEGORIES:Obedience
END:VEVENT
BEGIN:VEVENT
DTSTART;TZID=America/Chicago:20250204T090000
DTEND;TZID=America/Chicago:20250204T120000
DTSTAMP:20260423T073155
CREATED:20241119T163521Z
LAST-MODIFIED:20260106T141756Z
UID:10007440-1738659600-1738670400@www.tcotc.com
SUMMARY:Obedience Classes
DESCRIPTION:Meeting Room and Star Room
URL:https://www.tcotc.com/event/obedience-classes-2/2025-02-04/
LOCATION:Ring Room and Star Room
CATEGORIES:Obedience
END:VEVENT
BEGIN:VEVENT
DTSTART;TZID=America/Chicago:20250203T173000
DTEND;TZID=America/Chicago:20250203T213000
DTSTAMP:20260423T073155
CREATED:20241119T162919Z
LAST-MODIFIED:20251218T183215Z
UID:10007395-1738603800-1738618200@www.tcotc.com
SUMMARY:Obedience Classes
DESCRIPTION:
URL:https://www.tcotc.com/event/obedience-classes/2025-02-03/2/
LOCATION:Ring Room and Star Room
CATEGORIES:Obedience
END:VEVENT
BEGIN:VEVENT
DTSTART;TZID=America/Chicago:20250203T080000
DTEND;TZID=America/Chicago:20250203T170000
DTSTAMP:20260423T073155
CREATED:20241119T162919Z
LAST-MODIFIED:20251218T183215Z
UID:10007394-1738569600-1738602000@www.tcotc.com
SUMMARY:Obedience Classes
DESCRIPTION:
URL:https://www.tcotc.com/event/obedience-classes/2025-02-03/1/
LOCATION:Ring Room and Star Room
CATEGORIES:Obedience
END:VEVENT
BEGIN:VEVENT
DTSTART;TZID=America/Chicago:20250130T174500
DTEND;TZID=America/Chicago:20250130T184500
DTSTAMP:20260423T073155
CREATED:20241119T184400Z
LAST-MODIFIED:20260123T205319Z
UID:10012182-1738259100-1738262700@www.tcotc.com
SUMMARY:Competition Bedrock
DESCRIPTION:
URL:https://www.tcotc.com/event/competition-bedrock-3/2025-01-30/
LOCATION:Ring Room
CATEGORIES:Obedience
END:VEVENT
BEGIN:VEVENT
DTSTART;TZID=America/Chicago:20250130T173000
DTEND;TZID=America/Chicago:20250130T213000
DTSTAMP:20260423T073155
CREATED:20241119T180230Z
LAST-MODIFIED:20260123T205523Z
UID:10012345-1738258200-1738272600@www.tcotc.com
SUMMARY:Obedience Classes
DESCRIPTION:5:30 pm – 9:30 pm – Ring Room and Star Room
URL:https://www.tcotc.com/event/obedience-classes-4/2025-01-30/
LOCATION:Ring Room and Star Room
CATEGORIES:Obedience
END:VEVENT
BEGIN:VEVENT
DTSTART;TZID=America/Chicago:20250130T173000
DTEND;TZID=America/Chicago:20250130T213000
DTSTAMP:20260423T073155
CREATED:20230809T203810Z
LAST-MODIFIED:20231229T160132Z
UID:10005980-1738258200-1738272600@www.tcotc.com
SUMMARY:Obedience Classes
DESCRIPTION:5:45 p.m.\, 7:00 p.m. and 8:15 p.m.\nRing Room and Star Room
URL:https://www.tcotc.com/event/obedience-classes-33/2025-01-30/
LOCATION:Ring Room and Star Room
CATEGORIES:Obedience
END:VEVENT
BEGIN:VEVENT
DTSTART;TZID=America/Chicago:20250129T173000
DTEND;TZID=America/Chicago:20250129T213000
DTSTAMP:20260423T073155
CREATED:20241119T164634Z
LAST-MODIFIED:20260205T192024Z
UID:10014803-1738171800-1738186200@www.tcotc.com
SUMMARY:Obedience Classes
DESCRIPTION:Ring Room and Star Room
URL:https://www.tcotc.com/event/obedience-classes-3/2025-01-29/
LOCATION:Ring Room and Star Room
CATEGORIES:Obedience
END:VEVENT
BEGIN:VEVENT
DTSTART;TZID=America/Chicago:20250129T173000
DTEND;TZID=America/Chicago:20250129T213000
DTSTAMP:20260423T073155
CREATED:20230809T203447Z
LAST-MODIFIED:20240813T200719Z
UID:10005797-1738171800-1738186200@www.tcotc.com
SUMMARY:Obedience Classes
DESCRIPTION:5:45 p.m.\, 7:00 p.m.\, and 8:15 p.m.\nRing Room and Star Room
URL:https://www.tcotc.com/event/obedience-classes-31/2025-01-29/
LOCATION:Ring Room and Star Room
CATEGORIES:Obedience
END:VEVENT
BEGIN:VEVENT
DTSTART;TZID=America/Chicago:20250128T120000
DTEND;TZID=America/Chicago:20250128T130000
DTSTAMP:20260423T073155
CREATED:20241119T183140Z
LAST-MODIFIED:20260106T141954Z
UID:10011292-1738065600-1738069200@www.tcotc.com
SUMMARY:Competition Bedrock
DESCRIPTION:
URL:https://www.tcotc.com/event/competition-bedrock/2025-01-28/
LOCATION:Ring Room
CATEGORIES:Obedience
END:VEVENT
BEGIN:VEVENT
DTSTART;TZID=America/Chicago:20250128T090000
DTEND;TZID=America/Chicago:20250128T130000
DTSTAMP:20260423T073155
CREATED:20230809T202952Z
LAST-MODIFIED:20240813T203320Z
UID:10005408-1738054800-1738069200@www.tcotc.com
SUMMARY:Obedience Classes
DESCRIPTION:9:30 a.m.\, 10:45 a.m.\, 12:00 p.m.  Classes are offered in six-week sessions.
URL:https://www.tcotc.com/event/obedience-classes-29/2025-01-28/
LOCATION:Ring Room and Star Room
CATEGORIES:Obedience
END:VEVENT
BEGIN:VEVENT
DTSTART;TZID=America/Chicago:20250128T090000
DTEND;TZID=America/Chicago:20250128T120000
DTSTAMP:20260423T073155
CREATED:20241119T163521Z
LAST-MODIFIED:20260106T141756Z
UID:10011194-1738054800-1738065600@www.tcotc.com
SUMMARY:Obedience Classes
DESCRIPTION:Meeting Room and Star Room
URL:https://www.tcotc.com/event/obedience-classes-2/2025-01-28/
LOCATION:Ring Room and Star Room
CATEGORIES:Obedience
END:VEVENT
BEGIN:VEVENT
DTSTART;TZID=America/Chicago:20250127T190000
DTEND;TZID=America/Chicago:20250127T210000
DTSTAMP:20260423T073155
CREATED:20241119T180658Z
LAST-MODIFIED:20241119T180658Z
UID:10007665-1738004400-1738011600@www.tcotc.com
SUMMARY:Obedience Staff Meeting
DESCRIPTION:Ring Room
URL:https://www.tcotc.com/event/obedience-staff-meeting-3/2025-01-27/
CATEGORIES:Obedience
END:VEVENT
BEGIN:VEVENT
DTSTART;TZID=America/Chicago:20250123T174500
DTEND;TZID=America/Chicago:20250123T184500
DTSTAMP:20260423T073155
CREATED:20241119T184400Z
LAST-MODIFIED:20260123T205319Z
UID:10012181-1737654300-1737657900@www.tcotc.com
SUMMARY:Competition Bedrock
DESCRIPTION:
URL:https://www.tcotc.com/event/competition-bedrock-3/2025-01-23/
LOCATION:Ring Room
CATEGORIES:Obedience
END:VEVENT
BEGIN:VEVENT
DTSTART;TZID=America/Chicago:20250123T173000
DTEND;TZID=America/Chicago:20250123T213000
DTSTAMP:20260423T073155
CREATED:20241119T180230Z
LAST-MODIFIED:20260123T205523Z
UID:10012344-1737653400-1737667800@www.tcotc.com
SUMMARY:Obedience Classes
DESCRIPTION:5:30 pm – 9:30 pm – Ring Room and Star Room
URL:https://www.tcotc.com/event/obedience-classes-4/2025-01-23/
LOCATION:Ring Room and Star Room
CATEGORIES:Obedience
END:VEVENT
BEGIN:VEVENT
DTSTART;TZID=America/Chicago:20250123T173000
DTEND;TZID=America/Chicago:20250123T213000
DTSTAMP:20260423T073155
CREATED:20230809T203810Z
LAST-MODIFIED:20231229T160132Z
UID:10005979-1737653400-1737667800@www.tcotc.com
SUMMARY:Obedience Classes
DESCRIPTION:5:45 p.m.\, 7:00 p.m. and 8:15 p.m.\nRing Room and Star Room
URL:https://www.tcotc.com/event/obedience-classes-33/2025-01-23/
LOCATION:Ring Room and Star Room
CATEGORIES:Obedience
END:VEVENT
BEGIN:VEVENT
DTSTART;TZID=America/Chicago:20250122T173000
DTEND;TZID=America/Chicago:20250122T213000
DTSTAMP:20260423T073155
CREATED:20241119T164634Z
LAST-MODIFIED:20260205T192024Z
UID:10014802-1737567000-1737581400@www.tcotc.com
SUMMARY:Obedience Classes
DESCRIPTION:Ring Room and Star Room
URL:https://www.tcotc.com/event/obedience-classes-3/2025-01-22/
LOCATION:Ring Room and Star Room
CATEGORIES:Obedience
END:VEVENT
BEGIN:VEVENT
DTSTART;TZID=America/Chicago:20250122T173000
DTEND;TZID=America/Chicago:20250122T213000
DTSTAMP:20260423T073155
CREATED:20230809T203447Z
LAST-MODIFIED:20240813T200719Z
UID:10005796-1737567000-1737581400@www.tcotc.com
SUMMARY:Obedience Classes
DESCRIPTION:5:45 p.m.\, 7:00 p.m.\, and 8:15 p.m.\nRing Room and Star Room
URL:https://www.tcotc.com/event/obedience-classes-31/2025-01-22/
LOCATION:Ring Room and Star Room
CATEGORIES:Obedience
END:VEVENT
END:VCALENDAR