BEGIN:VCALENDAR
VERSION:2.0
PRODID:-//Twin Cities Obedience Training Club - ECPv6.15.13//NONSGML v1.0//EN
CALSCALE:GREGORIAN
METHOD:PUBLISH
X-ORIGINAL-URL:https://www.tcotc.com
X-WR-CALDESC:Events for Twin Cities Obedience Training Club
REFRESH-INTERVAL;VALUE=DURATION:PT1H
X-Robots-Tag:noindex
X-PUBLISHED-TTL:PT1H
BEGIN:VTIMEZONE
TZID:America/Chicago
BEGIN:DAYLIGHT
TZOFFSETFROM:-0600
TZOFFSETTO:-0500
TZNAME:CDT
DTSTART:20290311T080000
END:DAYLIGHT
BEGIN:STANDARD
TZOFFSETFROM:-0500
TZOFFSETTO:-0600
TZNAME:CST
DTSTART:20291104T070000
END:STANDARD
BEGIN:DAYLIGHT
TZOFFSETFROM:-0600
TZOFFSETTO:-0500
TZNAME:CDT
DTSTART:20300310T080000
END:DAYLIGHT
BEGIN:STANDARD
TZOFFSETFROM:-0500
TZOFFSETTO:-0600
TZNAME:CST
DTSTART:20301103T070000
END:STANDARD
BEGIN:DAYLIGHT
TZOFFSETFROM:-0600
TZOFFSETTO:-0500
TZNAME:CDT
DTSTART:20310309T080000
END:DAYLIGHT
BEGIN:STANDARD
TZOFFSETFROM:-0500
TZOFFSETTO:-0600
TZNAME:CST
DTSTART:20311102T070000
END:STANDARD
END:VTIMEZONE
BEGIN:VEVENT
DTSTART;TZID=America/Chicago:20300702T191500
DTEND;TZID=America/Chicago:20300702T201500
DTSTAMP:20260421T103758
CREATED:20260112T182400Z
LAST-MODIFIED:20260112T182400Z
UID:10011864-1909250100-1909253700@www.tcotc.com
SUMMARY:Treibball Class
DESCRIPTION:Rings 1 & 2
URL:https://www.tcotc.com/event/treibball-class/2030-07-02/
LOCATION:Rings 1&2
CATEGORIES:Obedience
END:VEVENT
BEGIN:VEVENT
DTSTART;TZID=America/Chicago:20300709T151500
DTEND;TZID=America/Chicago:20300709T173000
DTSTAMP:20260421T103758
CREATED:20260106T180136Z
LAST-MODIFIED:20260106T180213Z
UID:10011604-1909840500-1909848600@www.tcotc.com
SUMMARY:Scent Work
DESCRIPTION:3:15 pm class is in the Star Room \n 
URL:https://www.tcotc.com/event/scent-work/2030-07-09/
LOCATION:Meeting Room
CATEGORIES:Obedience
END:VEVENT
BEGIN:VEVENT
DTSTART;TZID=America/Chicago:20300709T191500
DTEND;TZID=America/Chicago:20300709T201500
DTSTAMP:20260421T103758
CREATED:20260112T182400Z
LAST-MODIFIED:20260112T182400Z
UID:10011865-1909854900-1909858500@www.tcotc.com
SUMMARY:Treibball Class
DESCRIPTION:Rings 1 & 2
URL:https://www.tcotc.com/event/treibball-class/2030-07-09/
LOCATION:Rings 1&2
CATEGORIES:Obedience
END:VEVENT
BEGIN:VEVENT
DTSTART;TZID=America/Chicago:20300716T151500
DTEND;TZID=America/Chicago:20300716T173000
DTSTAMP:20260421T103758
CREATED:20260106T180136Z
LAST-MODIFIED:20260106T180213Z
UID:10011605-1910445300-1910453400@www.tcotc.com
SUMMARY:Scent Work
DESCRIPTION:3:15 pm class is in the Star Room \n 
URL:https://www.tcotc.com/event/scent-work/2030-07-16/
LOCATION:Meeting Room
CATEGORIES:Obedience
END:VEVENT
BEGIN:VEVENT
DTSTART;TZID=America/Chicago:20300716T191500
DTEND;TZID=America/Chicago:20300716T201500
DTSTAMP:20260421T103758
CREATED:20260112T182400Z
LAST-MODIFIED:20260112T182400Z
UID:10011866-1910459700-1910463300@www.tcotc.com
SUMMARY:Treibball Class
DESCRIPTION:Rings 1 & 2
URL:https://www.tcotc.com/event/treibball-class/2030-07-16/
LOCATION:Rings 1&2
CATEGORIES:Obedience
END:VEVENT
BEGIN:VEVENT
DTSTART;TZID=America/Chicago:20300723T151500
DTEND;TZID=America/Chicago:20300723T173000
DTSTAMP:20260421T103758
CREATED:20260106T180136Z
LAST-MODIFIED:20260106T180213Z
UID:10011606-1911050100-1911058200@www.tcotc.com
SUMMARY:Scent Work
DESCRIPTION:3:15 pm class is in the Star Room \n 
URL:https://www.tcotc.com/event/scent-work/2030-07-23/
LOCATION:Meeting Room
CATEGORIES:Obedience
END:VEVENT
BEGIN:VEVENT
DTSTART;TZID=America/Chicago:20300723T191500
DTEND;TZID=America/Chicago:20300723T201500
DTSTAMP:20260421T103758
CREATED:20260112T182400Z
LAST-MODIFIED:20260112T182400Z
UID:10011867-1911064500-1911068100@www.tcotc.com
SUMMARY:Treibball Class
DESCRIPTION:Rings 1 & 2
URL:https://www.tcotc.com/event/treibball-class/2030-07-23/
LOCATION:Rings 1&2
CATEGORIES:Obedience
END:VEVENT
BEGIN:VEVENT
DTSTART;TZID=America/Chicago:20300730T151500
DTEND;TZID=America/Chicago:20300730T173000
DTSTAMP:20260421T103758
CREATED:20260106T180136Z
LAST-MODIFIED:20260106T180213Z
UID:10011607-1911654900-1911663000@www.tcotc.com
SUMMARY:Scent Work
DESCRIPTION:3:15 pm class is in the Star Room \n 
URL:https://www.tcotc.com/event/scent-work/2030-07-30/
LOCATION:Meeting Room
CATEGORIES:Obedience
END:VEVENT
BEGIN:VEVENT
DTSTART;TZID=America/Chicago:20300730T191500
DTEND;TZID=America/Chicago:20300730T201500
DTSTAMP:20260421T103758
CREATED:20260112T182400Z
LAST-MODIFIED:20260112T182400Z
UID:10011868-1911669300-1911672900@www.tcotc.com
SUMMARY:Treibball Class
DESCRIPTION:Rings 1 & 2
URL:https://www.tcotc.com/event/treibball-class/2030-07-30/
LOCATION:Rings 1&2
CATEGORIES:Obedience
END:VEVENT
BEGIN:VEVENT
DTSTART;TZID=America/Chicago:20300806T151500
DTEND;TZID=America/Chicago:20300806T173000
DTSTAMP:20260421T103758
CREATED:20260106T180136Z
LAST-MODIFIED:20260106T180213Z
UID:10011608-1912259700-1912267800@www.tcotc.com
SUMMARY:Scent Work
DESCRIPTION:3:15 pm class is in the Star Room \n 
URL:https://www.tcotc.com/event/scent-work/2030-08-06/
LOCATION:Meeting Room
CATEGORIES:Obedience
END:VEVENT
BEGIN:VEVENT
DTSTART;TZID=America/Chicago:20300806T191500
DTEND;TZID=America/Chicago:20300806T201500
DTSTAMP:20260421T103758
CREATED:20260112T182400Z
LAST-MODIFIED:20260112T182400Z
UID:10011869-1912274100-1912277700@www.tcotc.com
SUMMARY:Treibball Class
DESCRIPTION:Rings 1 & 2
URL:https://www.tcotc.com/event/treibball-class/2030-08-06/
LOCATION:Rings 1&2
CATEGORIES:Obedience
END:VEVENT
BEGIN:VEVENT
DTSTART;TZID=America/Chicago:20300813T151500
DTEND;TZID=America/Chicago:20300813T173000
DTSTAMP:20260421T103758
CREATED:20260106T180136Z
LAST-MODIFIED:20260106T180213Z
UID:10011609-1912864500-1912872600@www.tcotc.com
SUMMARY:Scent Work
DESCRIPTION:3:15 pm class is in the Star Room \n 
URL:https://www.tcotc.com/event/scent-work/2030-08-13/
LOCATION:Meeting Room
CATEGORIES:Obedience
END:VEVENT
BEGIN:VEVENT
DTSTART;TZID=America/Chicago:20300813T191500
DTEND;TZID=America/Chicago:20300813T201500
DTSTAMP:20260421T103758
CREATED:20260112T182400Z
LAST-MODIFIED:20260112T182400Z
UID:10011870-1912878900-1912882500@www.tcotc.com
SUMMARY:Treibball Class
DESCRIPTION:Rings 1 & 2
URL:https://www.tcotc.com/event/treibball-class/2030-08-13/
LOCATION:Rings 1&2
CATEGORIES:Obedience
END:VEVENT
BEGIN:VEVENT
DTSTART;TZID=America/Chicago:20300820T151500
DTEND;TZID=America/Chicago:20300820T173000
DTSTAMP:20260421T103758
CREATED:20260106T180136Z
LAST-MODIFIED:20260106T180213Z
UID:10011610-1913469300-1913477400@www.tcotc.com
SUMMARY:Scent Work
DESCRIPTION:3:15 pm class is in the Star Room \n 
URL:https://www.tcotc.com/event/scent-work/2030-08-20/
LOCATION:Meeting Room
CATEGORIES:Obedience
END:VEVENT
BEGIN:VEVENT
DTSTART;TZID=America/Chicago:20300820T191500
DTEND;TZID=America/Chicago:20300820T201500
DTSTAMP:20260421T103758
CREATED:20260112T182400Z
LAST-MODIFIED:20260112T182400Z
UID:10011871-1913483700-1913487300@www.tcotc.com
SUMMARY:Treibball Class
DESCRIPTION:Rings 1 & 2
URL:https://www.tcotc.com/event/treibball-class/2030-08-20/
LOCATION:Rings 1&2
CATEGORIES:Obedience
END:VEVENT
BEGIN:VEVENT
DTSTART;TZID=America/Chicago:20300827T151500
DTEND;TZID=America/Chicago:20300827T173000
DTSTAMP:20260421T103758
CREATED:20260106T180136Z
LAST-MODIFIED:20260106T180213Z
UID:10011611-1914074100-1914082200@www.tcotc.com
SUMMARY:Scent Work
DESCRIPTION:3:15 pm class is in the Star Room \n 
URL:https://www.tcotc.com/event/scent-work/2030-08-27/
LOCATION:Meeting Room
CATEGORIES:Obedience
END:VEVENT
BEGIN:VEVENT
DTSTART;TZID=America/Chicago:20300827T191500
DTEND;TZID=America/Chicago:20300827T201500
DTSTAMP:20260421T103758
CREATED:20260112T182400Z
LAST-MODIFIED:20260112T182400Z
UID:10011872-1914088500-1914092100@www.tcotc.com
SUMMARY:Treibball Class
DESCRIPTION:Rings 1 & 2
URL:https://www.tcotc.com/event/treibball-class/2030-08-27/
LOCATION:Rings 1&2
CATEGORIES:Obedience
END:VEVENT
BEGIN:VEVENT
DTSTART;TZID=America/Chicago:20300903T151500
DTEND;TZID=America/Chicago:20300903T173000
DTSTAMP:20260421T103758
CREATED:20260106T180136Z
LAST-MODIFIED:20260106T180213Z
UID:10011612-1914678900-1914687000@www.tcotc.com
SUMMARY:Scent Work
DESCRIPTION:3:15 pm class is in the Star Room \n 
URL:https://www.tcotc.com/event/scent-work/2030-09-03/
LOCATION:Meeting Room
CATEGORIES:Obedience
END:VEVENT
BEGIN:VEVENT
DTSTART;TZID=America/Chicago:20300903T191500
DTEND;TZID=America/Chicago:20300903T201500
DTSTAMP:20260421T103758
CREATED:20260112T182400Z
LAST-MODIFIED:20260112T182400Z
UID:10011873-1914693300-1914696900@www.tcotc.com
SUMMARY:Treibball Class
DESCRIPTION:Rings 1 & 2
URL:https://www.tcotc.com/event/treibball-class/2030-09-03/
LOCATION:Rings 1&2
CATEGORIES:Obedience
END:VEVENT
BEGIN:VEVENT
DTSTART;TZID=America/Chicago:20300910T151500
DTEND;TZID=America/Chicago:20300910T173000
DTSTAMP:20260421T103758
CREATED:20260106T180136Z
LAST-MODIFIED:20260106T180213Z
UID:10011613-1915283700-1915291800@www.tcotc.com
SUMMARY:Scent Work
DESCRIPTION:3:15 pm class is in the Star Room \n 
URL:https://www.tcotc.com/event/scent-work/2030-09-10/
LOCATION:Meeting Room
CATEGORIES:Obedience
END:VEVENT
BEGIN:VEVENT
DTSTART;TZID=America/Chicago:20300910T191500
DTEND;TZID=America/Chicago:20300910T201500
DTSTAMP:20260421T103758
CREATED:20260112T182400Z
LAST-MODIFIED:20260112T182400Z
UID:10011874-1915298100-1915301700@www.tcotc.com
SUMMARY:Treibball Class
DESCRIPTION:Rings 1 & 2
URL:https://www.tcotc.com/event/treibball-class/2030-09-10/
LOCATION:Rings 1&2
CATEGORIES:Obedience
END:VEVENT
BEGIN:VEVENT
DTSTART;TZID=America/Chicago:20300917T151500
DTEND;TZID=America/Chicago:20300917T173000
DTSTAMP:20260421T103758
CREATED:20260106T180136Z
LAST-MODIFIED:20260106T180213Z
UID:10011614-1915888500-1915896600@www.tcotc.com
SUMMARY:Scent Work
DESCRIPTION:3:15 pm class is in the Star Room \n 
URL:https://www.tcotc.com/event/scent-work/2030-09-17/
LOCATION:Meeting Room
CATEGORIES:Obedience
END:VEVENT
BEGIN:VEVENT
DTSTART;TZID=America/Chicago:20300917T191500
DTEND;TZID=America/Chicago:20300917T201500
DTSTAMP:20260421T103758
CREATED:20260112T182400Z
LAST-MODIFIED:20260112T182400Z
UID:10011875-1915902900-1915906500@www.tcotc.com
SUMMARY:Treibball Class
DESCRIPTION:Rings 1 & 2
URL:https://www.tcotc.com/event/treibball-class/2030-09-17/
LOCATION:Rings 1&2
CATEGORIES:Obedience
END:VEVENT
BEGIN:VEVENT
DTSTART;TZID=America/Chicago:20300924T151500
DTEND;TZID=America/Chicago:20300924T173000
DTSTAMP:20260421T103758
CREATED:20260106T180136Z
LAST-MODIFIED:20260106T180213Z
UID:10011615-1916493300-1916501400@www.tcotc.com
SUMMARY:Scent Work
DESCRIPTION:3:15 pm class is in the Star Room \n 
URL:https://www.tcotc.com/event/scent-work/2030-09-24/
LOCATION:Meeting Room
CATEGORIES:Obedience
END:VEVENT
BEGIN:VEVENT
DTSTART;TZID=America/Chicago:20300924T191500
DTEND;TZID=America/Chicago:20300924T201500
DTSTAMP:20260421T103758
CREATED:20260112T182400Z
LAST-MODIFIED:20260112T182400Z
UID:10011876-1916507700-1916511300@www.tcotc.com
SUMMARY:Treibball Class
DESCRIPTION:Rings 1 & 2
URL:https://www.tcotc.com/event/treibball-class/2030-09-24/
LOCATION:Rings 1&2
CATEGORIES:Obedience
END:VEVENT
BEGIN:VEVENT
DTSTART;TZID=America/Chicago:20301001T151500
DTEND;TZID=America/Chicago:20301001T173000
DTSTAMP:20260421T103758
CREATED:20260106T180136Z
LAST-MODIFIED:20260106T180213Z
UID:10011616-1917098100-1917106200@www.tcotc.com
SUMMARY:Scent Work
DESCRIPTION:3:15 pm class is in the Star Room \n 
URL:https://www.tcotc.com/event/scent-work/2030-10-01/
LOCATION:Meeting Room
CATEGORIES:Obedience
END:VEVENT
BEGIN:VEVENT
DTSTART;TZID=America/Chicago:20301001T191500
DTEND;TZID=America/Chicago:20301001T201500
DTSTAMP:20260421T103758
CREATED:20260112T182400Z
LAST-MODIFIED:20260112T182400Z
UID:10011877-1917112500-1917116100@www.tcotc.com
SUMMARY:Treibball Class
DESCRIPTION:Rings 1 & 2
URL:https://www.tcotc.com/event/treibball-class/2030-10-01/
LOCATION:Rings 1&2
CATEGORIES:Obedience
END:VEVENT
BEGIN:VEVENT
DTSTART;TZID=America/Chicago:20301008T151500
DTEND;TZID=America/Chicago:20301008T173000
DTSTAMP:20260421T103758
CREATED:20260106T180136Z
LAST-MODIFIED:20260106T180213Z
UID:10011617-1917702900-1917711000@www.tcotc.com
SUMMARY:Scent Work
DESCRIPTION:3:15 pm class is in the Star Room \n 
URL:https://www.tcotc.com/event/scent-work/2030-10-08/
LOCATION:Meeting Room
CATEGORIES:Obedience
END:VEVENT
BEGIN:VEVENT
DTSTART;TZID=America/Chicago:20301008T191500
DTEND;TZID=America/Chicago:20301008T201500
DTSTAMP:20260421T103758
CREATED:20260112T182400Z
LAST-MODIFIED:20260112T182400Z
UID:10011878-1917717300-1917720900@www.tcotc.com
SUMMARY:Treibball Class
DESCRIPTION:Rings 1 & 2
URL:https://www.tcotc.com/event/treibball-class/2030-10-08/
LOCATION:Rings 1&2
CATEGORIES:Obedience
END:VEVENT
BEGIN:VEVENT
DTSTART;TZID=America/Chicago:20301015T151500
DTEND;TZID=America/Chicago:20301015T173000
DTSTAMP:20260421T103758
CREATED:20260106T180136Z
LAST-MODIFIED:20260106T180213Z
UID:10011618-1918307700-1918315800@www.tcotc.com
SUMMARY:Scent Work
DESCRIPTION:3:15 pm class is in the Star Room \n 
URL:https://www.tcotc.com/event/scent-work/2030-10-15/
LOCATION:Meeting Room
CATEGORIES:Obedience
END:VEVENT
END:VCALENDAR