BEGIN:VCALENDAR
VERSION:2.0
PRODID:-//Twin Cities Obedience Training Club - ECPv6.15.13//NONSGML v1.0//EN
CALSCALE:GREGORIAN
METHOD:PUBLISH
X-WR-CALNAME:Twin Cities Obedience Training Club
X-ORIGINAL-URL:https://www.tcotc.com
X-WR-CALDESC:Events for Twin Cities Obedience Training Club
REFRESH-INTERVAL;VALUE=DURATION:PT1H
X-Robots-Tag:noindex
X-PUBLISHED-TTL:PT1H
BEGIN:VTIMEZONE
TZID:America/Chicago
BEGIN:DAYLIGHT
TZOFFSETFROM:-0600
TZOFFSETTO:-0500
TZNAME:CDT
DTSTART:20230312T080000
END:DAYLIGHT
BEGIN:STANDARD
TZOFFSETFROM:-0500
TZOFFSETTO:-0600
TZNAME:CST
DTSTART:20231105T070000
END:STANDARD
BEGIN:DAYLIGHT
TZOFFSETFROM:-0600
TZOFFSETTO:-0500
TZNAME:CDT
DTSTART:20240310T080000
END:DAYLIGHT
BEGIN:STANDARD
TZOFFSETFROM:-0500
TZOFFSETTO:-0600
TZNAME:CST
DTSTART:20241103T070000
END:STANDARD
BEGIN:DAYLIGHT
TZOFFSETFROM:-0600
TZOFFSETTO:-0500
TZNAME:CDT
DTSTART:20250309T080000
END:DAYLIGHT
BEGIN:STANDARD
TZOFFSETFROM:-0500
TZOFFSETTO:-0600
TZNAME:CST
DTSTART:20251102T070000
END:STANDARD
END:VTIMEZONE
BEGIN:VEVENT
DTSTART;TZID=America/Chicago:20240429T173000
DTEND;TZID=America/Chicago:20240429T213000
DTSTAMP:20260423T174032
CREATED:20230809T204342Z
LAST-MODIFIED:20241119T180345Z
UID:10005281-1714411800-1714426200@www.tcotc.com
SUMMARY:Obedience Classes
DESCRIPTION:5:45 p.m.\, 7:00 p.m.\, 8:15 p.m.\nRing Room and Star Room
URL:https://www.tcotc.com/event/obedience-classes-35/2024-04-29/
LOCATION:Ring Room and Star Room
CATEGORIES:Obedience
END:VEVENT
BEGIN:VEVENT
DTSTART;TZID=America/Chicago:20240425T174500
DTEND;TZID=America/Chicago:20240425T184500
DTSTAMP:20260423T174032
CREATED:20241119T184400Z
LAST-MODIFIED:20260123T205319Z
UID:10012142-1714067100-1714070700@www.tcotc.com
SUMMARY:Competition Bedrock
DESCRIPTION:
URL:https://www.tcotc.com/event/competition-bedrock-3/2024-04-25/
LOCATION:Ring Room
CATEGORIES:Obedience
END:VEVENT
BEGIN:VEVENT
DTSTART;TZID=America/Chicago:20240425T173000
DTEND;TZID=America/Chicago:20240425T213000
DTSTAMP:20260423T174032
CREATED:20241119T180230Z
LAST-MODIFIED:20260123T205523Z
UID:10012305-1714066200-1714080600@www.tcotc.com
SUMMARY:Obedience Classes
DESCRIPTION:5:30 pm – 9:30 pm – Ring Room and Star Room
URL:https://www.tcotc.com/event/obedience-classes-4/2024-04-25/
LOCATION:Ring Room and Star Room
CATEGORIES:Obedience
END:VEVENT
BEGIN:VEVENT
DTSTART;TZID=America/Chicago:20240425T173000
DTEND;TZID=America/Chicago:20240425T213000
DTSTAMP:20260423T174032
CREATED:20230809T203810Z
LAST-MODIFIED:20231229T160132Z
UID:10005946-1714066200-1714080600@www.tcotc.com
SUMMARY:Obedience Classes
DESCRIPTION:5:45 p.m.\, 7:00 p.m. and 8:15 p.m.\nRing Room and Star Room
URL:https://www.tcotc.com/event/obedience-classes-33/2024-04-25/
LOCATION:Ring Room and Star Room
CATEGORIES:Obedience
END:VEVENT
BEGIN:VEVENT
DTSTART;TZID=America/Chicago:20240424T173000
DTEND;TZID=America/Chicago:20240424T213000
DTSTAMP:20260423T174032
CREATED:20241119T164634Z
LAST-MODIFIED:20260205T192024Z
UID:10014763-1713979800-1713994200@www.tcotc.com
SUMMARY:Obedience Classes
DESCRIPTION:Ring Room and Star Room
URL:https://www.tcotc.com/event/obedience-classes-3/2024-04-24/
LOCATION:Ring Room and Star Room
CATEGORIES:Obedience
END:VEVENT
BEGIN:VEVENT
DTSTART;TZID=America/Chicago:20240424T173000
DTEND;TZID=America/Chicago:20240424T213000
DTSTAMP:20260423T174032
CREATED:20230809T203447Z
LAST-MODIFIED:20240813T200719Z
UID:10005760-1713979800-1713994200@www.tcotc.com
SUMMARY:Obedience Classes
DESCRIPTION:5:45 p.m.\, 7:00 p.m.\, and 8:15 p.m.\nRing Room and Star Room
URL:https://www.tcotc.com/event/obedience-classes-31/2024-04-24/
LOCATION:Ring Room and Star Room
CATEGORIES:Obedience
END:VEVENT
BEGIN:VEVENT
DTSTART;TZID=America/Chicago:20240423T120000
DTEND;TZID=America/Chicago:20240423T130000
DTSTAMP:20260423T174032
CREATED:20241119T183140Z
LAST-MODIFIED:20260106T141954Z
UID:10011252-1713873600-1713877200@www.tcotc.com
SUMMARY:Competition Bedrock
DESCRIPTION:
URL:https://www.tcotc.com/event/competition-bedrock/2024-04-23/
LOCATION:Ring Room
CATEGORIES:Obedience
END:VEVENT
BEGIN:VEVENT
DTSTART;TZID=America/Chicago:20240423T090000
DTEND;TZID=America/Chicago:20240423T130000
DTSTAMP:20260423T174032
CREATED:20230809T202952Z
LAST-MODIFIED:20240813T203320Z
UID:10005372-1713862800-1713877200@www.tcotc.com
SUMMARY:Obedience Classes
DESCRIPTION:9:30 a.m.\, 10:45 a.m.\, 12:00 p.m.  Classes are offered in six-week sessions.
URL:https://www.tcotc.com/event/obedience-classes-29/2024-04-23/
LOCATION:Ring Room and Star Room
CATEGORIES:Obedience
END:VEVENT
BEGIN:VEVENT
DTSTART;TZID=America/Chicago:20240423T090000
DTEND;TZID=America/Chicago:20240423T120000
DTSTAMP:20260423T174032
CREATED:20241119T163521Z
LAST-MODIFIED:20260106T141756Z
UID:10011154-1713862800-1713873600@www.tcotc.com
SUMMARY:Obedience Classes
DESCRIPTION:Meeting Room and Star Room
URL:https://www.tcotc.com/event/obedience-classes-2/2024-04-23/
LOCATION:Ring Room and Star Room
CATEGORIES:Obedience
END:VEVENT
BEGIN:VEVENT
DTSTART;TZID=America/Chicago:20240422T173000
DTEND;TZID=America/Chicago:20240422T213000
DTSTAMP:20260423T174032
CREATED:20230809T204342Z
LAST-MODIFIED:20241119T180345Z
UID:10005280-1713807000-1713821400@www.tcotc.com
SUMMARY:Obedience Classes
DESCRIPTION:5:45 p.m.\, 7:00 p.m.\, 8:15 p.m.\nRing Room and Star Room
URL:https://www.tcotc.com/event/obedience-classes-35/2024-04-22/
LOCATION:Ring Room and Star Room
CATEGORIES:Obedience
END:VEVENT
BEGIN:VEVENT
DTSTART;TZID=America/Chicago:20240418T174500
DTEND;TZID=America/Chicago:20240418T184500
DTSTAMP:20260423T174032
CREATED:20241119T184400Z
LAST-MODIFIED:20260123T205319Z
UID:10012141-1713462300-1713465900@www.tcotc.com
SUMMARY:Competition Bedrock
DESCRIPTION:
URL:https://www.tcotc.com/event/competition-bedrock-3/2024-04-18/
LOCATION:Ring Room
CATEGORIES:Obedience
END:VEVENT
BEGIN:VEVENT
DTSTART;TZID=America/Chicago:20240418T173000
DTEND;TZID=America/Chicago:20240418T213000
DTSTAMP:20260423T174032
CREATED:20241119T180230Z
LAST-MODIFIED:20260123T205523Z
UID:10012304-1713461400-1713475800@www.tcotc.com
SUMMARY:Obedience Classes
DESCRIPTION:5:30 pm – 9:30 pm – Ring Room and Star Room
URL:https://www.tcotc.com/event/obedience-classes-4/2024-04-18/
LOCATION:Ring Room and Star Room
CATEGORIES:Obedience
END:VEVENT
BEGIN:VEVENT
DTSTART;TZID=America/Chicago:20240418T173000
DTEND;TZID=America/Chicago:20240418T213000
DTSTAMP:20260423T174032
CREATED:20230809T203810Z
LAST-MODIFIED:20231229T160132Z
UID:10005945-1713461400-1713475800@www.tcotc.com
SUMMARY:Obedience Classes
DESCRIPTION:5:45 p.m.\, 7:00 p.m. and 8:15 p.m.\nRing Room and Star Room
URL:https://www.tcotc.com/event/obedience-classes-33/2024-04-18/
LOCATION:Ring Room and Star Room
CATEGORIES:Obedience
END:VEVENT
BEGIN:VEVENT
DTSTART;TZID=America/Chicago:20240417T173000
DTEND;TZID=America/Chicago:20240417T213000
DTSTAMP:20260423T174032
CREATED:20241119T164634Z
LAST-MODIFIED:20260205T192024Z
UID:10014762-1713375000-1713389400@www.tcotc.com
SUMMARY:Obedience Classes
DESCRIPTION:Ring Room and Star Room
URL:https://www.tcotc.com/event/obedience-classes-3/2024-04-17/
LOCATION:Ring Room and Star Room
CATEGORIES:Obedience
END:VEVENT
BEGIN:VEVENT
DTSTART;TZID=America/Chicago:20240417T173000
DTEND;TZID=America/Chicago:20240417T213000
DTSTAMP:20260423T174032
CREATED:20230809T203447Z
LAST-MODIFIED:20240813T200719Z
UID:10005759-1713375000-1713389400@www.tcotc.com
SUMMARY:Obedience Classes
DESCRIPTION:5:45 p.m.\, 7:00 p.m.\, and 8:15 p.m.\nRing Room and Star Room
URL:https://www.tcotc.com/event/obedience-classes-31/2024-04-17/
LOCATION:Ring Room and Star Room
CATEGORIES:Obedience
END:VEVENT
BEGIN:VEVENT
DTSTART;TZID=America/Chicago:20240416T120000
DTEND;TZID=America/Chicago:20240416T130000
DTSTAMP:20260423T174032
CREATED:20241119T183140Z
LAST-MODIFIED:20260106T141954Z
UID:10011251-1713268800-1713272400@www.tcotc.com
SUMMARY:Competition Bedrock
DESCRIPTION:
URL:https://www.tcotc.com/event/competition-bedrock/2024-04-16/
LOCATION:Ring Room
CATEGORIES:Obedience
END:VEVENT
BEGIN:VEVENT
DTSTART;TZID=America/Chicago:20240416T090000
DTEND;TZID=America/Chicago:20240416T130000
DTSTAMP:20260423T174032
CREATED:20230809T202952Z
LAST-MODIFIED:20240813T203320Z
UID:10005371-1713258000-1713272400@www.tcotc.com
SUMMARY:Obedience Classes
DESCRIPTION:9:30 a.m.\, 10:45 a.m.\, 12:00 p.m.  Classes are offered in six-week sessions.
URL:https://www.tcotc.com/event/obedience-classes-29/2024-04-16/
LOCATION:Ring Room and Star Room
CATEGORIES:Obedience
END:VEVENT
BEGIN:VEVENT
DTSTART;TZID=America/Chicago:20240416T090000
DTEND;TZID=America/Chicago:20240416T120000
DTSTAMP:20260423T174032
CREATED:20241119T163521Z
LAST-MODIFIED:20260106T141756Z
UID:10011153-1713258000-1713268800@www.tcotc.com
SUMMARY:Obedience Classes
DESCRIPTION:Meeting Room and Star Room
URL:https://www.tcotc.com/event/obedience-classes-2/2024-04-16/
LOCATION:Ring Room and Star Room
CATEGORIES:Obedience
END:VEVENT
BEGIN:VEVENT
DTSTART;TZID=America/Chicago:20240415T173000
DTEND;TZID=America/Chicago:20240415T213000
DTSTAMP:20260423T174032
CREATED:20230809T204342Z
LAST-MODIFIED:20241119T180345Z
UID:10005279-1713202200-1713216600@www.tcotc.com
SUMMARY:Obedience Classes
DESCRIPTION:5:45 p.m.\, 7:00 p.m.\, 8:15 p.m.\nRing Room and Star Room
URL:https://www.tcotc.com/event/obedience-classes-35/2024-04-15/
LOCATION:Ring Room and Star Room
CATEGORIES:Obedience
END:VEVENT
BEGIN:VEVENT
DTSTART;TZID=America/Chicago:20240411T174500
DTEND;TZID=America/Chicago:20240411T184500
DTSTAMP:20260423T174032
CREATED:20241119T184400Z
LAST-MODIFIED:20260123T205319Z
UID:10012140-1712857500-1712861100@www.tcotc.com
SUMMARY:Competition Bedrock
DESCRIPTION:
URL:https://www.tcotc.com/event/competition-bedrock-3/2024-04-11/
LOCATION:Ring Room
CATEGORIES:Obedience
END:VEVENT
BEGIN:VEVENT
DTSTART;TZID=America/Chicago:20240411T173000
DTEND;TZID=America/Chicago:20240411T213000
DTSTAMP:20260423T174032
CREATED:20241119T180230Z
LAST-MODIFIED:20260123T205523Z
UID:10012303-1712856600-1712871000@www.tcotc.com
SUMMARY:Obedience Classes
DESCRIPTION:5:30 pm – 9:30 pm – Ring Room and Star Room
URL:https://www.tcotc.com/event/obedience-classes-4/2024-04-11/
LOCATION:Ring Room and Star Room
CATEGORIES:Obedience
END:VEVENT
BEGIN:VEVENT
DTSTART;TZID=America/Chicago:20240411T173000
DTEND;TZID=America/Chicago:20240411T213000
DTSTAMP:20260423T174032
CREATED:20230809T203810Z
LAST-MODIFIED:20231229T160132Z
UID:10005944-1712856600-1712871000@www.tcotc.com
SUMMARY:Obedience Classes
DESCRIPTION:5:45 p.m.\, 7:00 p.m. and 8:15 p.m.\nRing Room and Star Room
URL:https://www.tcotc.com/event/obedience-classes-33/2024-04-11/
LOCATION:Ring Room and Star Room
CATEGORIES:Obedience
END:VEVENT
BEGIN:VEVENT
DTSTART;TZID=America/Chicago:20240410T173000
DTEND;TZID=America/Chicago:20240410T213000
DTSTAMP:20260423T174032
CREATED:20241119T164634Z
LAST-MODIFIED:20260205T192024Z
UID:10014761-1712770200-1712784600@www.tcotc.com
SUMMARY:Obedience Classes
DESCRIPTION:Ring Room and Star Room
URL:https://www.tcotc.com/event/obedience-classes-3/2024-04-10/
LOCATION:Ring Room and Star Room
CATEGORIES:Obedience
END:VEVENT
BEGIN:VEVENT
DTSTART;TZID=America/Chicago:20240410T173000
DTEND;TZID=America/Chicago:20240410T213000
DTSTAMP:20260423T174032
CREATED:20230809T203447Z
LAST-MODIFIED:20240813T200719Z
UID:10005758-1712770200-1712784600@www.tcotc.com
SUMMARY:Obedience Classes
DESCRIPTION:5:45 p.m.\, 7:00 p.m.\, and 8:15 p.m.\nRing Room and Star Room
URL:https://www.tcotc.com/event/obedience-classes-31/2024-04-10/
LOCATION:Ring Room and Star Room
CATEGORIES:Obedience
END:VEVENT
BEGIN:VEVENT
DTSTART;TZID=America/Chicago:20240409T120000
DTEND;TZID=America/Chicago:20240409T130000
DTSTAMP:20260423T174032
CREATED:20241119T183140Z
LAST-MODIFIED:20260106T141954Z
UID:10011250-1712664000-1712667600@www.tcotc.com
SUMMARY:Competition Bedrock
DESCRIPTION:
URL:https://www.tcotc.com/event/competition-bedrock/2024-04-09/
LOCATION:Ring Room
CATEGORIES:Obedience
END:VEVENT
BEGIN:VEVENT
DTSTART;TZID=America/Chicago:20240409T090000
DTEND;TZID=America/Chicago:20240409T130000
DTSTAMP:20260423T174032
CREATED:20230809T202952Z
LAST-MODIFIED:20240813T203320Z
UID:10005370-1712653200-1712667600@www.tcotc.com
SUMMARY:Obedience Classes
DESCRIPTION:9:30 a.m.\, 10:45 a.m.\, 12:00 p.m.  Classes are offered in six-week sessions.
URL:https://www.tcotc.com/event/obedience-classes-29/2024-04-09/
LOCATION:Ring Room and Star Room
CATEGORIES:Obedience
END:VEVENT
BEGIN:VEVENT
DTSTART;TZID=America/Chicago:20240409T090000
DTEND;TZID=America/Chicago:20240409T120000
DTSTAMP:20260423T174032
CREATED:20241119T163521Z
LAST-MODIFIED:20260106T141756Z
UID:10011152-1712653200-1712664000@www.tcotc.com
SUMMARY:Obedience Classes
DESCRIPTION:Meeting Room and Star Room
URL:https://www.tcotc.com/event/obedience-classes-2/2024-04-09/
LOCATION:Ring Room and Star Room
CATEGORIES:Obedience
END:VEVENT
BEGIN:VEVENT
DTSTART;TZID=America/Chicago:20240408T173000
DTEND;TZID=America/Chicago:20240408T213000
DTSTAMP:20260423T174032
CREATED:20230809T204342Z
LAST-MODIFIED:20241119T180345Z
UID:10005278-1712597400-1712611800@www.tcotc.com
SUMMARY:Obedience Classes
DESCRIPTION:5:45 p.m.\, 7:00 p.m.\, 8:15 p.m.\nRing Room and Star Room
URL:https://www.tcotc.com/event/obedience-classes-35/2024-04-08/
LOCATION:Ring Room and Star Room
CATEGORIES:Obedience
END:VEVENT
BEGIN:VEVENT
DTSTART;TZID=America/Chicago:20240404T174500
DTEND;TZID=America/Chicago:20240404T184500
DTSTAMP:20260423T174032
CREATED:20241119T184400Z
LAST-MODIFIED:20260123T205319Z
UID:10012139-1712252700-1712256300@www.tcotc.com
SUMMARY:Competition Bedrock
DESCRIPTION:
URL:https://www.tcotc.com/event/competition-bedrock-3/2024-04-04/
LOCATION:Ring Room
CATEGORIES:Obedience
END:VEVENT
BEGIN:VEVENT
DTSTART;TZID=America/Chicago:20240404T173000
DTEND;TZID=America/Chicago:20240404T213000
DTSTAMP:20260423T174032
CREATED:20241119T180230Z
LAST-MODIFIED:20260123T205523Z
UID:10012302-1712251800-1712266200@www.tcotc.com
SUMMARY:Obedience Classes
DESCRIPTION:5:30 pm – 9:30 pm – Ring Room and Star Room
URL:https://www.tcotc.com/event/obedience-classes-4/2024-04-04/
LOCATION:Ring Room and Star Room
CATEGORIES:Obedience
END:VEVENT
END:VCALENDAR