BEGIN:VCALENDAR
VERSION:2.0
PRODID:-//Twin Cities Obedience Training Club - ECPv6.15.13//NONSGML v1.0//EN
CALSCALE:GREGORIAN
METHOD:PUBLISH
X-WR-CALNAME:Twin Cities Obedience Training Club
X-ORIGINAL-URL:https://www.tcotc.com
X-WR-CALDESC:Events for Twin Cities Obedience Training Club
REFRESH-INTERVAL;VALUE=DURATION:PT1H
X-Robots-Tag:noindex
X-PUBLISHED-TTL:PT1H
BEGIN:VTIMEZONE
TZID:America/Chicago
BEGIN:DAYLIGHT
TZOFFSETFROM:-0600
TZOFFSETTO:-0500
TZNAME:CDT
DTSTART:20230312T080000
END:DAYLIGHT
BEGIN:STANDARD
TZOFFSETFROM:-0500
TZOFFSETTO:-0600
TZNAME:CST
DTSTART:20231105T070000
END:STANDARD
BEGIN:DAYLIGHT
TZOFFSETFROM:-0600
TZOFFSETTO:-0500
TZNAME:CDT
DTSTART:20240310T080000
END:DAYLIGHT
BEGIN:STANDARD
TZOFFSETFROM:-0500
TZOFFSETTO:-0600
TZNAME:CST
DTSTART:20241103T070000
END:STANDARD
BEGIN:DAYLIGHT
TZOFFSETFROM:-0600
TZOFFSETTO:-0500
TZNAME:CDT
DTSTART:20250309T080000
END:DAYLIGHT
BEGIN:STANDARD
TZOFFSETFROM:-0500
TZOFFSETTO:-0600
TZNAME:CST
DTSTART:20251102T070000
END:STANDARD
END:VTIMEZONE
BEGIN:VEVENT
DTSTART;TZID=America/Chicago:20240829T174500
DTEND;TZID=America/Chicago:20240829T184500
DTSTAMP:20260423T131847
CREATED:20241119T184400Z
LAST-MODIFIED:20260123T205319Z
UID:10012160-1724953500-1724957100@www.tcotc.com
SUMMARY:Competition Bedrock
DESCRIPTION:
URL:https://www.tcotc.com/event/competition-bedrock-3/2024-08-29/
LOCATION:Ring Room
CATEGORIES:Obedience
END:VEVENT
BEGIN:VEVENT
DTSTART;TZID=America/Chicago:20240829T173000
DTEND;TZID=America/Chicago:20240829T213000
DTSTAMP:20260423T131847
CREATED:20241119T180230Z
LAST-MODIFIED:20260123T205523Z
UID:10012323-1724952600-1724967000@www.tcotc.com
SUMMARY:Obedience Classes
DESCRIPTION:5:30 pm – 9:30 pm – Ring Room and Star Room
URL:https://www.tcotc.com/event/obedience-classes-4/2024-08-29/
LOCATION:Ring Room and Star Room
CATEGORIES:Obedience
END:VEVENT
BEGIN:VEVENT
DTSTART;TZID=America/Chicago:20240829T173000
DTEND;TZID=America/Chicago:20240829T213000
DTSTAMP:20260423T131847
CREATED:20230809T203810Z
LAST-MODIFIED:20231229T160132Z
UID:10005961-1724952600-1724967000@www.tcotc.com
SUMMARY:Obedience Classes
DESCRIPTION:5:45 p.m.\, 7:00 p.m. and 8:15 p.m.\nRing Room and Star Room
URL:https://www.tcotc.com/event/obedience-classes-33/2024-08-29/
LOCATION:Ring Room and Star Room
CATEGORIES:Obedience
END:VEVENT
BEGIN:VEVENT
DTSTART;TZID=America/Chicago:20240828T173000
DTEND;TZID=America/Chicago:20240828T213000
DTSTAMP:20260423T131847
CREATED:20241119T164634Z
LAST-MODIFIED:20260205T192024Z
UID:10014781-1724866200-1724880600@www.tcotc.com
SUMMARY:Obedience Classes
DESCRIPTION:Ring Room and Star Room
URL:https://www.tcotc.com/event/obedience-classes-3/2024-08-28/
LOCATION:Ring Room and Star Room
CATEGORIES:Obedience
END:VEVENT
BEGIN:VEVENT
DTSTART;TZID=America/Chicago:20240828T173000
DTEND;TZID=America/Chicago:20240828T213000
DTSTAMP:20260423T131847
CREATED:20230809T203447Z
LAST-MODIFIED:20240813T200719Z
UID:10005778-1724866200-1724880600@www.tcotc.com
SUMMARY:Obedience Classes
DESCRIPTION:5:45 p.m.\, 7:00 p.m.\, and 8:15 p.m.\nRing Room and Star Room
URL:https://www.tcotc.com/event/obedience-classes-31/2024-08-28/
LOCATION:Ring Room and Star Room
CATEGORIES:Obedience
END:VEVENT
BEGIN:VEVENT
DTSTART;TZID=America/Chicago:20240827T120000
DTEND;TZID=America/Chicago:20240827T130000
DTSTAMP:20260423T131847
CREATED:20241119T183140Z
LAST-MODIFIED:20260106T141954Z
UID:10011270-1724760000-1724763600@www.tcotc.com
SUMMARY:Competition Bedrock
DESCRIPTION:
URL:https://www.tcotc.com/event/competition-bedrock/2024-08-27/
LOCATION:Ring Room
CATEGORIES:Obedience
END:VEVENT
BEGIN:VEVENT
DTSTART;TZID=America/Chicago:20240827T090000
DTEND;TZID=America/Chicago:20240827T120000
DTSTAMP:20260423T131847
CREATED:20241119T163521Z
LAST-MODIFIED:20260106T141756Z
UID:10011172-1724749200-1724760000@www.tcotc.com
SUMMARY:Obedience Classes
DESCRIPTION:Meeting Room and Star Room
URL:https://www.tcotc.com/event/obedience-classes-2/2024-08-27/
LOCATION:Ring Room and Star Room
CATEGORIES:Obedience
END:VEVENT
BEGIN:VEVENT
DTSTART;TZID=America/Chicago:20240822T174500
DTEND;TZID=America/Chicago:20240822T184500
DTSTAMP:20260423T131847
CREATED:20241119T184400Z
LAST-MODIFIED:20260123T205319Z
UID:10012159-1724348700-1724352300@www.tcotc.com
SUMMARY:Competition Bedrock
DESCRIPTION:
URL:https://www.tcotc.com/event/competition-bedrock-3/2024-08-22/
LOCATION:Ring Room
CATEGORIES:Obedience
END:VEVENT
BEGIN:VEVENT
DTSTART;TZID=America/Chicago:20240822T173000
DTEND;TZID=America/Chicago:20240822T213000
DTSTAMP:20260423T131847
CREATED:20241119T180230Z
LAST-MODIFIED:20260123T205523Z
UID:10012322-1724347800-1724362200@www.tcotc.com
SUMMARY:Obedience Classes
DESCRIPTION:5:30 pm – 9:30 pm – Ring Room and Star Room
URL:https://www.tcotc.com/event/obedience-classes-4/2024-08-22/
LOCATION:Ring Room and Star Room
CATEGORIES:Obedience
END:VEVENT
BEGIN:VEVENT
DTSTART;TZID=America/Chicago:20240821T173000
DTEND;TZID=America/Chicago:20240821T213000
DTSTAMP:20260423T131847
CREATED:20241119T164634Z
LAST-MODIFIED:20260205T192024Z
UID:10014780-1724261400-1724275800@www.tcotc.com
SUMMARY:Obedience Classes
DESCRIPTION:Ring Room and Star Room
URL:https://www.tcotc.com/event/obedience-classes-3/2024-08-21/
LOCATION:Ring Room and Star Room
CATEGORIES:Obedience
END:VEVENT
BEGIN:VEVENT
DTSTART;TZID=America/Chicago:20240821T173000
DTEND;TZID=America/Chicago:20240821T213000
DTSTAMP:20260423T131847
CREATED:20230809T203447Z
LAST-MODIFIED:20240813T200719Z
UID:10005777-1724261400-1724275800@www.tcotc.com
SUMMARY:Obedience Classes
DESCRIPTION:5:45 p.m.\, 7:00 p.m.\, and 8:15 p.m.\nRing Room and Star Room
URL:https://www.tcotc.com/event/obedience-classes-31/2024-08-21/
LOCATION:Ring Room and Star Room
CATEGORIES:Obedience
END:VEVENT
BEGIN:VEVENT
DTSTART;TZID=America/Chicago:20240820T120000
DTEND;TZID=America/Chicago:20240820T130000
DTSTAMP:20260423T131847
CREATED:20241119T183140Z
LAST-MODIFIED:20260106T141954Z
UID:10011269-1724155200-1724158800@www.tcotc.com
SUMMARY:Competition Bedrock
DESCRIPTION:
URL:https://www.tcotc.com/event/competition-bedrock/2024-08-20/
LOCATION:Ring Room
CATEGORIES:Obedience
END:VEVENT
BEGIN:VEVENT
DTSTART;TZID=America/Chicago:20240820T090000
DTEND;TZID=America/Chicago:20240820T120000
DTSTAMP:20260423T131847
CREATED:20241119T163521Z
LAST-MODIFIED:20260106T141756Z
UID:10011171-1724144400-1724155200@www.tcotc.com
SUMMARY:Obedience Classes
DESCRIPTION:Meeting Room and Star Room
URL:https://www.tcotc.com/event/obedience-classes-2/2024-08-20/
LOCATION:Ring Room and Star Room
CATEGORIES:Obedience
END:VEVENT
BEGIN:VEVENT
DTSTART;TZID=America/Chicago:20240819T173000
DTEND;TZID=America/Chicago:20240819T213000
DTSTAMP:20260423T131847
CREATED:20230809T204342Z
LAST-MODIFIED:20241119T180345Z
UID:10005295-1724088600-1724103000@www.tcotc.com
SUMMARY:Obedience Classes
DESCRIPTION:5:45 p.m.\, 7:00 p.m.\, 8:15 p.m.\nRing Room and Star Room
URL:https://www.tcotc.com/event/obedience-classes-35/2024-08-19/
LOCATION:Ring Room and Star Room
CATEGORIES:Obedience
END:VEVENT
BEGIN:VEVENT
DTSTART;TZID=America/Chicago:20240815T174500
DTEND;TZID=America/Chicago:20240815T184500
DTSTAMP:20260423T131847
CREATED:20241119T184400Z
LAST-MODIFIED:20260123T205319Z
UID:10012158-1723743900-1723747500@www.tcotc.com
SUMMARY:Competition Bedrock
DESCRIPTION:
URL:https://www.tcotc.com/event/competition-bedrock-3/2024-08-15/
LOCATION:Ring Room
CATEGORIES:Obedience
END:VEVENT
BEGIN:VEVENT
DTSTART;TZID=America/Chicago:20240815T173000
DTEND;TZID=America/Chicago:20240815T213000
DTSTAMP:20260423T131847
CREATED:20241119T180230Z
LAST-MODIFIED:20260123T205523Z
UID:10012321-1723743000-1723757400@www.tcotc.com
SUMMARY:Obedience Classes
DESCRIPTION:5:30 pm – 9:30 pm – Ring Room and Star Room
URL:https://www.tcotc.com/event/obedience-classes-4/2024-08-15/
LOCATION:Ring Room and Star Room
CATEGORIES:Obedience
END:VEVENT
BEGIN:VEVENT
DTSTART;TZID=America/Chicago:20240815T173000
DTEND;TZID=America/Chicago:20240815T213000
DTSTAMP:20260423T131847
CREATED:20230809T203810Z
LAST-MODIFIED:20231229T160132Z
UID:10005960-1723743000-1723757400@www.tcotc.com
SUMMARY:Obedience Classes
DESCRIPTION:5:45 p.m.\, 7:00 p.m. and 8:15 p.m.\nRing Room and Star Room
URL:https://www.tcotc.com/event/obedience-classes-33/2024-08-15/
LOCATION:Ring Room and Star Room
CATEGORIES:Obedience
END:VEVENT
BEGIN:VEVENT
DTSTART;TZID=America/Chicago:20240814T173000
DTEND;TZID=America/Chicago:20240814T213000
DTSTAMP:20260423T131847
CREATED:20241119T164634Z
LAST-MODIFIED:20260205T192024Z
UID:10014779-1723656600-1723671000@www.tcotc.com
SUMMARY:Obedience Classes
DESCRIPTION:Ring Room and Star Room
URL:https://www.tcotc.com/event/obedience-classes-3/2024-08-14/
LOCATION:Ring Room and Star Room
CATEGORIES:Obedience
END:VEVENT
BEGIN:VEVENT
DTSTART;TZID=America/Chicago:20240814T173000
DTEND;TZID=America/Chicago:20240814T213000
DTSTAMP:20260423T131847
CREATED:20230809T203447Z
LAST-MODIFIED:20240813T200719Z
UID:10005776-1723656600-1723671000@www.tcotc.com
SUMMARY:Obedience Classes
DESCRIPTION:5:45 p.m.\, 7:00 p.m.\, and 8:15 p.m.\nRing Room and Star Room
URL:https://www.tcotc.com/event/obedience-classes-31/2024-08-14/
LOCATION:Ring Room and Star Room
CATEGORIES:Obedience
END:VEVENT
BEGIN:VEVENT
DTSTART;TZID=America/Chicago:20240813T120000
DTEND;TZID=America/Chicago:20240813T130000
DTSTAMP:20260423T131847
CREATED:20241119T183140Z
LAST-MODIFIED:20260106T141954Z
UID:10011268-1723550400-1723554000@www.tcotc.com
SUMMARY:Competition Bedrock
DESCRIPTION:
URL:https://www.tcotc.com/event/competition-bedrock/2024-08-13/
LOCATION:Ring Room
CATEGORIES:Obedience
END:VEVENT
BEGIN:VEVENT
DTSTART;TZID=America/Chicago:20240813T090000
DTEND;TZID=America/Chicago:20240813T130000
DTSTAMP:20260423T131847
CREATED:20230809T202952Z
LAST-MODIFIED:20240813T203320Z
UID:10005387-1723539600-1723554000@www.tcotc.com
SUMMARY:Obedience Classes
DESCRIPTION:9:30 a.m.\, 10:45 a.m.\, 12:00 p.m.  Classes are offered in six-week sessions.
URL:https://www.tcotc.com/event/obedience-classes-29/2024-08-13/
LOCATION:Ring Room and Star Room
CATEGORIES:Obedience
END:VEVENT
BEGIN:VEVENT
DTSTART;TZID=America/Chicago:20240813T090000
DTEND;TZID=America/Chicago:20240813T120000
DTSTAMP:20260423T131847
CREATED:20241119T163521Z
LAST-MODIFIED:20260106T141756Z
UID:10011170-1723539600-1723550400@www.tcotc.com
SUMMARY:Obedience Classes
DESCRIPTION:Meeting Room and Star Room
URL:https://www.tcotc.com/event/obedience-classes-2/2024-08-13/
LOCATION:Ring Room and Star Room
CATEGORIES:Obedience
END:VEVENT
BEGIN:VEVENT
DTSTART;TZID=America/Chicago:20240812T173000
DTEND;TZID=America/Chicago:20240812T213000
DTSTAMP:20260423T131847
CREATED:20230809T204342Z
LAST-MODIFIED:20241119T180345Z
UID:10005294-1723483800-1723498200@www.tcotc.com
SUMMARY:Obedience Classes
DESCRIPTION:5:45 p.m.\, 7:00 p.m.\, 8:15 p.m.\nRing Room and Star Room
URL:https://www.tcotc.com/event/obedience-classes-35/2024-08-12/
LOCATION:Ring Room and Star Room
CATEGORIES:Obedience
END:VEVENT
BEGIN:VEVENT
DTSTART;TZID=America/Chicago:20240808T174500
DTEND;TZID=America/Chicago:20240808T184500
DTSTAMP:20260423T131847
CREATED:20241119T184400Z
LAST-MODIFIED:20260123T205319Z
UID:10012157-1723139100-1723142700@www.tcotc.com
SUMMARY:Competition Bedrock
DESCRIPTION:
URL:https://www.tcotc.com/event/competition-bedrock-3/2024-08-08/
LOCATION:Ring Room
CATEGORIES:Obedience
END:VEVENT
BEGIN:VEVENT
DTSTART;TZID=America/Chicago:20240808T173000
DTEND;TZID=America/Chicago:20240808T213000
DTSTAMP:20260423T131847
CREATED:20241119T180230Z
LAST-MODIFIED:20260123T205523Z
UID:10012320-1723138200-1723152600@www.tcotc.com
SUMMARY:Obedience Classes
DESCRIPTION:5:30 pm – 9:30 pm – Ring Room and Star Room
URL:https://www.tcotc.com/event/obedience-classes-4/2024-08-08/
LOCATION:Ring Room and Star Room
CATEGORIES:Obedience
END:VEVENT
BEGIN:VEVENT
DTSTART;TZID=America/Chicago:20240808T173000
DTEND;TZID=America/Chicago:20240808T213000
DTSTAMP:20260423T131847
CREATED:20230809T203810Z
LAST-MODIFIED:20231229T160132Z
UID:10005959-1723138200-1723152600@www.tcotc.com
SUMMARY:Obedience Classes
DESCRIPTION:5:45 p.m.\, 7:00 p.m. and 8:15 p.m.\nRing Room and Star Room
URL:https://www.tcotc.com/event/obedience-classes-33/2024-08-08/
LOCATION:Ring Room and Star Room
CATEGORIES:Obedience
END:VEVENT
BEGIN:VEVENT
DTSTART;TZID=America/Chicago:20240807T173000
DTEND;TZID=America/Chicago:20240807T213000
DTSTAMP:20260423T131847
CREATED:20241119T164634Z
LAST-MODIFIED:20260205T192024Z
UID:10014778-1723051800-1723066200@www.tcotc.com
SUMMARY:Obedience Classes
DESCRIPTION:Ring Room and Star Room
URL:https://www.tcotc.com/event/obedience-classes-3/2024-08-07/
LOCATION:Ring Room and Star Room
CATEGORIES:Obedience
END:VEVENT
BEGIN:VEVENT
DTSTART;TZID=America/Chicago:20240807T173000
DTEND;TZID=America/Chicago:20240807T213000
DTSTAMP:20260423T131847
CREATED:20230809T203447Z
LAST-MODIFIED:20240813T200719Z
UID:10005775-1723051800-1723066200@www.tcotc.com
SUMMARY:Obedience Classes
DESCRIPTION:5:45 p.m.\, 7:00 p.m.\, and 8:15 p.m.\nRing Room and Star Room
URL:https://www.tcotc.com/event/obedience-classes-31/2024-08-07/
LOCATION:Ring Room and Star Room
CATEGORIES:Obedience
END:VEVENT
BEGIN:VEVENT
DTSTART;TZID=America/Chicago:20240806T120000
DTEND;TZID=America/Chicago:20240806T130000
DTSTAMP:20260423T131847
CREATED:20241119T183140Z
LAST-MODIFIED:20260106T141954Z
UID:10011267-1722945600-1722949200@www.tcotc.com
SUMMARY:Competition Bedrock
DESCRIPTION:
URL:https://www.tcotc.com/event/competition-bedrock/2024-08-06/
LOCATION:Ring Room
CATEGORIES:Obedience
END:VEVENT
BEGIN:VEVENT
DTSTART;TZID=America/Chicago:20240806T090000
DTEND;TZID=America/Chicago:20240806T130000
DTSTAMP:20260423T131847
CREATED:20230809T202952Z
LAST-MODIFIED:20240813T203320Z
UID:10005386-1722934800-1722949200@www.tcotc.com
SUMMARY:Obedience Classes
DESCRIPTION:9:30 a.m.\, 10:45 a.m.\, 12:00 p.m.  Classes are offered in six-week sessions.
URL:https://www.tcotc.com/event/obedience-classes-29/2024-08-06/
LOCATION:Ring Room and Star Room
CATEGORIES:Obedience
END:VEVENT
END:VCALENDAR