BEGIN:VCALENDAR
VERSION:2.0
PRODID:-//Twin Cities Obedience Training Club - ECPv6.15.13//NONSGML v1.0//EN
CALSCALE:GREGORIAN
METHOD:PUBLISH
X-WR-CALNAME:Twin Cities Obedience Training Club
X-ORIGINAL-URL:https://www.tcotc.com
X-WR-CALDESC:Events for Twin Cities Obedience Training Club
REFRESH-INTERVAL;VALUE=DURATION:PT1H
X-Robots-Tag:noindex
X-PUBLISHED-TTL:PT1H
BEGIN:VTIMEZONE
TZID:America/Chicago
BEGIN:DAYLIGHT
TZOFFSETFROM:-0600
TZOFFSETTO:-0500
TZNAME:CDT
DTSTART:20220313T080000
END:DAYLIGHT
BEGIN:STANDARD
TZOFFSETFROM:-0500
TZOFFSETTO:-0600
TZNAME:CST
DTSTART:20221106T070000
END:STANDARD
BEGIN:DAYLIGHT
TZOFFSETFROM:-0600
TZOFFSETTO:-0500
TZNAME:CDT
DTSTART:20230312T080000
END:DAYLIGHT
BEGIN:STANDARD
TZOFFSETFROM:-0500
TZOFFSETTO:-0600
TZNAME:CST
DTSTART:20231105T070000
END:STANDARD
BEGIN:DAYLIGHT
TZOFFSETFROM:-0600
TZOFFSETTO:-0500
TZNAME:CDT
DTSTART:20240310T080000
END:DAYLIGHT
BEGIN:STANDARD
TZOFFSETFROM:-0500
TZOFFSETTO:-0600
TZNAME:CST
DTSTART:20241103T070000
END:STANDARD
BEGIN:DAYLIGHT
TZOFFSETFROM:-0600
TZOFFSETTO:-0500
TZNAME:CDT
DTSTART:20250309T080000
END:DAYLIGHT
BEGIN:STANDARD
TZOFFSETFROM:-0500
TZOFFSETTO:-0600
TZNAME:CST
DTSTART:20251102T070000
END:STANDARD
END:VTIMEZONE
BEGIN:VEVENT
DTSTART;TZID=America/Chicago:20240131T070000
DTEND;TZID=America/Chicago:20240131T170000
DTSTAMP:20260421T125742
CREATED:20230810T155310Z
LAST-MODIFIED:20231229T182844Z
UID:10006097-1706684400-1706720400@www.tcotc.com
SUMMARY:Camp K9
DESCRIPTION:Camp K9 @TCOTC is an individualized\, custom day-training program for dogs 5 months and older that combines training with enrichment activities to build your dog’s confidence and establish positive behaviors. To learn more\, visit the Camp K9 Web page.
URL:https://www.tcotc.com/event/camp-k9-4/2024-01-31/
LOCATION:Ring Rm\, Mtg Rm & Star Rm
CATEGORIES:Camp K9
END:VEVENT
BEGIN:VEVENT
DTSTART;TZID=America/Chicago:20240129T070000
DTEND;TZID=America/Chicago:20240129T170000
DTSTAMP:20260421T125742
CREATED:20230810T155151Z
LAST-MODIFIED:20231229T182641Z
UID:10000937-1706511600-1706547600@www.tcotc.com
SUMMARY:Camp K9
DESCRIPTION:Camp K9 @TCOTC is an individualized\, custom day-training program for dogs 5 months and older that combines training with enrichment activities to build your dog’s confidence and establish positive behaviors. To learn more\, visit the Camp K9 Web page.
URL:https://www.tcotc.com/event/camp-k9-2/2024-01-29/
LOCATION:Ring Rm\, Mtg Rm & Star Rm
CATEGORIES:Camp K9
END:VEVENT
BEGIN:VEVENT
DTSTART;TZID=America/Chicago:20240125T070000
DTEND;TZID=America/Chicago:20240125T170000
DTSTAMP:20260421T125742
CREATED:20230810T155658Z
LAST-MODIFIED:20240624T175359Z
UID:10001010-1706166000-1706202000@www.tcotc.com
SUMMARY:Camp K9
DESCRIPTION:Camp K9 @TCOTC is an individualized\, custom day-training program for dogs 5 months and older that combines training with enrichment activities to build your dog’s confidence and establish positive behaviors. To learn more\, visit the Camp K9 Web page.
URL:https://www.tcotc.com/event/camp-k9-5/2024-01-25/
LOCATION:Ring Rm\, Mtg Rm & Star Rm
CATEGORIES:Camp K9
END:VEVENT
BEGIN:VEVENT
DTSTART;TZID=America/Chicago:20240124T070000
DTEND;TZID=America/Chicago:20240124T170000
DTSTAMP:20260421T125742
CREATED:20230810T155310Z
LAST-MODIFIED:20231229T182844Z
UID:10000986-1706079600-1706115600@www.tcotc.com
SUMMARY:Camp K9
DESCRIPTION:Camp K9 @TCOTC is an individualized\, custom day-training program for dogs 5 months and older that combines training with enrichment activities to build your dog’s confidence and establish positive behaviors. To learn more\, visit the Camp K9 Web page.
URL:https://www.tcotc.com/event/camp-k9-4/2024-01-24/
LOCATION:Ring Rm\, Mtg Rm & Star Rm
CATEGORIES:Camp K9
END:VEVENT
BEGIN:VEVENT
DTSTART;TZID=America/Chicago:20240122T070000
DTEND;TZID=America/Chicago:20240122T170000
DTSTAMP:20260421T125742
CREATED:20230810T155151Z
LAST-MODIFIED:20231229T182641Z
UID:10000936-1705906800-1705942800@www.tcotc.com
SUMMARY:Camp K9
DESCRIPTION:Camp K9 @TCOTC is an individualized\, custom day-training program for dogs 5 months and older that combines training with enrichment activities to build your dog’s confidence and establish positive behaviors. To learn more\, visit the Camp K9 Web page.
URL:https://www.tcotc.com/event/camp-k9-2/2024-01-22/
LOCATION:Ring Rm\, Mtg Rm & Star Rm
CATEGORIES:Camp K9
END:VEVENT
BEGIN:VEVENT
DTSTART;TZID=America/Chicago:20240118T070000
DTEND;TZID=America/Chicago:20240118T170000
DTSTAMP:20260421T125742
CREATED:20230810T155658Z
LAST-MODIFIED:20240624T175359Z
UID:10001009-1705561200-1705597200@www.tcotc.com
SUMMARY:Camp K9
DESCRIPTION:Camp K9 @TCOTC is an individualized\, custom day-training program for dogs 5 months and older that combines training with enrichment activities to build your dog’s confidence and establish positive behaviors. To learn more\, visit the Camp K9 Web page.
URL:https://www.tcotc.com/event/camp-k9-5/2024-01-18/
LOCATION:Ring Rm\, Mtg Rm & Star Rm
CATEGORIES:Camp K9
END:VEVENT
BEGIN:VEVENT
DTSTART;TZID=America/Chicago:20240117T070000
DTEND;TZID=America/Chicago:20240117T170000
DTSTAMP:20260421T125742
CREATED:20230810T155310Z
LAST-MODIFIED:20231229T182844Z
UID:10000985-1705474800-1705510800@www.tcotc.com
SUMMARY:Camp K9
DESCRIPTION:Camp K9 @TCOTC is an individualized\, custom day-training program for dogs 5 months and older that combines training with enrichment activities to build your dog’s confidence and establish positive behaviors. To learn more\, visit the Camp K9 Web page.
URL:https://www.tcotc.com/event/camp-k9-4/2024-01-17/
LOCATION:Ring Rm\, Mtg Rm & Star Rm
CATEGORIES:Camp K9
END:VEVENT
BEGIN:VEVENT
DTSTART;TZID=America/Chicago:20240115T070000
DTEND;TZID=America/Chicago:20240115T170000
DTSTAMP:20260421T125742
CREATED:20230810T155151Z
LAST-MODIFIED:20231229T182641Z
UID:10000935-1705302000-1705338000@www.tcotc.com
SUMMARY:Camp K9
DESCRIPTION:Camp K9 @TCOTC is an individualized\, custom day-training program for dogs 5 months and older that combines training with enrichment activities to build your dog’s confidence and establish positive behaviors. To learn more\, visit the Camp K9 Web page.
URL:https://www.tcotc.com/event/camp-k9-2/2024-01-15/
LOCATION:Ring Rm\, Mtg Rm & Star Rm
CATEGORIES:Camp K9
END:VEVENT
BEGIN:VEVENT
DTSTART;TZID=America/Chicago:20240111T070000
DTEND;TZID=America/Chicago:20240111T170000
DTSTAMP:20260421T125742
CREATED:20230810T155658Z
LAST-MODIFIED:20240624T175359Z
UID:10001008-1704956400-1704992400@www.tcotc.com
SUMMARY:Camp K9
DESCRIPTION:Camp K9 @TCOTC is an individualized\, custom day-training program for dogs 5 months and older that combines training with enrichment activities to build your dog’s confidence and establish positive behaviors. To learn more\, visit the Camp K9 Web page.
URL:https://www.tcotc.com/event/camp-k9-5/2024-01-11/
LOCATION:Ring Rm\, Mtg Rm & Star Rm
CATEGORIES:Camp K9
END:VEVENT
BEGIN:VEVENT
DTSTART;TZID=America/Chicago:20240110T070000
DTEND;TZID=America/Chicago:20240110T170000
DTSTAMP:20260421T125742
CREATED:20230810T155310Z
LAST-MODIFIED:20231229T182844Z
UID:10000984-1704870000-1704906000@www.tcotc.com
SUMMARY:Camp K9
DESCRIPTION:Camp K9 @TCOTC is an individualized\, custom day-training program for dogs 5 months and older that combines training with enrichment activities to build your dog’s confidence and establish positive behaviors. To learn more\, visit the Camp K9 Web page.
URL:https://www.tcotc.com/event/camp-k9-4/2024-01-10/
LOCATION:Ring Rm\, Mtg Rm & Star Rm
CATEGORIES:Camp K9
END:VEVENT
BEGIN:VEVENT
DTSTART;TZID=America/Chicago:20240108T070000
DTEND;TZID=America/Chicago:20240108T170000
DTSTAMP:20260421T125742
CREATED:20230810T155151Z
LAST-MODIFIED:20231229T182641Z
UID:10000934-1704697200-1704733200@www.tcotc.com
SUMMARY:Camp K9
DESCRIPTION:Camp K9 @TCOTC is an individualized\, custom day-training program for dogs 5 months and older that combines training with enrichment activities to build your dog’s confidence and establish positive behaviors. To learn more\, visit the Camp K9 Web page.
URL:https://www.tcotc.com/event/camp-k9-2/2024-01-08/
LOCATION:Ring Rm\, Mtg Rm & Star Rm
CATEGORIES:Camp K9
END:VEVENT
BEGIN:VEVENT
DTSTART;TZID=America/Chicago:20240104T070000
DTEND;TZID=America/Chicago:20240104T170000
DTSTAMP:20260421T125742
CREATED:20230810T155658Z
LAST-MODIFIED:20240624T175359Z
UID:10001007-1704351600-1704387600@www.tcotc.com
SUMMARY:Camp K9
DESCRIPTION:Camp K9 @TCOTC is an individualized\, custom day-training program for dogs 5 months and older that combines training with enrichment activities to build your dog’s confidence and establish positive behaviors. To learn more\, visit the Camp K9 Web page.
URL:https://www.tcotc.com/event/camp-k9-5/2024-01-04/
LOCATION:Ring Rm\, Mtg Rm & Star Rm
CATEGORIES:Camp K9
END:VEVENT
BEGIN:VEVENT
DTSTART;TZID=America/Chicago:20240103T070000
DTEND;TZID=America/Chicago:20240103T170000
DTSTAMP:20260421T125742
CREATED:20230810T155310Z
LAST-MODIFIED:20231229T182844Z
UID:10000983-1704265200-1704301200@www.tcotc.com
SUMMARY:Camp K9
DESCRIPTION:Camp K9 @TCOTC is an individualized\, custom day-training program for dogs 5 months and older that combines training with enrichment activities to build your dog’s confidence and establish positive behaviors. To learn more\, visit the Camp K9 Web page.
URL:https://www.tcotc.com/event/camp-k9-4/2024-01-03/
LOCATION:Ring Rm\, Mtg Rm & Star Rm
CATEGORIES:Camp K9
END:VEVENT
BEGIN:VEVENT
DTSTART;TZID=America/Chicago:20231228T070000
DTEND;TZID=America/Chicago:20231228T170000
DTSTAMP:20260421T125742
CREATED:20230810T155658Z
LAST-MODIFIED:20240624T175359Z
UID:10005162-1703746800-1703782800@www.tcotc.com
SUMMARY:Camp K9
DESCRIPTION:Camp K9 @TCOTC is an individualized\, custom day-training program for dogs 5 months and older that combines training with enrichment activities to build your dog’s confidence and establish positive behaviors. To learn more\, visit the Camp K9 Web page.
URL:https://www.tcotc.com/event/camp-k9-5/2023-12-28/
LOCATION:Ring Rm\, Mtg Rm & Star Rm
CATEGORIES:Camp K9
END:VEVENT
BEGIN:VEVENT
DTSTART;TZID=America/Chicago:20231227T070000
DTEND;TZID=America/Chicago:20231227T170000
DTSTAMP:20260421T125742
CREATED:20230810T155310Z
LAST-MODIFIED:20231229T182844Z
UID:10005161-1703660400-1703696400@www.tcotc.com
SUMMARY:Camp K9
DESCRIPTION:Camp K9 @TCOTC is an individualized\, custom day-training program for dogs 5 months and older that combines training with enrichment activities to build your dog’s confidence and establish positive behaviors. To learn more\, visit the Camp K9 Web page.
URL:https://www.tcotc.com/event/camp-k9-4/2023-12-27/
LOCATION:Ring Rm\, Mtg Rm & Star Rm
CATEGORIES:Camp K9
END:VEVENT
BEGIN:VEVENT
DTSTART;TZID=America/Chicago:20231222T070000
DTEND;TZID=America/Chicago:20231222T070000
DTSTAMP:20260421T125742
CREATED:20230810T160410Z
LAST-MODIFIED:20231229T183317Z
UID:10001029-1703228400-1703228400@www.tcotc.com
SUMMARY:Camp K9
DESCRIPTION:Camp K9 @TCOTC is an individualized\, custom day-training program for dogs 5 months and older that combines training with enrichment activities to build your dog’s confidence and establish positive behaviors. To learn more\, visit the Camp K9 Web page.
URL:https://www.tcotc.com/event/camp-k9-7/2023-12-22/
LOCATION:Ring Rm\, Mtg Rm & Star Rm
CATEGORIES:Camp K9
END:VEVENT
BEGIN:VEVENT
DTSTART;TZID=America/Chicago:20231221T070000
DTEND;TZID=America/Chicago:20231221T170000
DTSTAMP:20260421T125742
CREATED:20230810T155658Z
LAST-MODIFIED:20240624T175359Z
UID:10001006-1703142000-1703178000@www.tcotc.com
SUMMARY:Camp K9
DESCRIPTION:Camp K9 @TCOTC is an individualized\, custom day-training program for dogs 5 months and older that combines training with enrichment activities to build your dog’s confidence and establish positive behaviors. To learn more\, visit the Camp K9 Web page.
URL:https://www.tcotc.com/event/camp-k9-5/2023-12-21/
LOCATION:Ring Rm\, Mtg Rm & Star Rm
CATEGORIES:Camp K9
END:VEVENT
BEGIN:VEVENT
DTSTART;TZID=America/Chicago:20231220T070000
DTEND;TZID=America/Chicago:20231220T170000
DTSTAMP:20260421T125742
CREATED:20230810T155310Z
LAST-MODIFIED:20231229T182844Z
UID:10000982-1703055600-1703091600@www.tcotc.com
SUMMARY:Camp K9
DESCRIPTION:Camp K9 @TCOTC is an individualized\, custom day-training program for dogs 5 months and older that combines training with enrichment activities to build your dog’s confidence and establish positive behaviors. To learn more\, visit the Camp K9 Web page.
URL:https://www.tcotc.com/event/camp-k9-4/2023-12-20/
LOCATION:Ring Rm\, Mtg Rm & Star Rm
CATEGORIES:Camp K9
END:VEVENT
BEGIN:VEVENT
DTSTART;TZID=America/Chicago:20231218T070000
DTEND;TZID=America/Chicago:20231218T170000
DTSTAMP:20260421T125742
CREATED:20230810T155151Z
LAST-MODIFIED:20231229T182641Z
UID:10000932-1702882800-1702918800@www.tcotc.com
SUMMARY:Camp K9
DESCRIPTION:Camp K9 @TCOTC is an individualized\, custom day-training program for dogs 5 months and older that combines training with enrichment activities to build your dog’s confidence and establish positive behaviors. To learn more\, visit the Camp K9 Web page.
URL:https://www.tcotc.com/event/camp-k9-2/2023-12-18/
LOCATION:Ring Rm\, Mtg Rm & Star Rm
CATEGORIES:Camp K9
END:VEVENT
BEGIN:VEVENT
DTSTART;TZID=America/Chicago:20231215T070000
DTEND;TZID=America/Chicago:20231215T070000
DTSTAMP:20260421T125742
CREATED:20230810T160410Z
LAST-MODIFIED:20231229T183317Z
UID:10001028-1702623600-1702623600@www.tcotc.com
SUMMARY:Camp K9
DESCRIPTION:Camp K9 @TCOTC is an individualized\, custom day-training program for dogs 5 months and older that combines training with enrichment activities to build your dog’s confidence and establish positive behaviors. To learn more\, visit the Camp K9 Web page.
URL:https://www.tcotc.com/event/camp-k9-7/2023-12-15/
LOCATION:Ring Rm\, Mtg Rm & Star Rm
CATEGORIES:Camp K9
END:VEVENT
BEGIN:VEVENT
DTSTART;TZID=America/Chicago:20231214T070000
DTEND;TZID=America/Chicago:20231214T170000
DTSTAMP:20260421T125742
CREATED:20230810T155658Z
LAST-MODIFIED:20240624T175359Z
UID:10001005-1702537200-1702573200@www.tcotc.com
SUMMARY:Camp K9
DESCRIPTION:Camp K9 @TCOTC is an individualized\, custom day-training program for dogs 5 months and older that combines training with enrichment activities to build your dog’s confidence and establish positive behaviors. To learn more\, visit the Camp K9 Web page.
URL:https://www.tcotc.com/event/camp-k9-5/2023-12-14/
LOCATION:Ring Rm\, Mtg Rm & Star Rm
CATEGORIES:Camp K9
END:VEVENT
BEGIN:VEVENT
DTSTART;TZID=America/Chicago:20231213T070000
DTEND;TZID=America/Chicago:20231213T170000
DTSTAMP:20260421T125742
CREATED:20230810T155310Z
LAST-MODIFIED:20231229T182844Z
UID:10000981-1702450800-1702486800@www.tcotc.com
SUMMARY:Camp K9
DESCRIPTION:Camp K9 @TCOTC is an individualized\, custom day-training program for dogs 5 months and older that combines training with enrichment activities to build your dog’s confidence and establish positive behaviors. To learn more\, visit the Camp K9 Web page.
URL:https://www.tcotc.com/event/camp-k9-4/2023-12-13/
LOCATION:Ring Rm\, Mtg Rm & Star Rm
CATEGORIES:Camp K9
END:VEVENT
BEGIN:VEVENT
DTSTART;TZID=America/Chicago:20231211T070000
DTEND;TZID=America/Chicago:20231211T170000
DTSTAMP:20260421T125742
CREATED:20230810T155151Z
LAST-MODIFIED:20231229T182641Z
UID:10000931-1702278000-1702314000@www.tcotc.com
SUMMARY:Camp K9
DESCRIPTION:Camp K9 @TCOTC is an individualized\, custom day-training program for dogs 5 months and older that combines training with enrichment activities to build your dog’s confidence and establish positive behaviors. To learn more\, visit the Camp K9 Web page.
URL:https://www.tcotc.com/event/camp-k9-2/2023-12-11/
LOCATION:Ring Rm\, Mtg Rm & Star Rm
CATEGORIES:Camp K9
END:VEVENT
BEGIN:VEVENT
DTSTART;TZID=America/Chicago:20231208T070000
DTEND;TZID=America/Chicago:20231208T070000
DTSTAMP:20260421T125742
CREATED:20230810T160410Z
LAST-MODIFIED:20231229T183317Z
UID:10001027-1702018800-1702018800@www.tcotc.com
SUMMARY:Camp K9
DESCRIPTION:Camp K9 @TCOTC is an individualized\, custom day-training program for dogs 5 months and older that combines training with enrichment activities to build your dog’s confidence and establish positive behaviors. To learn more\, visit the Camp K9 Web page.
URL:https://www.tcotc.com/event/camp-k9-7/2023-12-08/
LOCATION:Ring Rm\, Mtg Rm & Star Rm
CATEGORIES:Camp K9
END:VEVENT
BEGIN:VEVENT
DTSTART;TZID=America/Chicago:20231207T070000
DTEND;TZID=America/Chicago:20231207T170000
DTSTAMP:20260421T125742
CREATED:20230810T155658Z
LAST-MODIFIED:20240624T175359Z
UID:10001004-1701932400-1701968400@www.tcotc.com
SUMMARY:Camp K9
DESCRIPTION:Camp K9 @TCOTC is an individualized\, custom day-training program for dogs 5 months and older that combines training with enrichment activities to build your dog’s confidence and establish positive behaviors. To learn more\, visit the Camp K9 Web page.
URL:https://www.tcotc.com/event/camp-k9-5/2023-12-07/
LOCATION:Ring Rm\, Mtg Rm & Star Rm
CATEGORIES:Camp K9
END:VEVENT
BEGIN:VEVENT
DTSTART;TZID=America/Chicago:20231206T070000
DTEND;TZID=America/Chicago:20231206T170000
DTSTAMP:20260421T125742
CREATED:20230810T155310Z
LAST-MODIFIED:20231229T182844Z
UID:10000980-1701846000-1701882000@www.tcotc.com
SUMMARY:Camp K9
DESCRIPTION:Camp K9 @TCOTC is an individualized\, custom day-training program for dogs 5 months and older that combines training with enrichment activities to build your dog’s confidence and establish positive behaviors. To learn more\, visit the Camp K9 Web page.
URL:https://www.tcotc.com/event/camp-k9-4/2023-12-06/
LOCATION:Ring Rm\, Mtg Rm & Star Rm
CATEGORIES:Camp K9
END:VEVENT
BEGIN:VEVENT
DTSTART;TZID=America/Chicago:20231204T070000
DTEND;TZID=America/Chicago:20231204T170000
DTSTAMP:20260421T125742
CREATED:20230810T155151Z
LAST-MODIFIED:20231229T182641Z
UID:10000930-1701673200-1701709200@www.tcotc.com
SUMMARY:Camp K9
DESCRIPTION:Camp K9 @TCOTC is an individualized\, custom day-training program for dogs 5 months and older that combines training with enrichment activities to build your dog’s confidence and establish positive behaviors. To learn more\, visit the Camp K9 Web page.
URL:https://www.tcotc.com/event/camp-k9-2/2023-12-04/
LOCATION:Ring Rm\, Mtg Rm & Star Rm
CATEGORIES:Camp K9
END:VEVENT
BEGIN:VEVENT
DTSTART;TZID=America/Chicago:20231201T070000
DTEND;TZID=America/Chicago:20231201T070000
DTSTAMP:20260421T125742
CREATED:20230810T160410Z
LAST-MODIFIED:20231229T183317Z
UID:10001026-1701414000-1701414000@www.tcotc.com
SUMMARY:Camp K9
DESCRIPTION:Camp K9 @TCOTC is an individualized\, custom day-training program for dogs 5 months and older that combines training with enrichment activities to build your dog’s confidence and establish positive behaviors. To learn more\, visit the Camp K9 Web page.
URL:https://www.tcotc.com/event/camp-k9-7/2023-12-01/
LOCATION:Ring Rm\, Mtg Rm & Star Rm
CATEGORIES:Camp K9
END:VEVENT
BEGIN:VEVENT
DTSTART;TZID=America/Chicago:20231130T070000
DTEND;TZID=America/Chicago:20231130T170000
DTSTAMP:20260421T125742
CREATED:20230810T155658Z
LAST-MODIFIED:20240624T175359Z
UID:10001003-1701327600-1701363600@www.tcotc.com
SUMMARY:Camp K9
DESCRIPTION:Camp K9 @TCOTC is an individualized\, custom day-training program for dogs 5 months and older that combines training with enrichment activities to build your dog’s confidence and establish positive behaviors. To learn more\, visit the Camp K9 Web page.
URL:https://www.tcotc.com/event/camp-k9-5/2023-11-30/
LOCATION:Ring Rm\, Mtg Rm & Star Rm
CATEGORIES:Camp K9
END:VEVENT
BEGIN:VEVENT
DTSTART;TZID=America/Chicago:20231129T070000
DTEND;TZID=America/Chicago:20231129T170000
DTSTAMP:20260421T125742
CREATED:20230810T155310Z
LAST-MODIFIED:20231229T182844Z
UID:10000979-1701241200-1701277200@www.tcotc.com
SUMMARY:Camp K9
DESCRIPTION:Camp K9 @TCOTC is an individualized\, custom day-training program for dogs 5 months and older that combines training with enrichment activities to build your dog’s confidence and establish positive behaviors. To learn more\, visit the Camp K9 Web page.
URL:https://www.tcotc.com/event/camp-k9-4/2023-11-29/
LOCATION:Ring Rm\, Mtg Rm & Star Rm
CATEGORIES:Camp K9
END:VEVENT
END:VCALENDAR