BEGIN:VCALENDAR
VERSION:2.0
PRODID:-//Twin Cities Obedience Training Club - ECPv6.15.13//NONSGML v1.0//EN
CALSCALE:GREGORIAN
METHOD:PUBLISH
X-WR-CALNAME:Twin Cities Obedience Training Club
X-ORIGINAL-URL:https://www.tcotc.com
X-WR-CALDESC:Events for Twin Cities Obedience Training Club
REFRESH-INTERVAL;VALUE=DURATION:PT1H
X-Robots-Tag:noindex
X-PUBLISHED-TTL:PT1H
BEGIN:VTIMEZONE
TZID:America/Chicago
BEGIN:DAYLIGHT
TZOFFSETFROM:-0600
TZOFFSETTO:-0500
TZNAME:CDT
DTSTART:20230312T080000
END:DAYLIGHT
BEGIN:STANDARD
TZOFFSETFROM:-0500
TZOFFSETTO:-0600
TZNAME:CST
DTSTART:20231105T070000
END:STANDARD
BEGIN:DAYLIGHT
TZOFFSETFROM:-0600
TZOFFSETTO:-0500
TZNAME:CDT
DTSTART:20240310T080000
END:DAYLIGHT
BEGIN:STANDARD
TZOFFSETFROM:-0500
TZOFFSETTO:-0600
TZNAME:CST
DTSTART:20241103T070000
END:STANDARD
BEGIN:DAYLIGHT
TZOFFSETFROM:-0600
TZOFFSETTO:-0500
TZNAME:CDT
DTSTART:20250309T080000
END:DAYLIGHT
BEGIN:STANDARD
TZOFFSETFROM:-0500
TZOFFSETTO:-0600
TZNAME:CST
DTSTART:20251102T070000
END:STANDARD
END:VTIMEZONE
BEGIN:VEVENT
DTSTART;TZID=America/Chicago:20240926T070000
DTEND;TZID=America/Chicago:20240926T170000
DTSTAMP:20260421T083617
CREATED:20230810T155658Z
LAST-MODIFIED:20240624T175359Z
UID:10006182-1727334000-1727370000@www.tcotc.com
SUMMARY:Camp K9
DESCRIPTION:Camp K9 @TCOTC is an individualized\, custom day-training program for dogs 5 months and older that combines training with enrichment activities to build your dog’s confidence and establish positive behaviors. To learn more\, visit the Camp K9 Web page.
URL:https://www.tcotc.com/event/camp-k9-5/2024-09-26/
LOCATION:Ring Rm\, Mtg Rm & Star Rm
CATEGORIES:Camp K9
END:VEVENT
BEGIN:VEVENT
DTSTART;TZID=America/Chicago:20240925T070000
DTEND;TZID=America/Chicago:20240925T170000
DTSTAMP:20260421T083617
CREATED:20230810T155310Z
LAST-MODIFIED:20231229T182844Z
UID:10006131-1727247600-1727283600@www.tcotc.com
SUMMARY:Camp K9
DESCRIPTION:Camp K9 @TCOTC is an individualized\, custom day-training program for dogs 5 months and older that combines training with enrichment activities to build your dog’s confidence and establish positive behaviors. To learn more\, visit the Camp K9 Web page.
URL:https://www.tcotc.com/event/camp-k9-4/2024-09-25/
LOCATION:Ring Rm\, Mtg Rm & Star Rm
CATEGORIES:Camp K9
END:VEVENT
BEGIN:VEVENT
DTSTART;TZID=America/Chicago:20240923T070000
DTEND;TZID=America/Chicago:20240923T170000
DTSTAMP:20260421T083617
CREATED:20230810T155151Z
LAST-MODIFIED:20231229T182641Z
UID:10006078-1727074800-1727110800@www.tcotc.com
SUMMARY:Camp K9
DESCRIPTION:Camp K9 @TCOTC is an individualized\, custom day-training program for dogs 5 months and older that combines training with enrichment activities to build your dog’s confidence and establish positive behaviors. To learn more\, visit the Camp K9 Web page.
URL:https://www.tcotc.com/event/camp-k9-2/2024-09-23/
LOCATION:Ring Rm\, Mtg Rm & Star Rm
CATEGORIES:Camp K9
END:VEVENT
BEGIN:VEVENT
DTSTART;TZID=America/Chicago:20240919T070000
DTEND;TZID=America/Chicago:20240919T170000
DTSTAMP:20260421T083617
CREATED:20230810T155658Z
LAST-MODIFIED:20240624T175359Z
UID:10006181-1726729200-1726765200@www.tcotc.com
SUMMARY:Camp K9
DESCRIPTION:Camp K9 @TCOTC is an individualized\, custom day-training program for dogs 5 months and older that combines training with enrichment activities to build your dog’s confidence and establish positive behaviors. To learn more\, visit the Camp K9 Web page.
URL:https://www.tcotc.com/event/camp-k9-5/2024-09-19/
LOCATION:Ring Rm\, Mtg Rm & Star Rm
CATEGORIES:Camp K9
END:VEVENT
BEGIN:VEVENT
DTSTART;TZID=America/Chicago:20240918T070000
DTEND;TZID=America/Chicago:20240918T170000
DTSTAMP:20260421T083617
CREATED:20230810T155310Z
LAST-MODIFIED:20231229T182844Z
UID:10006130-1726642800-1726678800@www.tcotc.com
SUMMARY:Camp K9
DESCRIPTION:Camp K9 @TCOTC is an individualized\, custom day-training program for dogs 5 months and older that combines training with enrichment activities to build your dog’s confidence and establish positive behaviors. To learn more\, visit the Camp K9 Web page.
URL:https://www.tcotc.com/event/camp-k9-4/2024-09-18/
LOCATION:Ring Rm\, Mtg Rm & Star Rm
CATEGORIES:Camp K9
END:VEVENT
BEGIN:VEVENT
DTSTART;TZID=America/Chicago:20240916T070000
DTEND;TZID=America/Chicago:20240916T170000
DTSTAMP:20260421T083617
CREATED:20230810T155151Z
LAST-MODIFIED:20231229T182641Z
UID:10006077-1726470000-1726506000@www.tcotc.com
SUMMARY:Camp K9
DESCRIPTION:Camp K9 @TCOTC is an individualized\, custom day-training program for dogs 5 months and older that combines training with enrichment activities to build your dog’s confidence and establish positive behaviors. To learn more\, visit the Camp K9 Web page.
URL:https://www.tcotc.com/event/camp-k9-2/2024-09-16/
LOCATION:Ring Rm\, Mtg Rm & Star Rm
CATEGORIES:Camp K9
END:VEVENT
BEGIN:VEVENT
DTSTART;TZID=America/Chicago:20240912T070000
DTEND;TZID=America/Chicago:20240912T170000
DTSTAMP:20260421T083617
CREATED:20230810T155658Z
LAST-MODIFIED:20240624T175359Z
UID:10006180-1726124400-1726160400@www.tcotc.com
SUMMARY:Camp K9
DESCRIPTION:Camp K9 @TCOTC is an individualized\, custom day-training program for dogs 5 months and older that combines training with enrichment activities to build your dog’s confidence and establish positive behaviors. To learn more\, visit the Camp K9 Web page.
URL:https://www.tcotc.com/event/camp-k9-5/2024-09-12/
LOCATION:Ring Rm\, Mtg Rm & Star Rm
CATEGORIES:Camp K9
END:VEVENT
BEGIN:VEVENT
DTSTART;TZID=America/Chicago:20240911T070000
DTEND;TZID=America/Chicago:20240911T170000
DTSTAMP:20260421T083617
CREATED:20230810T155310Z
LAST-MODIFIED:20231229T182844Z
UID:10006129-1726038000-1726074000@www.tcotc.com
SUMMARY:Camp K9
DESCRIPTION:Camp K9 @TCOTC is an individualized\, custom day-training program for dogs 5 months and older that combines training with enrichment activities to build your dog’s confidence and establish positive behaviors. To learn more\, visit the Camp K9 Web page.
URL:https://www.tcotc.com/event/camp-k9-4/2024-09-11/
LOCATION:Ring Rm\, Mtg Rm & Star Rm
CATEGORIES:Camp K9
END:VEVENT
BEGIN:VEVENT
DTSTART;TZID=America/Chicago:20240909T070000
DTEND;TZID=America/Chicago:20240909T170000
DTSTAMP:20260421T083617
CREATED:20230810T155151Z
LAST-MODIFIED:20231229T182641Z
UID:10006076-1725865200-1725901200@www.tcotc.com
SUMMARY:Camp K9
DESCRIPTION:Camp K9 @TCOTC is an individualized\, custom day-training program for dogs 5 months and older that combines training with enrichment activities to build your dog’s confidence and establish positive behaviors. To learn more\, visit the Camp K9 Web page.
URL:https://www.tcotc.com/event/camp-k9-2/2024-09-09/
LOCATION:Ring Rm\, Mtg Rm & Star Rm
CATEGORIES:Camp K9
END:VEVENT
BEGIN:VEVENT
DTSTART;TZID=America/Chicago:20240905T070000
DTEND;TZID=America/Chicago:20240905T170000
DTSTAMP:20260421T083617
CREATED:20230810T155658Z
LAST-MODIFIED:20240624T175359Z
UID:10006179-1725519600-1725555600@www.tcotc.com
SUMMARY:Camp K9
DESCRIPTION:Camp K9 @TCOTC is an individualized\, custom day-training program for dogs 5 months and older that combines training with enrichment activities to build your dog’s confidence and establish positive behaviors. To learn more\, visit the Camp K9 Web page.
URL:https://www.tcotc.com/event/camp-k9-5/2024-09-05/
LOCATION:Ring Rm\, Mtg Rm & Star Rm
CATEGORIES:Camp K9
END:VEVENT
BEGIN:VEVENT
DTSTART;TZID=America/Chicago:20240904T070000
DTEND;TZID=America/Chicago:20240904T170000
DTSTAMP:20260421T083617
CREATED:20230810T155310Z
LAST-MODIFIED:20231229T182844Z
UID:10006128-1725433200-1725469200@www.tcotc.com
SUMMARY:Camp K9
DESCRIPTION:Camp K9 @TCOTC is an individualized\, custom day-training program for dogs 5 months and older that combines training with enrichment activities to build your dog’s confidence and establish positive behaviors. To learn more\, visit the Camp K9 Web page.
URL:https://www.tcotc.com/event/camp-k9-4/2024-09-04/
LOCATION:Ring Rm\, Mtg Rm & Star Rm
CATEGORIES:Camp K9
END:VEVENT
BEGIN:VEVENT
DTSTART;TZID=America/Chicago:20240829T070000
DTEND;TZID=America/Chicago:20240829T170000
DTSTAMP:20260421T083617
CREATED:20230810T155658Z
LAST-MODIFIED:20240624T175359Z
UID:10006178-1724914800-1724950800@www.tcotc.com
SUMMARY:Camp K9
DESCRIPTION:Camp K9 @TCOTC is an individualized\, custom day-training program for dogs 5 months and older that combines training with enrichment activities to build your dog’s confidence and establish positive behaviors. To learn more\, visit the Camp K9 Web page.
URL:https://www.tcotc.com/event/camp-k9-5/2024-08-29/
LOCATION:Ring Rm\, Mtg Rm & Star Rm
CATEGORIES:Camp K9
END:VEVENT
BEGIN:VEVENT
DTSTART;TZID=America/Chicago:20240828T070000
DTEND;TZID=America/Chicago:20240828T170000
DTSTAMP:20260421T083617
CREATED:20230810T155310Z
LAST-MODIFIED:20231229T182844Z
UID:10006127-1724828400-1724864400@www.tcotc.com
SUMMARY:Camp K9
DESCRIPTION:Camp K9 @TCOTC is an individualized\, custom day-training program for dogs 5 months and older that combines training with enrichment activities to build your dog’s confidence and establish positive behaviors. To learn more\, visit the Camp K9 Web page.
URL:https://www.tcotc.com/event/camp-k9-4/2024-08-28/
LOCATION:Ring Rm\, Mtg Rm & Star Rm
CATEGORIES:Camp K9
END:VEVENT
BEGIN:VEVENT
DTSTART;TZID=America/Chicago:20240826T070000
DTEND;TZID=America/Chicago:20240826T170000
DTSTAMP:20260421T083617
CREATED:20230810T155151Z
LAST-MODIFIED:20231229T182641Z
UID:10006075-1724655600-1724691600@www.tcotc.com
SUMMARY:Camp K9
DESCRIPTION:Camp K9 @TCOTC is an individualized\, custom day-training program for dogs 5 months and older that combines training with enrichment activities to build your dog’s confidence and establish positive behaviors. To learn more\, visit the Camp K9 Web page.
URL:https://www.tcotc.com/event/camp-k9-2/2024-08-26/
LOCATION:Ring Rm\, Mtg Rm & Star Rm
CATEGORIES:Camp K9
END:VEVENT
BEGIN:VEVENT
DTSTART;TZID=America/Chicago:20240822T070000
DTEND;TZID=America/Chicago:20240822T170000
DTSTAMP:20260421T083617
CREATED:20230810T155658Z
LAST-MODIFIED:20240624T175359Z
UID:10006177-1724310000-1724346000@www.tcotc.com
SUMMARY:Camp K9
DESCRIPTION:Camp K9 @TCOTC is an individualized\, custom day-training program for dogs 5 months and older that combines training with enrichment activities to build your dog’s confidence and establish positive behaviors. To learn more\, visit the Camp K9 Web page.
URL:https://www.tcotc.com/event/camp-k9-5/2024-08-22/
LOCATION:Ring Rm\, Mtg Rm & Star Rm
CATEGORIES:Camp K9
END:VEVENT
BEGIN:VEVENT
DTSTART;TZID=America/Chicago:20240821T070000
DTEND;TZID=America/Chicago:20240821T170000
DTSTAMP:20260421T083617
CREATED:20230810T155310Z
LAST-MODIFIED:20231229T182844Z
UID:10006126-1724223600-1724259600@www.tcotc.com
SUMMARY:Camp K9
DESCRIPTION:Camp K9 @TCOTC is an individualized\, custom day-training program for dogs 5 months and older that combines training with enrichment activities to build your dog’s confidence and establish positive behaviors. To learn more\, visit the Camp K9 Web page.
URL:https://www.tcotc.com/event/camp-k9-4/2024-08-21/
LOCATION:Ring Rm\, Mtg Rm & Star Rm
CATEGORIES:Camp K9
END:VEVENT
BEGIN:VEVENT
DTSTART;TZID=America/Chicago:20240819T070000
DTEND;TZID=America/Chicago:20240819T170000
DTSTAMP:20260421T083617
CREATED:20230810T155151Z
LAST-MODIFIED:20231229T182641Z
UID:10006074-1724050800-1724086800@www.tcotc.com
SUMMARY:Camp K9
DESCRIPTION:Camp K9 @TCOTC is an individualized\, custom day-training program for dogs 5 months and older that combines training with enrichment activities to build your dog’s confidence and establish positive behaviors. To learn more\, visit the Camp K9 Web page.
URL:https://www.tcotc.com/event/camp-k9-2/2024-08-19/
LOCATION:Ring Rm\, Mtg Rm & Star Rm
CATEGORIES:Camp K9
END:VEVENT
BEGIN:VEVENT
DTSTART;TZID=America/Chicago:20240815T070000
DTEND;TZID=America/Chicago:20240815T170000
DTSTAMP:20260421T083617
CREATED:20230810T155658Z
LAST-MODIFIED:20240624T175359Z
UID:10006176-1723705200-1723741200@www.tcotc.com
SUMMARY:Camp K9
DESCRIPTION:Camp K9 @TCOTC is an individualized\, custom day-training program for dogs 5 months and older that combines training with enrichment activities to build your dog’s confidence and establish positive behaviors. To learn more\, visit the Camp K9 Web page.
URL:https://www.tcotc.com/event/camp-k9-5/2024-08-15/
LOCATION:Ring Rm\, Mtg Rm & Star Rm
CATEGORIES:Camp K9
END:VEVENT
BEGIN:VEVENT
DTSTART;TZID=America/Chicago:20240814T070000
DTEND;TZID=America/Chicago:20240814T170000
DTSTAMP:20260421T083617
CREATED:20230810T155310Z
LAST-MODIFIED:20231229T182844Z
UID:10006125-1723618800-1723654800@www.tcotc.com
SUMMARY:Camp K9
DESCRIPTION:Camp K9 @TCOTC is an individualized\, custom day-training program for dogs 5 months and older that combines training with enrichment activities to build your dog’s confidence and establish positive behaviors. To learn more\, visit the Camp K9 Web page.
URL:https://www.tcotc.com/event/camp-k9-4/2024-08-14/
LOCATION:Ring Rm\, Mtg Rm & Star Rm
CATEGORIES:Camp K9
END:VEVENT
BEGIN:VEVENT
DTSTART;TZID=America/Chicago:20240812T070000
DTEND;TZID=America/Chicago:20240812T170000
DTSTAMP:20260421T083617
CREATED:20230810T155151Z
LAST-MODIFIED:20231229T182641Z
UID:10006073-1723446000-1723482000@www.tcotc.com
SUMMARY:Camp K9
DESCRIPTION:Camp K9 @TCOTC is an individualized\, custom day-training program for dogs 5 months and older that combines training with enrichment activities to build your dog’s confidence and establish positive behaviors. To learn more\, visit the Camp K9 Web page.
URL:https://www.tcotc.com/event/camp-k9-2/2024-08-12/
LOCATION:Ring Rm\, Mtg Rm & Star Rm
CATEGORIES:Camp K9
END:VEVENT
BEGIN:VEVENT
DTSTART;TZID=America/Chicago:20240808T070000
DTEND;TZID=America/Chicago:20240808T170000
DTSTAMP:20260421T083617
CREATED:20230810T155658Z
LAST-MODIFIED:20240624T175359Z
UID:10006175-1723100400-1723136400@www.tcotc.com
SUMMARY:Camp K9
DESCRIPTION:Camp K9 @TCOTC is an individualized\, custom day-training program for dogs 5 months and older that combines training with enrichment activities to build your dog’s confidence and establish positive behaviors. To learn more\, visit the Camp K9 Web page.
URL:https://www.tcotc.com/event/camp-k9-5/2024-08-08/
LOCATION:Ring Rm\, Mtg Rm & Star Rm
CATEGORIES:Camp K9
END:VEVENT
BEGIN:VEVENT
DTSTART;TZID=America/Chicago:20240807T070000
DTEND;TZID=America/Chicago:20240807T170000
DTSTAMP:20260421T083617
CREATED:20230810T155310Z
LAST-MODIFIED:20231229T182844Z
UID:10006124-1723014000-1723050000@www.tcotc.com
SUMMARY:Camp K9
DESCRIPTION:Camp K9 @TCOTC is an individualized\, custom day-training program for dogs 5 months and older that combines training with enrichment activities to build your dog’s confidence and establish positive behaviors. To learn more\, visit the Camp K9 Web page.
URL:https://www.tcotc.com/event/camp-k9-4/2024-08-07/
LOCATION:Ring Rm\, Mtg Rm & Star Rm
CATEGORIES:Camp K9
END:VEVENT
BEGIN:VEVENT
DTSTART;TZID=America/Chicago:20240805T070000
DTEND;TZID=America/Chicago:20240805T170000
DTSTAMP:20260421T083617
CREATED:20230810T155151Z
LAST-MODIFIED:20231229T182641Z
UID:10006072-1722841200-1722877200@www.tcotc.com
SUMMARY:Camp K9
DESCRIPTION:Camp K9 @TCOTC is an individualized\, custom day-training program for dogs 5 months and older that combines training with enrichment activities to build your dog’s confidence and establish positive behaviors. To learn more\, visit the Camp K9 Web page.
URL:https://www.tcotc.com/event/camp-k9-2/2024-08-05/
LOCATION:Ring Rm\, Mtg Rm & Star Rm
CATEGORIES:Camp K9
END:VEVENT
BEGIN:VEVENT
DTSTART;TZID=America/Chicago:20240801T070000
DTEND;TZID=America/Chicago:20240801T170000
DTSTAMP:20260421T083617
CREATED:20230810T155658Z
LAST-MODIFIED:20240624T175359Z
UID:10006174-1722495600-1722531600@www.tcotc.com
SUMMARY:Camp K9
DESCRIPTION:Camp K9 @TCOTC is an individualized\, custom day-training program for dogs 5 months and older that combines training with enrichment activities to build your dog’s confidence and establish positive behaviors. To learn more\, visit the Camp K9 Web page.
URL:https://www.tcotc.com/event/camp-k9-5/2024-08-01/
LOCATION:Ring Rm\, Mtg Rm & Star Rm
CATEGORIES:Camp K9
END:VEVENT
BEGIN:VEVENT
DTSTART;TZID=America/Chicago:20240731T070000
DTEND;TZID=America/Chicago:20240731T170000
DTSTAMP:20260421T083617
CREATED:20230810T155310Z
LAST-MODIFIED:20231229T182844Z
UID:10006123-1722409200-1722445200@www.tcotc.com
SUMMARY:Camp K9
DESCRIPTION:Camp K9 @TCOTC is an individualized\, custom day-training program for dogs 5 months and older that combines training with enrichment activities to build your dog’s confidence and establish positive behaviors. To learn more\, visit the Camp K9 Web page.
URL:https://www.tcotc.com/event/camp-k9-4/2024-07-31/
LOCATION:Ring Rm\, Mtg Rm & Star Rm
CATEGORIES:Camp K9
END:VEVENT
BEGIN:VEVENT
DTSTART;TZID=America/Chicago:20240729T070000
DTEND;TZID=America/Chicago:20240729T170000
DTSTAMP:20260421T083617
CREATED:20230810T155151Z
LAST-MODIFIED:20231229T182641Z
UID:10006071-1722236400-1722272400@www.tcotc.com
SUMMARY:Camp K9
DESCRIPTION:Camp K9 @TCOTC is an individualized\, custom day-training program for dogs 5 months and older that combines training with enrichment activities to build your dog’s confidence and establish positive behaviors. To learn more\, visit the Camp K9 Web page.
URL:https://www.tcotc.com/event/camp-k9-2/2024-07-29/
LOCATION:Ring Rm\, Mtg Rm & Star Rm
CATEGORIES:Camp K9
END:VEVENT
BEGIN:VEVENT
DTSTART;TZID=America/Chicago:20240725T070000
DTEND;TZID=America/Chicago:20240725T170000
DTSTAMP:20260421T083617
CREATED:20230810T155658Z
LAST-MODIFIED:20240624T175359Z
UID:10006173-1721890800-1721926800@www.tcotc.com
SUMMARY:Camp K9
DESCRIPTION:Camp K9 @TCOTC is an individualized\, custom day-training program for dogs 5 months and older that combines training with enrichment activities to build your dog’s confidence and establish positive behaviors. To learn more\, visit the Camp K9 Web page.
URL:https://www.tcotc.com/event/camp-k9-5/2024-07-25/
LOCATION:Ring Rm\, Mtg Rm & Star Rm
CATEGORIES:Camp K9
END:VEVENT
BEGIN:VEVENT
DTSTART;TZID=America/Chicago:20240724T070000
DTEND;TZID=America/Chicago:20240724T170000
DTSTAMP:20260421T083617
CREATED:20230810T155310Z
LAST-MODIFIED:20231229T182844Z
UID:10006122-1721804400-1721840400@www.tcotc.com
SUMMARY:Camp K9
DESCRIPTION:Camp K9 @TCOTC is an individualized\, custom day-training program for dogs 5 months and older that combines training with enrichment activities to build your dog’s confidence and establish positive behaviors. To learn more\, visit the Camp K9 Web page.
URL:https://www.tcotc.com/event/camp-k9-4/2024-07-24/
LOCATION:Ring Rm\, Mtg Rm & Star Rm
CATEGORIES:Camp K9
END:VEVENT
BEGIN:VEVENT
DTSTART;TZID=America/Chicago:20240722T070000
DTEND;TZID=America/Chicago:20240722T170000
DTSTAMP:20260421T083617
CREATED:20230810T155151Z
LAST-MODIFIED:20231229T182641Z
UID:10006070-1721631600-1721667600@www.tcotc.com
SUMMARY:Camp K9
DESCRIPTION:Camp K9 @TCOTC is an individualized\, custom day-training program for dogs 5 months and older that combines training with enrichment activities to build your dog’s confidence and establish positive behaviors. To learn more\, visit the Camp K9 Web page.
URL:https://www.tcotc.com/event/camp-k9-2/2024-07-22/
LOCATION:Ring Rm\, Mtg Rm & Star Rm
CATEGORIES:Camp K9
END:VEVENT
BEGIN:VEVENT
DTSTART;TZID=America/Chicago:20240718T070000
DTEND;TZID=America/Chicago:20240718T170000
DTSTAMP:20260421T083618
CREATED:20230810T155658Z
LAST-MODIFIED:20240624T175359Z
UID:10006172-1721286000-1721322000@www.tcotc.com
SUMMARY:Camp K9
DESCRIPTION:Camp K9 @TCOTC is an individualized\, custom day-training program for dogs 5 months and older that combines training with enrichment activities to build your dog’s confidence and establish positive behaviors. To learn more\, visit the Camp K9 Web page.
URL:https://www.tcotc.com/event/camp-k9-5/2024-07-18/
LOCATION:Ring Rm\, Mtg Rm & Star Rm
CATEGORIES:Camp K9
END:VEVENT
END:VCALENDAR