BEGIN:VCALENDAR
VERSION:2.0
PRODID:-//Twin Cities Obedience Training Club - ECPv6.15.13//NONSGML v1.0//EN
CALSCALE:GREGORIAN
METHOD:PUBLISH
X-ORIGINAL-URL:https://www.tcotc.com
X-WR-CALDESC:Events for Twin Cities Obedience Training Club
REFRESH-INTERVAL;VALUE=DURATION:PT1H
X-Robots-Tag:noindex
X-PUBLISHED-TTL:PT1H
BEGIN:VTIMEZONE
TZID:America/Chicago
BEGIN:DAYLIGHT
TZOFFSETFROM:-0600
TZOFFSETTO:-0500
TZNAME:CDT
DTSTART:20220313T080000
END:DAYLIGHT
BEGIN:STANDARD
TZOFFSETFROM:-0500
TZOFFSETTO:-0600
TZNAME:CST
DTSTART:20221106T070000
END:STANDARD
BEGIN:DAYLIGHT
TZOFFSETFROM:-0600
TZOFFSETTO:-0500
TZNAME:CDT
DTSTART:20230312T080000
END:DAYLIGHT
BEGIN:STANDARD
TZOFFSETFROM:-0500
TZOFFSETTO:-0600
TZNAME:CST
DTSTART:20231105T070000
END:STANDARD
BEGIN:DAYLIGHT
TZOFFSETFROM:-0600
TZOFFSETTO:-0500
TZNAME:CDT
DTSTART:20240310T080000
END:DAYLIGHT
BEGIN:STANDARD
TZOFFSETFROM:-0500
TZOFFSETTO:-0600
TZNAME:CST
DTSTART:20241103T070000
END:STANDARD
BEGIN:DAYLIGHT
TZOFFSETFROM:-0600
TZOFFSETTO:-0500
TZNAME:CDT
DTSTART:20250309T080000
END:DAYLIGHT
BEGIN:STANDARD
TZOFFSETFROM:-0500
TZOFFSETTO:-0600
TZNAME:CST
DTSTART:20251102T070000
END:STANDARD
END:VTIMEZONE
BEGIN:VEVENT
DTSTART;TZID=America/Chicago:20240430T180000
DTEND;TZID=America/Chicago:20240430T193000
DTSTAMP:20260423T040118
CREATED:20240326T132413Z
LAST-MODIFIED:20241119T175144Z
UID:10006808-1714500000-1714505400@www.tcotc.com
SUMMARY:Changing Attitudes
DESCRIPTION:6:00 p.m. – 7:30 p.m. in the Star Room
URL:https://www.tcotc.com/event/changing-attitues/2024-04-30/
LOCATION:Star Room
CATEGORIES:Behavior
END:VEVENT
BEGIN:VEVENT
DTSTART;TZID=America/Chicago:20240423T180000
DTEND;TZID=America/Chicago:20240423T193000
DTSTAMP:20260423T040118
CREATED:20240326T132413Z
LAST-MODIFIED:20241119T175144Z
UID:10006807-1713895200-1713900600@www.tcotc.com
SUMMARY:Changing Attitudes
DESCRIPTION:6:00 p.m. – 7:30 p.m. in the Star Room
URL:https://www.tcotc.com/event/changing-attitues/2024-04-23/
LOCATION:Star Room
CATEGORIES:Behavior
END:VEVENT
BEGIN:VEVENT
DTSTART;TZID=America/Chicago:20240416T180000
DTEND;TZID=America/Chicago:20240416T193000
DTSTAMP:20260423T040118
CREATED:20240326T132413Z
LAST-MODIFIED:20241119T175144Z
UID:10006806-1713290400-1713295800@www.tcotc.com
SUMMARY:Changing Attitudes
DESCRIPTION:6:00 p.m. – 7:30 p.m. in the Star Room
URL:https://www.tcotc.com/event/changing-attitues/2024-04-16/
LOCATION:Star Room
CATEGORIES:Behavior
END:VEVENT
BEGIN:VEVENT
DTSTART;TZID=America/Chicago:20240409T180000
DTEND;TZID=America/Chicago:20240409T193000
DTSTAMP:20260423T040118
CREATED:20240326T132413Z
LAST-MODIFIED:20241119T175144Z
UID:10006805-1712685600-1712691000@www.tcotc.com
SUMMARY:Changing Attitudes
DESCRIPTION:6:00 p.m. – 7:30 p.m. in the Star Room
URL:https://www.tcotc.com/event/changing-attitues/2024-04-09/
LOCATION:Star Room
CATEGORIES:Behavior
END:VEVENT
BEGIN:VEVENT
DTSTART;TZID=America/Chicago:20240402T180000
DTEND;TZID=America/Chicago:20240402T193000
DTSTAMP:20260423T040118
CREATED:20240326T132413Z
LAST-MODIFIED:20241119T175144Z
UID:10006804-1712080800-1712086200@www.tcotc.com
SUMMARY:Changing Attitudes
DESCRIPTION:6:00 p.m. – 7:30 p.m. in the Star Room
URL:https://www.tcotc.com/event/changing-attitues/2024-04-02/
LOCATION:Star Room
CATEGORIES:Behavior
END:VEVENT
BEGIN:VEVENT
DTSTART;TZID=America/Chicago:20240326T180000
DTEND;TZID=America/Chicago:20240326T193000
DTSTAMP:20260423T040118
CREATED:20240326T132413Z
LAST-MODIFIED:20241119T175144Z
UID:10006803-1711476000-1711481400@www.tcotc.com
SUMMARY:Changing Attitudes
DESCRIPTION:6:00 p.m. – 7:30 p.m. in the Star Room
URL:https://www.tcotc.com/event/changing-attitues/2024-03-26/
LOCATION:Star Room
CATEGORIES:Behavior
END:VEVENT
BEGIN:VEVENT
DTSTART;TZID=America/Chicago:20240319T180000
DTEND;TZID=America/Chicago:20240319T193000
DTSTAMP:20260423T040118
CREATED:20240326T132413Z
LAST-MODIFIED:20241119T175144Z
UID:10006799-1710871200-1710876600@www.tcotc.com
SUMMARY:Changing Attitudes
DESCRIPTION:6:00 p.m. – 7:30 p.m. in the Star Room
URL:https://www.tcotc.com/event/changing-attitues/2024-03-19/
LOCATION:Star Room
CATEGORIES:Behavior
END:VEVENT
BEGIN:VEVENT
DTSTART;TZID=America/Chicago:20231212T180000
DTEND;TZID=America/Chicago:20231212T193000
DTSTAMP:20260423T040118
CREATED:20230810T150652Z
LAST-MODIFIED:20230827T233003Z
UID:10004894-1702404000-1702409400@www.tcotc.com
SUMMARY:Changing Attitudes
DESCRIPTION:6:00 p.m. – 7:30 p.m. – Star Room
URL:https://www.tcotc.com/event/changing-attitudes-7/2023-12-12/
LOCATION:Star Room
CATEGORIES:Behavior
END:VEVENT
BEGIN:VEVENT
DTSTART;TZID=America/Chicago:20231205T180000
DTEND;TZID=America/Chicago:20231205T193000
DTSTAMP:20260423T040118
CREATED:20230810T150652Z
LAST-MODIFIED:20230827T233003Z
UID:10004893-1701799200-1701804600@www.tcotc.com
SUMMARY:Changing Attitudes
DESCRIPTION:6:00 p.m. – 7:30 p.m. – Star Room
URL:https://www.tcotc.com/event/changing-attitudes-7/2023-12-05/
LOCATION:Star Room
CATEGORIES:Behavior
END:VEVENT
BEGIN:VEVENT
DTSTART;TZID=America/Chicago:20231128T180000
DTEND;TZID=America/Chicago:20231128T193000
DTSTAMP:20260423T040118
CREATED:20230810T150652Z
LAST-MODIFIED:20230827T233003Z
UID:10004892-1701194400-1701199800@www.tcotc.com
SUMMARY:Changing Attitudes
DESCRIPTION:6:00 p.m. – 7:30 p.m. – Star Room
URL:https://www.tcotc.com/event/changing-attitudes-7/2023-11-28/
LOCATION:Star Room
CATEGORIES:Behavior
END:VEVENT
BEGIN:VEVENT
DTSTART;TZID=America/Chicago:20231121T180000
DTEND;TZID=America/Chicago:20231121T193000
DTSTAMP:20260423T040118
CREATED:20230810T150652Z
LAST-MODIFIED:20230827T233003Z
UID:10004891-1700589600-1700595000@www.tcotc.com
SUMMARY:Changing Attitudes
DESCRIPTION:6:00 p.m. – 7:30 p.m. – Star Room
URL:https://www.tcotc.com/event/changing-attitudes-7/2023-11-21/
LOCATION:Star Room
CATEGORIES:Behavior
END:VEVENT
BEGIN:VEVENT
DTSTART;TZID=America/Chicago:20231114T180000
DTEND;TZID=America/Chicago:20231114T193000
DTSTAMP:20260423T040118
CREATED:20230810T150652Z
LAST-MODIFIED:20230827T233003Z
UID:10004890-1699984800-1699990200@www.tcotc.com
SUMMARY:Changing Attitudes
DESCRIPTION:6:00 p.m. – 7:30 p.m. – Star Room
URL:https://www.tcotc.com/event/changing-attitudes-7/2023-11-14/
LOCATION:Star Room
CATEGORIES:Behavior
END:VEVENT
BEGIN:VEVENT
DTSTART;TZID=America/Chicago:20231107T180000
DTEND;TZID=America/Chicago:20231107T193000
DTSTAMP:20260423T040118
CREATED:20230810T150652Z
LAST-MODIFIED:20230827T233003Z
UID:10004889-1699380000-1699385400@www.tcotc.com
SUMMARY:Changing Attitudes
DESCRIPTION:6:00 p.m. – 7:30 p.m. – Star Room
URL:https://www.tcotc.com/event/changing-attitudes-7/2023-11-07/
LOCATION:Star Room
CATEGORIES:Behavior
END:VEVENT
BEGIN:VEVENT
DTSTART;TZID=America/Chicago:20231031T180000
DTEND;TZID=America/Chicago:20231031T193000
DTSTAMP:20260423T040118
CREATED:20230810T150652Z
LAST-MODIFIED:20230827T233003Z
UID:10004888-1698775200-1698780600@www.tcotc.com
SUMMARY:Changing Attitudes
DESCRIPTION:6:00 p.m. – 7:30 p.m. – Star Room
URL:https://www.tcotc.com/event/changing-attitudes-7/2023-10-31/
LOCATION:Star Room
CATEGORIES:Behavior
END:VEVENT
BEGIN:VEVENT
DTSTART;TZID=America/Chicago:20231024T180000
DTEND;TZID=America/Chicago:20231024T193000
DTSTAMP:20260423T040118
CREATED:20230810T150652Z
LAST-MODIFIED:20230827T233003Z
UID:10004887-1698170400-1698175800@www.tcotc.com
SUMMARY:Changing Attitudes
DESCRIPTION:6:00 p.m. – 7:30 p.m. – Star Room
URL:https://www.tcotc.com/event/changing-attitudes-7/2023-10-24/
LOCATION:Star Room
CATEGORIES:Behavior
END:VEVENT
BEGIN:VEVENT
DTSTART;TZID=America/Chicago:20231017T180000
DTEND;TZID=America/Chicago:20231017T193000
DTSTAMP:20260423T040118
CREATED:20230810T150652Z
LAST-MODIFIED:20230827T233003Z
UID:10004886-1697565600-1697571000@www.tcotc.com
SUMMARY:Changing Attitudes
DESCRIPTION:6:00 p.m. – 7:30 p.m. – Star Room
URL:https://www.tcotc.com/event/changing-attitudes-7/2023-10-17/
LOCATION:Star Room
CATEGORIES:Behavior
END:VEVENT
BEGIN:VEVENT
DTSTART;TZID=America/Chicago:20231003T180000
DTEND;TZID=America/Chicago:20231003T193000
DTSTAMP:20260423T040118
CREATED:20230810T150513Z
LAST-MODIFIED:20230810T150513Z
UID:10000821-1696356000-1696361400@www.tcotc.com
SUMMARY:Changing Attitudes
DESCRIPTION:6:00 p.m. – 7:30 p.m. – Star Room
URL:https://www.tcotc.com/event/changing-attitudes-5/2023-10-03/
LOCATION:Star Room
CATEGORIES:Behavior
END:VEVENT
BEGIN:VEVENT
DTSTART;TZID=America/Chicago:20230926T180000
DTEND;TZID=America/Chicago:20230926T193000
DTSTAMP:20260423T040118
CREATED:20230810T150513Z
LAST-MODIFIED:20230810T150513Z
UID:10000820-1695751200-1695756600@www.tcotc.com
SUMMARY:Changing Attitudes
DESCRIPTION:6:00 p.m. – 7:30 p.m. – Star Room
URL:https://www.tcotc.com/event/changing-attitudes-5/2023-09-26/
LOCATION:Star Room
CATEGORIES:Behavior
END:VEVENT
BEGIN:VEVENT
DTSTART;TZID=America/Chicago:20230919T180000
DTEND;TZID=America/Chicago:20230919T193000
DTSTAMP:20260423T040118
CREATED:20230810T150513Z
LAST-MODIFIED:20230810T150513Z
UID:10000819-1695146400-1695151800@www.tcotc.com
SUMMARY:Changing Attitudes
DESCRIPTION:6:00 p.m. – 7:30 p.m. – Star Room
URL:https://www.tcotc.com/event/changing-attitudes-5/2023-09-19/
LOCATION:Star Room
CATEGORIES:Behavior
END:VEVENT
BEGIN:VEVENT
DTSTART;TZID=America/Chicago:20230912T180000
DTEND;TZID=America/Chicago:20230912T193000
DTSTAMP:20260423T040118
CREATED:20230810T150513Z
LAST-MODIFIED:20230810T150513Z
UID:10000818-1694541600-1694547000@www.tcotc.com
SUMMARY:Changing Attitudes
DESCRIPTION:6:00 p.m. – 7:30 p.m. – Star Room
URL:https://www.tcotc.com/event/changing-attitudes-5/2023-09-12/
LOCATION:Star Room
CATEGORIES:Behavior
END:VEVENT
BEGIN:VEVENT
DTSTART;TZID=America/Chicago:20230905T180000
DTEND;TZID=America/Chicago:20230905T193000
DTSTAMP:20260423T040118
CREATED:20230810T150513Z
LAST-MODIFIED:20230810T150513Z
UID:10000817-1693936800-1693942200@www.tcotc.com
SUMMARY:Changing Attitudes
DESCRIPTION:6:00 p.m. – 7:30 p.m. – Star Room
URL:https://www.tcotc.com/event/changing-attitudes-5/2023-09-05/
LOCATION:Star Room
CATEGORIES:Behavior
END:VEVENT
BEGIN:VEVENT
DTSTART;TZID=America/Chicago:20230829T180000
DTEND;TZID=America/Chicago:20230829T193000
DTSTAMP:20260423T040118
CREATED:20230810T150513Z
LAST-MODIFIED:20230810T150513Z
UID:10000816-1693332000-1693337400@www.tcotc.com
SUMMARY:Changing Attitudes
DESCRIPTION:6:00 p.m. – 7:30 p.m. – Star Room
URL:https://www.tcotc.com/event/changing-attitudes-5/2023-08-29/
LOCATION:Star Room
CATEGORIES:Behavior
END:VEVENT
BEGIN:VEVENT
DTSTART;TZID=America/Chicago:20230822T180000
DTEND;TZID=America/Chicago:20230822T193000
DTSTAMP:20260423T040118
CREATED:20230810T150513Z
LAST-MODIFIED:20230810T150513Z
UID:10000815-1692727200-1692732600@www.tcotc.com
SUMMARY:Changing Attitudes
DESCRIPTION:6:00 p.m. – 7:30 p.m. – Star Room
URL:https://www.tcotc.com/event/changing-attitudes-5/2023-08-22/
LOCATION:Star Room
CATEGORIES:Behavior
END:VEVENT
BEGIN:VEVENT
DTSTART;TZID=America/Chicago:20230815T180000
DTEND;TZID=America/Chicago:20230815T193000
DTSTAMP:20260423T040118
CREATED:20230810T150513Z
LAST-MODIFIED:20230810T150513Z
UID:10000814-1692122400-1692127800@www.tcotc.com
SUMMARY:Changing Attitudes
DESCRIPTION:6:00 p.m. – 7:30 p.m. – Star Room
URL:https://www.tcotc.com/event/changing-attitudes-5/2023-08-15/
LOCATION:Star Room
CATEGORIES:Behavior
END:VEVENT
BEGIN:VEVENT
DTSTART;TZID=America/Chicago:20230808T180000
DTEND;TZID=America/Chicago:20230808T193000
DTSTAMP:20260423T040118
CREATED:20230810T150513Z
LAST-MODIFIED:20230810T150513Z
UID:10000813-1691517600-1691523000@www.tcotc.com
SUMMARY:Changing Attitudes
DESCRIPTION:6:00 p.m. – 7:30 p.m. – Star Room
URL:https://www.tcotc.com/event/changing-attitudes-5/2023-08-08/
LOCATION:Star Room
CATEGORIES:Behavior
END:VEVENT
END:VCALENDAR